BEGIN:VCALENDAR
VERSION:2.0
PRODID:https://www.kufer.de/kuferweb / DE
METHOD:PUBLISH
CALSCALE:GREGORIAN
X-WR-TIMEZONE:Europe/Berlin
BEGIN:VTIMEZONE
TZID:Europe/Berlin
X-LIC-LOCATION:Europe/Berlin
BEGIN:DAYLIGHT
TZOFFSETFROM:+0100
TZOFFSETTO:+0200
TZNAME:CEST
DTSTART:19700329T020000
RRULE:FREQ=YEARLY;INTERVAL=1;BYDAY=-1SU;BYMONTH=3
END:DAYLIGHT
BEGIN:STANDARD
TZOFFSETFROM:+0200
TZOFFSETTO:+0100
TZNAME:CET
DTSTART:19701025T030000
RRULE:FREQ=YEARLY;INTERVAL=1;BYDAY=-1SU;BYMONTH=10
END:STANDARD
END:VTIMEZONE
BEGIN:VEVENT
DTSTAMP:20260420T181506
DTSTART;TZID=Europe/Berlin:20260413T201500
DTEND;TZID=Europe/Berlin:20260413T210000
UID:V83028210-20260413T201500@VHSBÖBLINGEN-SINDELFINGEN
SUMMARY:Klangschalen - Entspannung - Meditation (V83028210) 
LOCATION:Online vhs
END:VEVENT
BEGIN:VEVENT
DTSTAMP:20260420T181506
DTSTART;TZID=Europe/Berlin:20260420T201500
DTEND;TZID=Europe/Berlin:20260420T210000
UID:V83028210-20260420T201500@VHSBÖBLINGEN-SINDELFINGEN
SUMMARY:Klangschalen - Entspannung - Meditation (V83028210) 
LOCATION:Online vhs
END:VEVENT
BEGIN:VEVENT
DTSTAMP:20260420T181506
DTSTART;TZID=Europe/Berlin:20260511T201500
DTEND;TZID=Europe/Berlin:20260511T210000
UID:V83028210-20260511T201500@VHSBÖBLINGEN-SINDELFINGEN
DESCRIPTION:Ersatz für 27.04
SUMMARY:Klangschalen - Entspannung - Meditation (V83028210) 
LOCATION:Online vhs
END:VEVENT
BEGIN:VEVENT
DTSTAMP:20260420T181506
DTSTART;TZID=Europe/Berlin:20260518T201500
DTEND;TZID=Europe/Berlin:20260518T210000
UID:V83028210-20260518T201500@VHSBÖBLINGEN-SINDELFINGEN
DESCRIPTION:Ersatz für 04.05
SUMMARY:Klangschalen - Entspannung - Meditation (V83028210) 
LOCATION:Online vhs
END:VEVENT
END:VCALENDAR