BEGIN:VCALENDAR
VERSION:2.0
PRODID:https://www.kufer.de/kuferweb / DE
METHOD:PUBLISH
CALSCALE:GREGORIAN
X-WR-TIMEZONE:Europe/Berlin
BEGIN:VTIMEZONE
TZID:Europe/Berlin
X-LIC-LOCATION:Europe/Berlin
BEGIN:DAYLIGHT
TZOFFSETFROM:+0100
TZOFFSETTO:+0200
TZNAME:CEST
DTSTART:19700329T020000
RRULE:FREQ=YEARLY;INTERVAL=1;BYDAY=-1SU;BYMONTH=3
END:DAYLIGHT
BEGIN:STANDARD
TZOFFSETFROM:+0200
TZOFFSETTO:+0100
TZNAME:CET
DTSTART:19701025T030000
RRULE:FREQ=YEARLY;INTERVAL=1;BYDAY=-1SU;BYMONTH=10
END:STANDARD
END:VTIMEZONE
BEGIN:VEVENT
DTSTAMP:20260420T175423
DTSTART;TZID=Europe/Berlin:20260202T201500
DTEND;TZID=Europe/Berlin:20260202T210000
UID:V83028010-20260202T201500@VHSBÖBLINGEN-SINDELFINGEN
SUMMARY:Klangschalen - Entspannung - Meditation (V83028010) 
LOCATION:Online vhs
END:VEVENT
BEGIN:VEVENT
DTSTAMP:20260420T175423
DTSTART;TZID=Europe/Berlin:20260209T201500
DTEND;TZID=Europe/Berlin:20260209T210000
UID:V83028010-20260209T201500@VHSBÖBLINGEN-SINDELFINGEN
SUMMARY:Klangschalen - Entspannung - Meditation (V83028010) 
LOCATION:Online vhs
END:VEVENT
BEGIN:VEVENT
DTSTAMP:20260420T175423
DTSTART;TZID=Europe/Berlin:20260216T201500
DTEND;TZID=Europe/Berlin:20260216T210000
UID:V83028010-20260216T201500@VHSBÖBLINGEN-SINDELFINGEN
SUMMARY:Klangschalen - Entspannung - Meditation (V83028010) 
LOCATION:Online vhs
END:VEVENT
BEGIN:VEVENT
DTSTAMP:20260420T175423
DTSTART;TZID=Europe/Berlin:20260223T201500
DTEND;TZID=Europe/Berlin:20260223T210000
UID:V83028010-20260223T201500@VHSBÖBLINGEN-SINDELFINGEN
SUMMARY:Klangschalen - Entspannung - Meditation (V83028010) 
LOCATION:Online vhs
END:VEVENT
END:VCALENDAR