BEGIN:VCALENDAR
VERSION:2.0
PRODID:https://www.kufer.de/kuferweb / DE
METHOD:PUBLISH
CALSCALE:GREGORIAN
X-WR-TIMEZONE:Europe/Berlin
BEGIN:VTIMEZONE
TZID:Europe/Berlin
X-LIC-LOCATION:Europe/Berlin
BEGIN:DAYLIGHT
TZOFFSETFROM:+0100
TZOFFSETTO:+0200
TZNAME:CEST
DTSTART:19700329T020000
RRULE:FREQ=YEARLY;INTERVAL=1;BYDAY=-1SU;BYMONTH=3
END:DAYLIGHT
BEGIN:STANDARD
TZOFFSETFROM:+0200
TZOFFSETTO:+0100
TZNAME:CET
DTSTART:19701025T030000
RRULE:FREQ=YEARLY;INTERVAL=1;BYDAY=-1SU;BYMONTH=10
END:STANDARD
END:VTIMEZONE
BEGIN:VEVENT
DTSTAMP:20260421T150700
DTSTART;TZID=Europe/Berlin:20260801T100000
DTEND;TZID=Europe/Berlin:20260801T103000
UID:V83024510-20260801T100000@VHSBÖBLINGEN-SINDELFINGEN
SUMMARY:Morning Workout (V83024510) 
LOCATION:Online vhs, edudip, Online vhs
END:VEVENT
BEGIN:VEVENT
DTSTAMP:20260421T150700
DTSTART;TZID=Europe/Berlin:20260802T100000
DTEND;TZID=Europe/Berlin:20260802T103000
UID:V83024510-20260802T100000@VHSBÖBLINGEN-SINDELFINGEN
SUMMARY:Morning Workout (V83024510) 
LOCATION:Online vhs, edudip, Online vhs
END:VEVENT
BEGIN:VEVENT
DTSTAMP:20260421T150700
DTSTART;TZID=Europe/Berlin:20260803T070000
DTEND;TZID=Europe/Berlin:20260803T071500
UID:V83024510-20260803T070000@VHSBÖBLINGEN-SINDELFINGEN
SUMMARY:Morning Workout (V83024510) 
LOCATION:Online vhs, edudip, Online vhs
END:VEVENT
BEGIN:VEVENT
DTSTAMP:20260421T150700
DTSTART;TZID=Europe/Berlin:20260804T070000
DTEND;TZID=Europe/Berlin:20260804T071500
UID:V83024510-20260804T070000@VHSBÖBLINGEN-SINDELFINGEN
SUMMARY:Morning Workout (V83024510) 
LOCATION:Online vhs, edudip, Online vhs
END:VEVENT
BEGIN:VEVENT
DTSTAMP:20260421T150700
DTSTART;TZID=Europe/Berlin:20260805T070000
DTEND;TZID=Europe/Berlin:20260805T071500
UID:V83024510-20260805T070000@VHSBÖBLINGEN-SINDELFINGEN
SUMMARY:Morning Workout (V83024510) 
LOCATION:Online vhs, edudip, Online vhs
END:VEVENT
BEGIN:VEVENT
DTSTAMP:20260421T150700
DTSTART;TZID=Europe/Berlin:20260806T070000
DTEND;TZID=Europe/Berlin:20260806T071500
UID:V83024510-20260806T070000@VHSBÖBLINGEN-SINDELFINGEN
SUMMARY:Morning Workout (V83024510) 
LOCATION:Online vhs, edudip, Online vhs
END:VEVENT
BEGIN:VEVENT
DTSTAMP:20260421T150700
DTSTART;TZID=Europe/Berlin:20260807T070000
DTEND;TZID=Europe/Berlin:20260807T071500
UID:V83024510-20260807T070000@VHSBÖBLINGEN-SINDELFINGEN
SUMMARY:Morning Workout (V83024510) 
LOCATION:Online vhs, edudip, Online vhs
END:VEVENT
BEGIN:VEVENT
DTSTAMP:20260421T150700
DTSTART;TZID=Europe/Berlin:20260808T100000
DTEND;TZID=Europe/Berlin:20260808T103000
UID:V83024510-20260808T100000@VHSBÖBLINGEN-SINDELFINGEN
SUMMARY:Morning Workout (V83024510) 
LOCATION:Online vhs, edudip, Online vhs
END:VEVENT
BEGIN:VEVENT
DTSTAMP:20260421T150700
DTSTART;TZID=Europe/Berlin:20260809T100000
DTEND;TZID=Europe/Berlin:20260809T103000
UID:V83024510-20260809T100000@VHSBÖBLINGEN-SINDELFINGEN
SUMMARY:Morning Workout (V83024510) 
LOCATION:Online vhs, edudip, Online vhs
END:VEVENT
BEGIN:VEVENT
DTSTAMP:20260421T150700
DTSTART;TZID=Europe/Berlin:20260810T070000
DTEND;TZID=Europe/Berlin:20260810T071500
UID:V83024510-20260810T070000@VHSBÖBLINGEN-SINDELFINGEN
SUMMARY:Morning Workout (V83024510) 
LOCATION:Online vhs, edudip, Online vhs
END:VEVENT
BEGIN:VEVENT
DTSTAMP:20260421T150700
DTSTART;TZID=Europe/Berlin:20260811T070000
DTEND;TZID=Europe/Berlin:20260811T071500
UID:V83024510-20260811T070000@VHSBÖBLINGEN-SINDELFINGEN
SUMMARY:Morning Workout (V83024510) 
LOCATION:Online vhs, edudip, Online vhs
END:VEVENT
BEGIN:VEVENT
DTSTAMP:20260421T150700
DTSTART;TZID=Europe/Berlin:20260812T070000
DTEND;TZID=Europe/Berlin:20260812T071500
UID:V83024510-20260812T070000@VHSBÖBLINGEN-SINDELFINGEN
SUMMARY:Morning Workout (V83024510) 
LOCATION:Online vhs, edudip, Online vhs
END:VEVENT
BEGIN:VEVENT
DTSTAMP:20260421T150700
DTSTART;TZID=Europe/Berlin:20260813T070000
DTEND;TZID=Europe/Berlin:20260813T071500
UID:V83024510-20260813T070000@VHSBÖBLINGEN-SINDELFINGEN
SUMMARY:Morning Workout (V83024510) 
LOCATION:Online vhs, edudip, Online vhs
END:VEVENT
BEGIN:VEVENT
DTSTAMP:20260421T150700
DTSTART;TZID=Europe/Berlin:20260814T070000
DTEND;TZID=Europe/Berlin:20260814T071500
UID:V83024510-20260814T070000@VHSBÖBLINGEN-SINDELFINGEN
SUMMARY:Morning Workout (V83024510) 
LOCATION:Online vhs, edudip, Online vhs
END:VEVENT
BEGIN:VEVENT
DTSTAMP:20260421T150700
DTSTART;TZID=Europe/Berlin:20260815T100000
DTEND;TZID=Europe/Berlin:20260815T103000
UID:V83024510-20260815T100000@VHSBÖBLINGEN-SINDELFINGEN
SUMMARY:Morning Workout (V83024510) 
LOCATION:Online vhs, edudip, Online vhs
END:VEVENT
BEGIN:VEVENT
DTSTAMP:20260421T150700
DTSTART;TZID=Europe/Berlin:20260816T100000
DTEND;TZID=Europe/Berlin:20260816T103000
UID:V83024510-20260816T100000@VHSBÖBLINGEN-SINDELFINGEN
SUMMARY:Morning Workout (V83024510) 
LOCATION:Online vhs, edudip, Online vhs
END:VEVENT
BEGIN:VEVENT
DTSTAMP:20260421T150700
DTSTART;TZID=Europe/Berlin:20260817T070000
DTEND;TZID=Europe/Berlin:20260817T071500
UID:V83024510-20260817T070000@VHSBÖBLINGEN-SINDELFINGEN
SUMMARY:Morning Workout (V83024510) 
LOCATION:Online vhs, edudip, Online vhs
END:VEVENT
BEGIN:VEVENT
DTSTAMP:20260421T150700
DTSTART;TZID=Europe/Berlin:20260818T070000
DTEND;TZID=Europe/Berlin:20260818T071500
UID:V83024510-20260818T070000@VHSBÖBLINGEN-SINDELFINGEN
SUMMARY:Morning Workout (V83024510) 
LOCATION:Online vhs, edudip, Online vhs
END:VEVENT
BEGIN:VEVENT
DTSTAMP:20260421T150700
DTSTART;TZID=Europe/Berlin:20260819T070000
DTEND;TZID=Europe/Berlin:20260819T071500
UID:V83024510-20260819T070000@VHSBÖBLINGEN-SINDELFINGEN
SUMMARY:Morning Workout (V83024510) 
LOCATION:Online vhs, edudip, Online vhs
END:VEVENT
BEGIN:VEVENT
DTSTAMP:20260421T150700
DTSTART;TZID=Europe/Berlin:20260820T070000
DTEND;TZID=Europe/Berlin:20260820T071500
UID:V83024510-20260820T070000@VHSBÖBLINGEN-SINDELFINGEN
SUMMARY:Morning Workout (V83024510) 
LOCATION:Online vhs, edudip, Online vhs
END:VEVENT
BEGIN:VEVENT
DTSTAMP:20260421T150700
DTSTART;TZID=Europe/Berlin:20260821T070000
DTEND;TZID=Europe/Berlin:20260821T071500
UID:V83024510-20260821T070000@VHSBÖBLINGEN-SINDELFINGEN
SUMMARY:Morning Workout (V83024510) 
LOCATION:Online vhs, edudip, Online vhs
END:VEVENT
BEGIN:VEVENT
DTSTAMP:20260421T150700
DTSTART;TZID=Europe/Berlin:20260822T100000
DTEND;TZID=Europe/Berlin:20260822T103000
UID:V83024510-20260822T100000@VHSBÖBLINGEN-SINDELFINGEN
SUMMARY:Morning Workout (V83024510) 
LOCATION:Online vhs, edudip, Online vhs
END:VEVENT
BEGIN:VEVENT
DTSTAMP:20260421T150700
DTSTART;TZID=Europe/Berlin:20260823T100000
DTEND;TZID=Europe/Berlin:20260823T103000
UID:V83024510-20260823T100000@VHSBÖBLINGEN-SINDELFINGEN
SUMMARY:Morning Workout (V83024510) 
LOCATION:Online vhs, edudip, Online vhs
END:VEVENT
BEGIN:VEVENT
DTSTAMP:20260421T150700
DTSTART;TZID=Europe/Berlin:20260824T070000
DTEND;TZID=Europe/Berlin:20260824T071500
UID:V83024510-20260824T070000@VHSBÖBLINGEN-SINDELFINGEN
SUMMARY:Morning Workout (V83024510) 
LOCATION:Online vhs, edudip, Online vhs
END:VEVENT
BEGIN:VEVENT
DTSTAMP:20260421T150700
DTSTART;TZID=Europe/Berlin:20260825T070000
DTEND;TZID=Europe/Berlin:20260825T071500
UID:V83024510-20260825T070000@VHSBÖBLINGEN-SINDELFINGEN
SUMMARY:Morning Workout (V83024510) 
LOCATION:Online vhs, edudip, Online vhs
END:VEVENT
BEGIN:VEVENT
DTSTAMP:20260421T150700
DTSTART;TZID=Europe/Berlin:20260826T070000
DTEND;TZID=Europe/Berlin:20260826T071500
UID:V83024510-20260826T070000@VHSBÖBLINGEN-SINDELFINGEN
SUMMARY:Morning Workout (V83024510) 
LOCATION:Online vhs, edudip, Online vhs
END:VEVENT
BEGIN:VEVENT
DTSTAMP:20260421T150700
DTSTART;TZID=Europe/Berlin:20260827T070000
DTEND;TZID=Europe/Berlin:20260827T071500
UID:V83024510-20260827T070000@VHSBÖBLINGEN-SINDELFINGEN
SUMMARY:Morning Workout (V83024510) 
LOCATION:Online vhs, edudip, Online vhs
END:VEVENT
BEGIN:VEVENT
DTSTAMP:20260421T150700
DTSTART;TZID=Europe/Berlin:20260828T070000
DTEND;TZID=Europe/Berlin:20260828T071500
UID:V83024510-20260828T070000@VHSBÖBLINGEN-SINDELFINGEN
SUMMARY:Morning Workout (V83024510) 
LOCATION:Online vhs, edudip, Online vhs
END:VEVENT
BEGIN:VEVENT
DTSTAMP:20260421T150700
DTSTART;TZID=Europe/Berlin:20260829T100000
DTEND;TZID=Europe/Berlin:20260829T103000
UID:V83024510-20260829T100000@VHSBÖBLINGEN-SINDELFINGEN
SUMMARY:Morning Workout (V83024510) 
LOCATION:Online vhs, edudip, Online vhs
END:VEVENT
BEGIN:VEVENT
DTSTAMP:20260421T150700
DTSTART;TZID=Europe/Berlin:20260830T100000
DTEND;TZID=Europe/Berlin:20260830T103000
UID:V83024510-20260830T100000@VHSBÖBLINGEN-SINDELFINGEN
SUMMARY:Morning Workout (V83024510) 
LOCATION:Online vhs, edudip, Online vhs
END:VEVENT
BEGIN:VEVENT
DTSTAMP:20260421T150700
DTSTART;TZID=Europe/Berlin:20260831T070000
DTEND;TZID=Europe/Berlin:20260831T071500
UID:V83024510-20260831T070000@VHSBÖBLINGEN-SINDELFINGEN
SUMMARY:Morning Workout (V83024510) 
LOCATION:Online vhs, edudip, Online vhs
END:VEVENT
END:VCALENDAR