BEGIN:VCALENDAR
VERSION:2.0
PRODID:https://www.kufer.de/kuferweb / DE
METHOD:PUBLISH
CALSCALE:GREGORIAN
X-WR-TIMEZONE:Europe/Berlin
BEGIN:VTIMEZONE
TZID:Europe/Berlin
X-LIC-LOCATION:Europe/Berlin
BEGIN:DAYLIGHT
TZOFFSETFROM:+0100
TZOFFSETTO:+0200
TZNAME:CEST
DTSTART:19700329T020000
RRULE:FREQ=YEARLY;INTERVAL=1;BYDAY=-1SU;BYMONTH=3
END:DAYLIGHT
BEGIN:STANDARD
TZOFFSETFROM:+0200
TZOFFSETTO:+0100
TZNAME:CET
DTSTART:19701025T030000
RRULE:FREQ=YEARLY;INTERVAL=1;BYDAY=-1SU;BYMONTH=10
END:STANDARD
END:VTIMEZONE
BEGIN:VEVENT
DTSTAMP:20260421T105205
DTSTART;TZID=Europe/Berlin:20260701T070000
DTEND;TZID=Europe/Berlin:20260701T071500
UID:V83024410-20260701T070000@VHSBÖBLINGEN-SINDELFINGEN
SUMMARY:Morning Workout (V83024410) 
LOCATION:Online vhs, edudip, Online vhs
END:VEVENT
BEGIN:VEVENT
DTSTAMP:20260421T105205
DTSTART;TZID=Europe/Berlin:20260702T070000
DTEND;TZID=Europe/Berlin:20260702T071500
UID:V83024410-20260702T070000@VHSBÖBLINGEN-SINDELFINGEN
SUMMARY:Morning Workout (V83024410) 
LOCATION:Online vhs, edudip, Online vhs
END:VEVENT
BEGIN:VEVENT
DTSTAMP:20260421T105205
DTSTART;TZID=Europe/Berlin:20260703T070000
DTEND;TZID=Europe/Berlin:20260703T071500
UID:V83024410-20260703T070000@VHSBÖBLINGEN-SINDELFINGEN
SUMMARY:Morning Workout (V83024410) 
LOCATION:Online vhs, edudip, Online vhs
END:VEVENT
BEGIN:VEVENT
DTSTAMP:20260421T105205
DTSTART;TZID=Europe/Berlin:20260704T100000
DTEND;TZID=Europe/Berlin:20260704T103000
UID:V83024410-20260704T100000@VHSBÖBLINGEN-SINDELFINGEN
SUMMARY:Morning Workout (V83024410) 
LOCATION:Online vhs, edudip, Online vhs
END:VEVENT
BEGIN:VEVENT
DTSTAMP:20260421T105205
DTSTART;TZID=Europe/Berlin:20260705T100000
DTEND;TZID=Europe/Berlin:20260705T103000
UID:V83024410-20260705T100000@VHSBÖBLINGEN-SINDELFINGEN
SUMMARY:Morning Workout (V83024410) 
LOCATION:Online vhs, edudip, Online vhs
END:VEVENT
BEGIN:VEVENT
DTSTAMP:20260421T105205
DTSTART;TZID=Europe/Berlin:20260706T070000
DTEND;TZID=Europe/Berlin:20260706T071500
UID:V83024410-20260706T070000@VHSBÖBLINGEN-SINDELFINGEN
SUMMARY:Morning Workout (V83024410) 
LOCATION:Online vhs, edudip, Online vhs
END:VEVENT
BEGIN:VEVENT
DTSTAMP:20260421T105205
DTSTART;TZID=Europe/Berlin:20260707T070000
DTEND;TZID=Europe/Berlin:20260707T071500
UID:V83024410-20260707T070000@VHSBÖBLINGEN-SINDELFINGEN
SUMMARY:Morning Workout (V83024410) 
LOCATION:Online vhs, edudip, Online vhs
END:VEVENT
BEGIN:VEVENT
DTSTAMP:20260421T105205
DTSTART;TZID=Europe/Berlin:20260708T070000
DTEND;TZID=Europe/Berlin:20260708T071500
UID:V83024410-20260708T070000@VHSBÖBLINGEN-SINDELFINGEN
SUMMARY:Morning Workout (V83024410) 
LOCATION:Online vhs, edudip, Online vhs
END:VEVENT
BEGIN:VEVENT
DTSTAMP:20260421T105205
DTSTART;TZID=Europe/Berlin:20260709T070000
DTEND;TZID=Europe/Berlin:20260709T071500
UID:V83024410-20260709T070000@VHSBÖBLINGEN-SINDELFINGEN
SUMMARY:Morning Workout (V83024410) 
LOCATION:Online vhs, edudip, Online vhs
END:VEVENT
BEGIN:VEVENT
DTSTAMP:20260421T105205
DTSTART;TZID=Europe/Berlin:20260710T070000
DTEND;TZID=Europe/Berlin:20260710T071500
UID:V83024410-20260710T070000@VHSBÖBLINGEN-SINDELFINGEN
SUMMARY:Morning Workout (V83024410) 
LOCATION:Online vhs, edudip, Online vhs
END:VEVENT
BEGIN:VEVENT
DTSTAMP:20260421T105205
DTSTART;TZID=Europe/Berlin:20260711T100000
DTEND;TZID=Europe/Berlin:20260711T103000
UID:V83024410-20260711T100000@VHSBÖBLINGEN-SINDELFINGEN
SUMMARY:Morning Workout (V83024410) 
LOCATION:Online vhs, edudip, Online vhs
END:VEVENT
BEGIN:VEVENT
DTSTAMP:20260421T105205
DTSTART;TZID=Europe/Berlin:20260712T100000
DTEND;TZID=Europe/Berlin:20260712T103000
UID:V83024410-20260712T100000@VHSBÖBLINGEN-SINDELFINGEN
SUMMARY:Morning Workout (V83024410) 
LOCATION:Online vhs, edudip, Online vhs
END:VEVENT
BEGIN:VEVENT
DTSTAMP:20260421T105205
DTSTART;TZID=Europe/Berlin:20260713T070000
DTEND;TZID=Europe/Berlin:20260713T071500
UID:V83024410-20260713T070000@VHSBÖBLINGEN-SINDELFINGEN
SUMMARY:Morning Workout (V83024410) 
LOCATION:Online vhs, edudip, Online vhs
END:VEVENT
BEGIN:VEVENT
DTSTAMP:20260421T105205
DTSTART;TZID=Europe/Berlin:20260714T070000
DTEND;TZID=Europe/Berlin:20260714T071500
UID:V83024410-20260714T070000@VHSBÖBLINGEN-SINDELFINGEN
SUMMARY:Morning Workout (V83024410) 
LOCATION:Online vhs, edudip, Online vhs
END:VEVENT
BEGIN:VEVENT
DTSTAMP:20260421T105205
DTSTART;TZID=Europe/Berlin:20260715T070000
DTEND;TZID=Europe/Berlin:20260715T071500
UID:V83024410-20260715T070000@VHSBÖBLINGEN-SINDELFINGEN
SUMMARY:Morning Workout (V83024410) 
LOCATION:Online vhs, edudip, Online vhs
END:VEVENT
BEGIN:VEVENT
DTSTAMP:20260421T105205
DTSTART;TZID=Europe/Berlin:20260716T070000
DTEND;TZID=Europe/Berlin:20260716T071500
UID:V83024410-20260716T070000@VHSBÖBLINGEN-SINDELFINGEN
SUMMARY:Morning Workout (V83024410) 
LOCATION:Online vhs, edudip, Online vhs
END:VEVENT
BEGIN:VEVENT
DTSTAMP:20260421T105205
DTSTART;TZID=Europe/Berlin:20260717T070000
DTEND;TZID=Europe/Berlin:20260717T071500
UID:V83024410-20260717T070000@VHSBÖBLINGEN-SINDELFINGEN
SUMMARY:Morning Workout (V83024410) 
LOCATION:Online vhs, edudip, Online vhs
END:VEVENT
BEGIN:VEVENT
DTSTAMP:20260421T105205
DTSTART;TZID=Europe/Berlin:20260718T100000
DTEND;TZID=Europe/Berlin:20260718T103000
UID:V83024410-20260718T100000@VHSBÖBLINGEN-SINDELFINGEN
SUMMARY:Morning Workout (V83024410) 
LOCATION:Online vhs, edudip, Online vhs
END:VEVENT
BEGIN:VEVENT
DTSTAMP:20260421T105205
DTSTART;TZID=Europe/Berlin:20260719T100000
DTEND;TZID=Europe/Berlin:20260719T103000
UID:V83024410-20260719T100000@VHSBÖBLINGEN-SINDELFINGEN
SUMMARY:Morning Workout (V83024410) 
LOCATION:Online vhs, edudip, Online vhs
END:VEVENT
BEGIN:VEVENT
DTSTAMP:20260421T105205
DTSTART;TZID=Europe/Berlin:20260720T070000
DTEND;TZID=Europe/Berlin:20260720T071500
UID:V83024410-20260720T070000@VHSBÖBLINGEN-SINDELFINGEN
SUMMARY:Morning Workout (V83024410) 
LOCATION:Online vhs, edudip, Online vhs
END:VEVENT
BEGIN:VEVENT
DTSTAMP:20260421T105205
DTSTART;TZID=Europe/Berlin:20260721T070000
DTEND;TZID=Europe/Berlin:20260721T071500
UID:V83024410-20260721T070000@VHSBÖBLINGEN-SINDELFINGEN
SUMMARY:Morning Workout (V83024410) 
LOCATION:Online vhs, edudip, Online vhs
END:VEVENT
BEGIN:VEVENT
DTSTAMP:20260421T105205
DTSTART;TZID=Europe/Berlin:20260722T070000
DTEND;TZID=Europe/Berlin:20260722T071500
UID:V83024410-20260722T070000@VHSBÖBLINGEN-SINDELFINGEN
SUMMARY:Morning Workout (V83024410) 
LOCATION:Online vhs, edudip, Online vhs
END:VEVENT
BEGIN:VEVENT
DTSTAMP:20260421T105205
DTSTART;TZID=Europe/Berlin:20260723T070000
DTEND;TZID=Europe/Berlin:20260723T071500
UID:V83024410-20260723T070000@VHSBÖBLINGEN-SINDELFINGEN
SUMMARY:Morning Workout (V83024410) 
LOCATION:Online vhs, edudip, Online vhs
END:VEVENT
BEGIN:VEVENT
DTSTAMP:20260421T105205
DTSTART;TZID=Europe/Berlin:20260724T070000
DTEND;TZID=Europe/Berlin:20260724T071500
UID:V83024410-20260724T070000@VHSBÖBLINGEN-SINDELFINGEN
SUMMARY:Morning Workout (V83024410) 
LOCATION:Online vhs, edudip, Online vhs
END:VEVENT
BEGIN:VEVENT
DTSTAMP:20260421T105205
DTSTART;TZID=Europe/Berlin:20260725T100000
DTEND;TZID=Europe/Berlin:20260725T103000
UID:V83024410-20260725T100000@VHSBÖBLINGEN-SINDELFINGEN
SUMMARY:Morning Workout (V83024410) 
LOCATION:Online vhs, edudip, Online vhs
END:VEVENT
BEGIN:VEVENT
DTSTAMP:20260421T105205
DTSTART;TZID=Europe/Berlin:20260726T100000
DTEND;TZID=Europe/Berlin:20260726T103000
UID:V83024410-20260726T100000@VHSBÖBLINGEN-SINDELFINGEN
SUMMARY:Morning Workout (V83024410) 
LOCATION:Online vhs, edudip, Online vhs
END:VEVENT
BEGIN:VEVENT
DTSTAMP:20260421T105205
DTSTART;TZID=Europe/Berlin:20260727T070000
DTEND;TZID=Europe/Berlin:20260727T071500
UID:V83024410-20260727T070000@VHSBÖBLINGEN-SINDELFINGEN
SUMMARY:Morning Workout (V83024410) 
LOCATION:Online vhs, edudip, Online vhs
END:VEVENT
BEGIN:VEVENT
DTSTAMP:20260421T105205
DTSTART;TZID=Europe/Berlin:20260728T070000
DTEND;TZID=Europe/Berlin:20260728T071500
UID:V83024410-20260728T070000@VHSBÖBLINGEN-SINDELFINGEN
SUMMARY:Morning Workout (V83024410) 
LOCATION:Online vhs, edudip, Online vhs
END:VEVENT
BEGIN:VEVENT
DTSTAMP:20260421T105205
DTSTART;TZID=Europe/Berlin:20260729T070000
DTEND;TZID=Europe/Berlin:20260729T071500
UID:V83024410-20260729T070000@VHSBÖBLINGEN-SINDELFINGEN
SUMMARY:Morning Workout (V83024410) 
LOCATION:Online vhs, edudip, Online vhs
END:VEVENT
BEGIN:VEVENT
DTSTAMP:20260421T105205
DTSTART;TZID=Europe/Berlin:20260730T070000
DTEND;TZID=Europe/Berlin:20260730T071500
UID:V83024410-20260730T070000@VHSBÖBLINGEN-SINDELFINGEN
SUMMARY:Morning Workout (V83024410) 
LOCATION:Online vhs, edudip, Online vhs
END:VEVENT
BEGIN:VEVENT
DTSTAMP:20260421T105205
DTSTART;TZID=Europe/Berlin:20260731T070000
DTEND;TZID=Europe/Berlin:20260731T071500
UID:V83024410-20260731T070000@VHSBÖBLINGEN-SINDELFINGEN
SUMMARY:Morning Workout (V83024410) 
LOCATION:Online vhs, edudip, Online vhs
END:VEVENT
END:VCALENDAR