BEGIN:VCALENDAR
VERSION:2.0
PRODID:https://www.kufer.de/kuferweb / DE
METHOD:PUBLISH
CALSCALE:GREGORIAN
X-WR-TIMEZONE:Europe/Berlin
BEGIN:VTIMEZONE
TZID:Europe/Berlin
X-LIC-LOCATION:Europe/Berlin
BEGIN:DAYLIGHT
TZOFFSETFROM:+0100
TZOFFSETTO:+0200
TZNAME:CEST
DTSTART:19700329T020000
RRULE:FREQ=YEARLY;INTERVAL=1;BYDAY=-1SU;BYMONTH=3
END:DAYLIGHT
BEGIN:STANDARD
TZOFFSETFROM:+0200
TZOFFSETTO:+0100
TZNAME:CET
DTSTART:19701025T030000
RRULE:FREQ=YEARLY;INTERVAL=1;BYDAY=-1SU;BYMONTH=10
END:STANDARD
END:VTIMEZONE
BEGIN:VEVENT
DTSTAMP:20260421T121741
DTSTART;TZID=Europe/Berlin:20260601T070000
DTEND;TZID=Europe/Berlin:20260601T071500
UID:V83024310-20260601T070000@VHSBÖBLINGEN-SINDELFINGEN
SUMMARY:Morning Workout (V83024310) 
LOCATION:Online vhs, edudip, Online vhs
END:VEVENT
BEGIN:VEVENT
DTSTAMP:20260421T121741
DTSTART;TZID=Europe/Berlin:20260602T070000
DTEND;TZID=Europe/Berlin:20260602T071500
UID:V83024310-20260602T070000@VHSBÖBLINGEN-SINDELFINGEN
SUMMARY:Morning Workout (V83024310) 
LOCATION:Online vhs, edudip, Online vhs
END:VEVENT
BEGIN:VEVENT
DTSTAMP:20260421T121741
DTSTART;TZID=Europe/Berlin:20260603T070000
DTEND;TZID=Europe/Berlin:20260603T071500
UID:V83024310-20260603T070000@VHSBÖBLINGEN-SINDELFINGEN
SUMMARY:Morning Workout (V83024310) 
LOCATION:Online vhs, edudip, Online vhs
END:VEVENT
BEGIN:VEVENT
DTSTAMP:20260421T121741
DTSTART;TZID=Europe/Berlin:20260604T070000
DTEND;TZID=Europe/Berlin:20260604T071500
UID:V83024310-20260604T070000@VHSBÖBLINGEN-SINDELFINGEN
SUMMARY:Morning Workout (V83024310) 
LOCATION:Online vhs, edudip, Online vhs
END:VEVENT
BEGIN:VEVENT
DTSTAMP:20260421T121741
DTSTART;TZID=Europe/Berlin:20260605T070000
DTEND;TZID=Europe/Berlin:20260605T071500
UID:V83024310-20260605T070000@VHSBÖBLINGEN-SINDELFINGEN
SUMMARY:Morning Workout (V83024310) 
LOCATION:Online vhs, edudip, Online vhs
END:VEVENT
BEGIN:VEVENT
DTSTAMP:20260421T121741
DTSTART;TZID=Europe/Berlin:20260606T100000
DTEND;TZID=Europe/Berlin:20260606T103000
UID:V83024310-20260606T100000@VHSBÖBLINGEN-SINDELFINGEN
SUMMARY:Morning Workout (V83024310) 
LOCATION:Online vhs, edudip, Online vhs
END:VEVENT
BEGIN:VEVENT
DTSTAMP:20260421T121741
DTSTART;TZID=Europe/Berlin:20260607T100000
DTEND;TZID=Europe/Berlin:20260607T103000
UID:V83024310-20260607T100000@VHSBÖBLINGEN-SINDELFINGEN
SUMMARY:Morning Workout (V83024310) 
LOCATION:Online vhs, edudip, Online vhs
END:VEVENT
BEGIN:VEVENT
DTSTAMP:20260421T121741
DTSTART;TZID=Europe/Berlin:20260608T070000
DTEND;TZID=Europe/Berlin:20260608T071500
UID:V83024310-20260608T070000@VHSBÖBLINGEN-SINDELFINGEN
SUMMARY:Morning Workout (V83024310) 
LOCATION:Online vhs, edudip, Online vhs
END:VEVENT
BEGIN:VEVENT
DTSTAMP:20260421T121741
DTSTART;TZID=Europe/Berlin:20260609T070000
DTEND;TZID=Europe/Berlin:20260609T071500
UID:V83024310-20260609T070000@VHSBÖBLINGEN-SINDELFINGEN
SUMMARY:Morning Workout (V83024310) 
LOCATION:Online vhs, edudip, Online vhs
END:VEVENT
BEGIN:VEVENT
DTSTAMP:20260421T121741
DTSTART;TZID=Europe/Berlin:20260610T070000
DTEND;TZID=Europe/Berlin:20260610T071500
UID:V83024310-20260610T070000@VHSBÖBLINGEN-SINDELFINGEN
SUMMARY:Morning Workout (V83024310) 
LOCATION:Online vhs, edudip, Online vhs
END:VEVENT
BEGIN:VEVENT
DTSTAMP:20260421T121741
DTSTART;TZID=Europe/Berlin:20260611T070000
DTEND;TZID=Europe/Berlin:20260611T071500
UID:V83024310-20260611T070000@VHSBÖBLINGEN-SINDELFINGEN
SUMMARY:Morning Workout (V83024310) 
LOCATION:Online vhs, edudip, Online vhs
END:VEVENT
BEGIN:VEVENT
DTSTAMP:20260421T121741
DTSTART;TZID=Europe/Berlin:20260612T070000
DTEND;TZID=Europe/Berlin:20260612T071500
UID:V83024310-20260612T070000@VHSBÖBLINGEN-SINDELFINGEN
SUMMARY:Morning Workout (V83024310) 
LOCATION:Online vhs, edudip, Online vhs
END:VEVENT
BEGIN:VEVENT
DTSTAMP:20260421T121741
DTSTART;TZID=Europe/Berlin:20260613T100000
DTEND;TZID=Europe/Berlin:20260613T103000
UID:V83024310-20260613T100000@VHSBÖBLINGEN-SINDELFINGEN
SUMMARY:Morning Workout (V83024310) 
LOCATION:Online vhs, edudip, Online vhs
END:VEVENT
BEGIN:VEVENT
DTSTAMP:20260421T121741
DTSTART;TZID=Europe/Berlin:20260614T100000
DTEND;TZID=Europe/Berlin:20260614T103000
UID:V83024310-20260614T100000@VHSBÖBLINGEN-SINDELFINGEN
SUMMARY:Morning Workout (V83024310) 
LOCATION:Online vhs, edudip, Online vhs
END:VEVENT
BEGIN:VEVENT
DTSTAMP:20260421T121741
DTSTART;TZID=Europe/Berlin:20260615T070000
DTEND;TZID=Europe/Berlin:20260615T071500
UID:V83024310-20260615T070000@VHSBÖBLINGEN-SINDELFINGEN
SUMMARY:Morning Workout (V83024310) 
LOCATION:Online vhs, edudip, Online vhs
END:VEVENT
BEGIN:VEVENT
DTSTAMP:20260421T121741
DTSTART;TZID=Europe/Berlin:20260616T070000
DTEND;TZID=Europe/Berlin:20260616T071500
UID:V83024310-20260616T070000@VHSBÖBLINGEN-SINDELFINGEN
SUMMARY:Morning Workout (V83024310) 
LOCATION:Online vhs, edudip, Online vhs
END:VEVENT
BEGIN:VEVENT
DTSTAMP:20260421T121741
DTSTART;TZID=Europe/Berlin:20260617T070000
DTEND;TZID=Europe/Berlin:20260617T071500
UID:V83024310-20260617T070000@VHSBÖBLINGEN-SINDELFINGEN
SUMMARY:Morning Workout (V83024310) 
LOCATION:Online vhs, edudip, Online vhs
END:VEVENT
BEGIN:VEVENT
DTSTAMP:20260421T121741
DTSTART;TZID=Europe/Berlin:20260618T070000
DTEND;TZID=Europe/Berlin:20260618T071500
UID:V83024310-20260618T070000@VHSBÖBLINGEN-SINDELFINGEN
SUMMARY:Morning Workout (V83024310) 
LOCATION:Online vhs, edudip, Online vhs
END:VEVENT
BEGIN:VEVENT
DTSTAMP:20260421T121741
DTSTART;TZID=Europe/Berlin:20260619T070000
DTEND;TZID=Europe/Berlin:20260619T071500
UID:V83024310-20260619T070000@VHSBÖBLINGEN-SINDELFINGEN
SUMMARY:Morning Workout (V83024310) 
LOCATION:Online vhs, edudip, Online vhs
END:VEVENT
BEGIN:VEVENT
DTSTAMP:20260421T121741
DTSTART;TZID=Europe/Berlin:20260620T100000
DTEND;TZID=Europe/Berlin:20260620T103000
UID:V83024310-20260620T100000@VHSBÖBLINGEN-SINDELFINGEN
SUMMARY:Morning Workout (V83024310) 
LOCATION:Online vhs, edudip, Online vhs
END:VEVENT
BEGIN:VEVENT
DTSTAMP:20260421T121741
DTSTART;TZID=Europe/Berlin:20260621T100000
DTEND;TZID=Europe/Berlin:20260621T103000
UID:V83024310-20260621T100000@VHSBÖBLINGEN-SINDELFINGEN
SUMMARY:Morning Workout (V83024310) 
LOCATION:Online vhs, edudip, Online vhs
END:VEVENT
BEGIN:VEVENT
DTSTAMP:20260421T121741
DTSTART;TZID=Europe/Berlin:20260622T070000
DTEND;TZID=Europe/Berlin:20260622T071500
UID:V83024310-20260622T070000@VHSBÖBLINGEN-SINDELFINGEN
SUMMARY:Morning Workout (V83024310) 
LOCATION:Online vhs, edudip, Online vhs
END:VEVENT
BEGIN:VEVENT
DTSTAMP:20260421T121741
DTSTART;TZID=Europe/Berlin:20260623T070000
DTEND;TZID=Europe/Berlin:20260623T071500
UID:V83024310-20260623T070000@VHSBÖBLINGEN-SINDELFINGEN
SUMMARY:Morning Workout (V83024310) 
LOCATION:Online vhs, edudip, Online vhs
END:VEVENT
BEGIN:VEVENT
DTSTAMP:20260421T121741
DTSTART;TZID=Europe/Berlin:20260624T070000
DTEND;TZID=Europe/Berlin:20260624T071500
UID:V83024310-20260624T070000@VHSBÖBLINGEN-SINDELFINGEN
SUMMARY:Morning Workout (V83024310) 
LOCATION:Online vhs, edudip, Online vhs
END:VEVENT
BEGIN:VEVENT
DTSTAMP:20260421T121741
DTSTART;TZID=Europe/Berlin:20260625T070000
DTEND;TZID=Europe/Berlin:20260625T071500
UID:V83024310-20260625T070000@VHSBÖBLINGEN-SINDELFINGEN
SUMMARY:Morning Workout (V83024310) 
LOCATION:Online vhs, edudip, Online vhs
END:VEVENT
BEGIN:VEVENT
DTSTAMP:20260421T121741
DTSTART;TZID=Europe/Berlin:20260626T070000
DTEND;TZID=Europe/Berlin:20260626T071500
UID:V83024310-20260626T070000@VHSBÖBLINGEN-SINDELFINGEN
SUMMARY:Morning Workout (V83024310) 
LOCATION:Online vhs, edudip, Online vhs
END:VEVENT
BEGIN:VEVENT
DTSTAMP:20260421T121741
DTSTART;TZID=Europe/Berlin:20260627T100000
DTEND;TZID=Europe/Berlin:20260627T103000
UID:V83024310-20260627T100000@VHSBÖBLINGEN-SINDELFINGEN
SUMMARY:Morning Workout (V83024310) 
LOCATION:Online vhs, edudip, Online vhs
END:VEVENT
BEGIN:VEVENT
DTSTAMP:20260421T121741
DTSTART;TZID=Europe/Berlin:20260628T100000
DTEND;TZID=Europe/Berlin:20260628T103000
UID:V83024310-20260628T100000@VHSBÖBLINGEN-SINDELFINGEN
SUMMARY:Morning Workout (V83024310) 
LOCATION:Online vhs, edudip, Online vhs
END:VEVENT
BEGIN:VEVENT
DTSTAMP:20260421T121741
DTSTART;TZID=Europe/Berlin:20260629T070000
DTEND;TZID=Europe/Berlin:20260629T071500
UID:V83024310-20260629T070000@VHSBÖBLINGEN-SINDELFINGEN
SUMMARY:Morning Workout (V83024310) 
LOCATION:Online vhs, edudip, Online vhs
END:VEVENT
BEGIN:VEVENT
DTSTAMP:20260421T121741
DTSTART;TZID=Europe/Berlin:20260630T070000
DTEND;TZID=Europe/Berlin:20260630T071500
UID:V83024310-20260630T070000@VHSBÖBLINGEN-SINDELFINGEN
SUMMARY:Morning Workout (V83024310) 
LOCATION:Online vhs, edudip, Online vhs
END:VEVENT
END:VCALENDAR