BEGIN:VCALENDAR
VERSION:2.0
PRODID:https://www.kufer.de/kuferweb / DE
METHOD:PUBLISH
CALSCALE:GREGORIAN
X-WR-TIMEZONE:Europe/Berlin
BEGIN:VTIMEZONE
TZID:Europe/Berlin
X-LIC-LOCATION:Europe/Berlin
BEGIN:DAYLIGHT
TZOFFSETFROM:+0100
TZOFFSETTO:+0200
TZNAME:CEST
DTSTART:19700329T020000
RRULE:FREQ=YEARLY;INTERVAL=1;BYDAY=-1SU;BYMONTH=3
END:DAYLIGHT
BEGIN:STANDARD
TZOFFSETFROM:+0200
TZOFFSETTO:+0100
TZNAME:CET
DTSTART:19701025T030000
RRULE:FREQ=YEARLY;INTERVAL=1;BYDAY=-1SU;BYMONTH=10
END:STANDARD
END:VTIMEZONE
BEGIN:VEVENT
DTSTAMP:20260421T182513
DTSTART;TZID=Europe/Berlin:20260501T070000
DTEND;TZID=Europe/Berlin:20260501T071500
UID:V83024210-20260501T070000@VHSBÖBLINGEN-SINDELFINGEN
SUMMARY:Morning Workout (V83024210) 
LOCATION:Online vhs, edudip, Online vhs
END:VEVENT
BEGIN:VEVENT
DTSTAMP:20260421T182513
DTSTART;TZID=Europe/Berlin:20260502T100000
DTEND;TZID=Europe/Berlin:20260502T103000
UID:V83024210-20260502T100000@VHSBÖBLINGEN-SINDELFINGEN
SUMMARY:Morning Workout (V83024210) 
LOCATION:Online vhs, edudip, Online vhs
END:VEVENT
BEGIN:VEVENT
DTSTAMP:20260421T182513
DTSTART;TZID=Europe/Berlin:20260503T100000
DTEND;TZID=Europe/Berlin:20260503T103000
UID:V83024210-20260503T100000@VHSBÖBLINGEN-SINDELFINGEN
SUMMARY:Morning Workout (V83024210) 
LOCATION:Online vhs, edudip, Online vhs
END:VEVENT
BEGIN:VEVENT
DTSTAMP:20260421T182513
DTSTART;TZID=Europe/Berlin:20260504T070000
DTEND;TZID=Europe/Berlin:20260504T071500
UID:V83024210-20260504T070000@VHSBÖBLINGEN-SINDELFINGEN
SUMMARY:Morning Workout (V83024210) 
LOCATION:Online vhs, edudip, Online vhs
END:VEVENT
BEGIN:VEVENT
DTSTAMP:20260421T182513
DTSTART;TZID=Europe/Berlin:20260505T070000
DTEND;TZID=Europe/Berlin:20260505T071500
UID:V83024210-20260505T070000@VHSBÖBLINGEN-SINDELFINGEN
SUMMARY:Morning Workout (V83024210) 
LOCATION:Online vhs, edudip, Online vhs
END:VEVENT
BEGIN:VEVENT
DTSTAMP:20260421T182513
DTSTART;TZID=Europe/Berlin:20260506T070000
DTEND;TZID=Europe/Berlin:20260506T071500
UID:V83024210-20260506T070000@VHSBÖBLINGEN-SINDELFINGEN
SUMMARY:Morning Workout (V83024210) 
LOCATION:Online vhs, edudip, Online vhs
END:VEVENT
BEGIN:VEVENT
DTSTAMP:20260421T182513
DTSTART;TZID=Europe/Berlin:20260507T070000
DTEND;TZID=Europe/Berlin:20260507T071500
UID:V83024210-20260507T070000@VHSBÖBLINGEN-SINDELFINGEN
SUMMARY:Morning Workout (V83024210) 
LOCATION:Online vhs, edudip, Online vhs
END:VEVENT
BEGIN:VEVENT
DTSTAMP:20260421T182513
DTSTART;TZID=Europe/Berlin:20260508T070000
DTEND;TZID=Europe/Berlin:20260508T071500
UID:V83024210-20260508T070000@VHSBÖBLINGEN-SINDELFINGEN
SUMMARY:Morning Workout (V83024210) 
LOCATION:Online vhs, edudip, Online vhs
END:VEVENT
BEGIN:VEVENT
DTSTAMP:20260421T182513
DTSTART;TZID=Europe/Berlin:20260509T100000
DTEND;TZID=Europe/Berlin:20260509T103000
UID:V83024210-20260509T100000@VHSBÖBLINGEN-SINDELFINGEN
SUMMARY:Morning Workout (V83024210) 
LOCATION:Online vhs, edudip, Online vhs
END:VEVENT
BEGIN:VEVENT
DTSTAMP:20260421T182513
DTSTART;TZID=Europe/Berlin:20260510T100000
DTEND;TZID=Europe/Berlin:20260510T103000
UID:V83024210-20260510T100000@VHSBÖBLINGEN-SINDELFINGEN
SUMMARY:Morning Workout (V83024210) 
LOCATION:Online vhs, edudip, Online vhs
END:VEVENT
BEGIN:VEVENT
DTSTAMP:20260421T182513
DTSTART;TZID=Europe/Berlin:20260511T070000
DTEND;TZID=Europe/Berlin:20260511T071500
UID:V83024210-20260511T070000@VHSBÖBLINGEN-SINDELFINGEN
SUMMARY:Morning Workout (V83024210) 
LOCATION:Online vhs, edudip, Online vhs
END:VEVENT
BEGIN:VEVENT
DTSTAMP:20260421T182513
DTSTART;TZID=Europe/Berlin:20260512T070000
DTEND;TZID=Europe/Berlin:20260512T071500
UID:V83024210-20260512T070000@VHSBÖBLINGEN-SINDELFINGEN
SUMMARY:Morning Workout (V83024210) 
LOCATION:Online vhs, edudip, Online vhs
END:VEVENT
BEGIN:VEVENT
DTSTAMP:20260421T182513
DTSTART;TZID=Europe/Berlin:20260513T070000
DTEND;TZID=Europe/Berlin:20260513T071500
UID:V83024210-20260513T070000@VHSBÖBLINGEN-SINDELFINGEN
SUMMARY:Morning Workout (V83024210) 
LOCATION:Online vhs, edudip, Online vhs
END:VEVENT
BEGIN:VEVENT
DTSTAMP:20260421T182513
DTSTART;TZID=Europe/Berlin:20260514T070000
DTEND;TZID=Europe/Berlin:20260514T071500
UID:V83024210-20260514T070000@VHSBÖBLINGEN-SINDELFINGEN
SUMMARY:Morning Workout (V83024210) 
LOCATION:Online vhs, edudip, Online vhs
END:VEVENT
BEGIN:VEVENT
DTSTAMP:20260421T182513
DTSTART;TZID=Europe/Berlin:20260515T070000
DTEND;TZID=Europe/Berlin:20260515T071500
UID:V83024210-20260515T070000@VHSBÖBLINGEN-SINDELFINGEN
SUMMARY:Morning Workout (V83024210) 
LOCATION:Online vhs, edudip, Online vhs
END:VEVENT
BEGIN:VEVENT
DTSTAMP:20260421T182513
DTSTART;TZID=Europe/Berlin:20260516T100000
DTEND;TZID=Europe/Berlin:20260516T103000
UID:V83024210-20260516T100000@VHSBÖBLINGEN-SINDELFINGEN
SUMMARY:Morning Workout (V83024210) 
LOCATION:Online vhs, edudip, Online vhs
END:VEVENT
BEGIN:VEVENT
DTSTAMP:20260421T182513
DTSTART;TZID=Europe/Berlin:20260517T100000
DTEND;TZID=Europe/Berlin:20260517T103000
UID:V83024210-20260517T100000@VHSBÖBLINGEN-SINDELFINGEN
SUMMARY:Morning Workout (V83024210) 
LOCATION:Online vhs, edudip, Online vhs
END:VEVENT
BEGIN:VEVENT
DTSTAMP:20260421T182513
DTSTART;TZID=Europe/Berlin:20260518T070000
DTEND;TZID=Europe/Berlin:20260518T071500
UID:V83024210-20260518T070000@VHSBÖBLINGEN-SINDELFINGEN
SUMMARY:Morning Workout (V83024210) 
LOCATION:Online vhs, edudip, Online vhs
END:VEVENT
BEGIN:VEVENT
DTSTAMP:20260421T182513
DTSTART;TZID=Europe/Berlin:20260519T070000
DTEND;TZID=Europe/Berlin:20260519T071500
UID:V83024210-20260519T070000@VHSBÖBLINGEN-SINDELFINGEN
SUMMARY:Morning Workout (V83024210) 
LOCATION:Online vhs, edudip, Online vhs
END:VEVENT
BEGIN:VEVENT
DTSTAMP:20260421T182513
DTSTART;TZID=Europe/Berlin:20260520T070000
DTEND;TZID=Europe/Berlin:20260520T071500
UID:V83024210-20260520T070000@VHSBÖBLINGEN-SINDELFINGEN
SUMMARY:Morning Workout (V83024210) 
LOCATION:Online vhs, edudip, Online vhs
END:VEVENT
BEGIN:VEVENT
DTSTAMP:20260421T182513
DTSTART;TZID=Europe/Berlin:20260521T070000
DTEND;TZID=Europe/Berlin:20260521T071500
UID:V83024210-20260521T070000@VHSBÖBLINGEN-SINDELFINGEN
SUMMARY:Morning Workout (V83024210) 
LOCATION:Online vhs, edudip, Online vhs
END:VEVENT
BEGIN:VEVENT
DTSTAMP:20260421T182513
DTSTART;TZID=Europe/Berlin:20260522T070000
DTEND;TZID=Europe/Berlin:20260522T071500
UID:V83024210-20260522T070000@VHSBÖBLINGEN-SINDELFINGEN
SUMMARY:Morning Workout (V83024210) 
LOCATION:Online vhs, edudip, Online vhs
END:VEVENT
BEGIN:VEVENT
DTSTAMP:20260421T182513
DTSTART;TZID=Europe/Berlin:20260523T100000
DTEND;TZID=Europe/Berlin:20260523T103000
UID:V83024210-20260523T100000@VHSBÖBLINGEN-SINDELFINGEN
SUMMARY:Morning Workout (V83024210) 
LOCATION:Online vhs, edudip, Online vhs
END:VEVENT
BEGIN:VEVENT
DTSTAMP:20260421T182513
DTSTART;TZID=Europe/Berlin:20260524T100000
DTEND;TZID=Europe/Berlin:20260524T103000
UID:V83024210-20260524T100000@VHSBÖBLINGEN-SINDELFINGEN
SUMMARY:Morning Workout (V83024210) 
LOCATION:Online vhs, edudip, Online vhs
END:VEVENT
BEGIN:VEVENT
DTSTAMP:20260421T182513
DTSTART;TZID=Europe/Berlin:20260525T070000
DTEND;TZID=Europe/Berlin:20260525T071500
UID:V83024210-20260525T070000@VHSBÖBLINGEN-SINDELFINGEN
SUMMARY:Morning Workout (V83024210) 
LOCATION:Online vhs, edudip, Online vhs
END:VEVENT
BEGIN:VEVENT
DTSTAMP:20260421T182513
DTSTART;TZID=Europe/Berlin:20260526T070000
DTEND;TZID=Europe/Berlin:20260526T071500
UID:V83024210-20260526T070000@VHSBÖBLINGEN-SINDELFINGEN
SUMMARY:Morning Workout (V83024210) 
LOCATION:Online vhs, edudip, Online vhs
END:VEVENT
BEGIN:VEVENT
DTSTAMP:20260421T182513
DTSTART;TZID=Europe/Berlin:20260527T070000
DTEND;TZID=Europe/Berlin:20260527T071500
UID:V83024210-20260527T070000@VHSBÖBLINGEN-SINDELFINGEN
SUMMARY:Morning Workout (V83024210) 
LOCATION:Online vhs, edudip, Online vhs
END:VEVENT
BEGIN:VEVENT
DTSTAMP:20260421T182513
DTSTART;TZID=Europe/Berlin:20260528T070000
DTEND;TZID=Europe/Berlin:20260528T071500
UID:V83024210-20260528T070000@VHSBÖBLINGEN-SINDELFINGEN
SUMMARY:Morning Workout (V83024210) 
LOCATION:Online vhs, edudip, Online vhs
END:VEVENT
BEGIN:VEVENT
DTSTAMP:20260421T182513
DTSTART;TZID=Europe/Berlin:20260529T070000
DTEND;TZID=Europe/Berlin:20260529T071500
UID:V83024210-20260529T070000@VHSBÖBLINGEN-SINDELFINGEN
SUMMARY:Morning Workout (V83024210) 
LOCATION:Online vhs, edudip, Online vhs
END:VEVENT
BEGIN:VEVENT
DTSTAMP:20260421T182513
DTSTART;TZID=Europe/Berlin:20260530T100000
DTEND;TZID=Europe/Berlin:20260530T103000
UID:V83024210-20260530T100000@VHSBÖBLINGEN-SINDELFINGEN
SUMMARY:Morning Workout (V83024210) 
LOCATION:Online vhs, edudip, Online vhs
END:VEVENT
BEGIN:VEVENT
DTSTAMP:20260421T182513
DTSTART;TZID=Europe/Berlin:20260531T100000
DTEND;TZID=Europe/Berlin:20260531T103000
UID:V83024210-20260531T100000@VHSBÖBLINGEN-SINDELFINGEN
SUMMARY:Morning Workout (V83024210) 
LOCATION:Online vhs, edudip, Online vhs
END:VEVENT
END:VCALENDAR