BEGIN:VCALENDAR
VERSION:2.0
PRODID:https://www.kufer.de/kuferweb / DE
METHOD:PUBLISH
CALSCALE:GREGORIAN
X-WR-TIMEZONE:Europe/Berlin
BEGIN:VTIMEZONE
TZID:Europe/Berlin
X-LIC-LOCATION:Europe/Berlin
BEGIN:DAYLIGHT
TZOFFSETFROM:+0100
TZOFFSETTO:+0200
TZNAME:CEST
DTSTART:19700329T020000
RRULE:FREQ=YEARLY;INTERVAL=1;BYDAY=-1SU;BYMONTH=3
END:DAYLIGHT
BEGIN:STANDARD
TZOFFSETFROM:+0200
TZOFFSETTO:+0100
TZNAME:CET
DTSTART:19701025T030000
RRULE:FREQ=YEARLY;INTERVAL=1;BYDAY=-1SU;BYMONTH=10
END:STANDARD
END:VTIMEZONE
BEGIN:VEVENT
DTSTAMP:20260420T181550
DTSTART;TZID=Europe/Berlin:20260401T070000
DTEND;TZID=Europe/Berlin:20260401T071500
UID:V83024110-20260401T070000@VHSBÖBLINGEN-SINDELFINGEN
SUMMARY:Morning Workout (V83024110) 
LOCATION:Online vhs, edudip, Online vhs
END:VEVENT
BEGIN:VEVENT
DTSTAMP:20260420T181550
DTSTART;TZID=Europe/Berlin:20260402T070000
DTEND;TZID=Europe/Berlin:20260402T071500
UID:V83024110-20260402T070000@VHSBÖBLINGEN-SINDELFINGEN
SUMMARY:Morning Workout (V83024110) 
LOCATION:Online vhs, edudip, Online vhs
END:VEVENT
BEGIN:VEVENT
DTSTAMP:20260420T181550
DTSTART;TZID=Europe/Berlin:20260403T070000
DTEND;TZID=Europe/Berlin:20260403T071500
UID:V83024110-20260403T070000@VHSBÖBLINGEN-SINDELFINGEN
SUMMARY:Morning Workout (V83024110) 
LOCATION:Online vhs, edudip, Online vhs
END:VEVENT
BEGIN:VEVENT
DTSTAMP:20260420T181550
DTSTART;TZID=Europe/Berlin:20260404T100000
DTEND;TZID=Europe/Berlin:20260404T103000
UID:V83024110-20260404T100000@VHSBÖBLINGEN-SINDELFINGEN
SUMMARY:Morning Workout (V83024110) 
LOCATION:Online vhs, edudip, Online vhs
END:VEVENT
BEGIN:VEVENT
DTSTAMP:20260420T181550
DTSTART;TZID=Europe/Berlin:20260405T100000
DTEND;TZID=Europe/Berlin:20260405T103000
UID:V83024110-20260405T100000@VHSBÖBLINGEN-SINDELFINGEN
SUMMARY:Morning Workout (V83024110) 
LOCATION:Online vhs, edudip, Online vhs
END:VEVENT
BEGIN:VEVENT
DTSTAMP:20260420T181550
DTSTART;TZID=Europe/Berlin:20260406T070000
DTEND;TZID=Europe/Berlin:20260406T071500
UID:V83024110-20260406T070000@VHSBÖBLINGEN-SINDELFINGEN
SUMMARY:Morning Workout (V83024110) 
LOCATION:Online vhs, edudip, Online vhs
END:VEVENT
BEGIN:VEVENT
DTSTAMP:20260420T181550
DTSTART;TZID=Europe/Berlin:20260407T070000
DTEND;TZID=Europe/Berlin:20260407T071500
UID:V83024110-20260407T070000@VHSBÖBLINGEN-SINDELFINGEN
SUMMARY:Morning Workout (V83024110) 
LOCATION:Online vhs, edudip, Online vhs
END:VEVENT
BEGIN:VEVENT
DTSTAMP:20260420T181550
DTSTART;TZID=Europe/Berlin:20260408T070000
DTEND;TZID=Europe/Berlin:20260408T071500
UID:V83024110-20260408T070000@VHSBÖBLINGEN-SINDELFINGEN
SUMMARY:Morning Workout (V83024110) 
LOCATION:Online vhs, edudip, Online vhs
END:VEVENT
BEGIN:VEVENT
DTSTAMP:20260420T181550
DTSTART;TZID=Europe/Berlin:20260409T070000
DTEND;TZID=Europe/Berlin:20260409T071500
UID:V83024110-20260409T070000@VHSBÖBLINGEN-SINDELFINGEN
SUMMARY:Morning Workout (V83024110) 
LOCATION:Online vhs, edudip, Online vhs
END:VEVENT
BEGIN:VEVENT
DTSTAMP:20260420T181550
DTSTART;TZID=Europe/Berlin:20260410T070000
DTEND;TZID=Europe/Berlin:20260410T071500
UID:V83024110-20260410T070000@VHSBÖBLINGEN-SINDELFINGEN
SUMMARY:Morning Workout (V83024110) 
LOCATION:Online vhs, edudip, Online vhs
END:VEVENT
BEGIN:VEVENT
DTSTAMP:20260420T181550
DTSTART;TZID=Europe/Berlin:20260411T100000
DTEND;TZID=Europe/Berlin:20260411T103000
UID:V83024110-20260411T100000@VHSBÖBLINGEN-SINDELFINGEN
SUMMARY:Morning Workout (V83024110) 
LOCATION:Online vhs, edudip, Online vhs
END:VEVENT
BEGIN:VEVENT
DTSTAMP:20260420T181550
DTSTART;TZID=Europe/Berlin:20260412T100000
DTEND;TZID=Europe/Berlin:20260412T103000
UID:V83024110-20260412T100000@VHSBÖBLINGEN-SINDELFINGEN
SUMMARY:Morning Workout (V83024110) 
LOCATION:Online vhs, edudip, Online vhs
END:VEVENT
BEGIN:VEVENT
DTSTAMP:20260420T181550
DTSTART;TZID=Europe/Berlin:20260413T070000
DTEND;TZID=Europe/Berlin:20260413T071500
UID:V83024110-20260413T070000@VHSBÖBLINGEN-SINDELFINGEN
SUMMARY:Morning Workout (V83024110) 
LOCATION:Online vhs, edudip, Online vhs
END:VEVENT
BEGIN:VEVENT
DTSTAMP:20260420T181550
DTSTART;TZID=Europe/Berlin:20260414T070000
DTEND;TZID=Europe/Berlin:20260414T071500
UID:V83024110-20260414T070000@VHSBÖBLINGEN-SINDELFINGEN
SUMMARY:Morning Workout (V83024110) 
LOCATION:Online vhs, edudip, Online vhs
END:VEVENT
BEGIN:VEVENT
DTSTAMP:20260420T181550
DTSTART;TZID=Europe/Berlin:20260415T070000
DTEND;TZID=Europe/Berlin:20260415T071500
UID:V83024110-20260415T070000@VHSBÖBLINGEN-SINDELFINGEN
SUMMARY:Morning Workout (V83024110) 
LOCATION:Online vhs, edudip, Online vhs
END:VEVENT
BEGIN:VEVENT
DTSTAMP:20260420T181550
DTSTART;TZID=Europe/Berlin:20260416T070000
DTEND;TZID=Europe/Berlin:20260416T071500
UID:V83024110-20260416T070000@VHSBÖBLINGEN-SINDELFINGEN
SUMMARY:Morning Workout (V83024110) 
LOCATION:Online vhs, edudip, Online vhs
END:VEVENT
BEGIN:VEVENT
DTSTAMP:20260420T181550
DTSTART;TZID=Europe/Berlin:20260417T070000
DTEND;TZID=Europe/Berlin:20260417T071500
UID:V83024110-20260417T070000@VHSBÖBLINGEN-SINDELFINGEN
SUMMARY:Morning Workout (V83024110) 
LOCATION:Online vhs, edudip, Online vhs
END:VEVENT
BEGIN:VEVENT
DTSTAMP:20260420T181550
DTSTART;TZID=Europe/Berlin:20260418T100000
DTEND;TZID=Europe/Berlin:20260418T103000
UID:V83024110-20260418T100000@VHSBÖBLINGEN-SINDELFINGEN
SUMMARY:Morning Workout (V83024110) 
LOCATION:Online vhs, edudip, Online vhs
END:VEVENT
BEGIN:VEVENT
DTSTAMP:20260420T181550
DTSTART;TZID=Europe/Berlin:20260419T100000
DTEND;TZID=Europe/Berlin:20260419T103000
UID:V83024110-20260419T100000@VHSBÖBLINGEN-SINDELFINGEN
SUMMARY:Morning Workout (V83024110) 
LOCATION:Online vhs, edudip, Online vhs
END:VEVENT
BEGIN:VEVENT
DTSTAMP:20260420T181550
DTSTART;TZID=Europe/Berlin:20260420T070000
DTEND;TZID=Europe/Berlin:20260420T071500
UID:V83024110-20260420T070000@VHSBÖBLINGEN-SINDELFINGEN
SUMMARY:Morning Workout (V83024110) 
LOCATION:Online vhs, edudip, Online vhs
END:VEVENT
BEGIN:VEVENT
DTSTAMP:20260420T181550
DTSTART;TZID=Europe/Berlin:20260421T070000
DTEND;TZID=Europe/Berlin:20260421T071500
UID:V83024110-20260421T070000@VHSBÖBLINGEN-SINDELFINGEN
SUMMARY:Morning Workout (V83024110) 
LOCATION:Online vhs, edudip, Online vhs
END:VEVENT
BEGIN:VEVENT
DTSTAMP:20260420T181550
DTSTART;TZID=Europe/Berlin:20260422T070000
DTEND;TZID=Europe/Berlin:20260422T071500
UID:V83024110-20260422T070000@VHSBÖBLINGEN-SINDELFINGEN
SUMMARY:Morning Workout (V83024110) 
LOCATION:Online vhs, edudip, Online vhs
END:VEVENT
BEGIN:VEVENT
DTSTAMP:20260420T181550
DTSTART;TZID=Europe/Berlin:20260423T070000
DTEND;TZID=Europe/Berlin:20260423T071500
UID:V83024110-20260423T070000@VHSBÖBLINGEN-SINDELFINGEN
SUMMARY:Morning Workout (V83024110) 
LOCATION:Online vhs, edudip, Online vhs
END:VEVENT
BEGIN:VEVENT
DTSTAMP:20260420T181550
DTSTART;TZID=Europe/Berlin:20260424T070000
DTEND;TZID=Europe/Berlin:20260424T071500
UID:V83024110-20260424T070000@VHSBÖBLINGEN-SINDELFINGEN
SUMMARY:Morning Workout (V83024110) 
LOCATION:Online vhs, edudip, Online vhs
END:VEVENT
BEGIN:VEVENT
DTSTAMP:20260420T181550
DTSTART;TZID=Europe/Berlin:20260425T100000
DTEND;TZID=Europe/Berlin:20260425T103000
UID:V83024110-20260425T100000@VHSBÖBLINGEN-SINDELFINGEN
SUMMARY:Morning Workout (V83024110) 
LOCATION:Online vhs, edudip, Online vhs
END:VEVENT
BEGIN:VEVENT
DTSTAMP:20260420T181550
DTSTART;TZID=Europe/Berlin:20260426T100000
DTEND;TZID=Europe/Berlin:20260426T103000
UID:V83024110-20260426T100000@VHSBÖBLINGEN-SINDELFINGEN
SUMMARY:Morning Workout (V83024110) 
LOCATION:Online vhs, edudip, Online vhs
END:VEVENT
BEGIN:VEVENT
DTSTAMP:20260420T181550
DTSTART;TZID=Europe/Berlin:20260427T070000
DTEND;TZID=Europe/Berlin:20260427T071500
UID:V83024110-20260427T070000@VHSBÖBLINGEN-SINDELFINGEN
SUMMARY:Morning Workout (V83024110) 
LOCATION:Online vhs, edudip, Online vhs
END:VEVENT
BEGIN:VEVENT
DTSTAMP:20260420T181550
DTSTART;TZID=Europe/Berlin:20260428T070000
DTEND;TZID=Europe/Berlin:20260428T071500
UID:V83024110-20260428T070000@VHSBÖBLINGEN-SINDELFINGEN
SUMMARY:Morning Workout (V83024110) 
LOCATION:Online vhs, edudip, Online vhs
END:VEVENT
BEGIN:VEVENT
DTSTAMP:20260420T181550
DTSTART;TZID=Europe/Berlin:20260429T070000
DTEND;TZID=Europe/Berlin:20260429T071500
UID:V83024110-20260429T070000@VHSBÖBLINGEN-SINDELFINGEN
SUMMARY:Morning Workout (V83024110) 
LOCATION:Online vhs, edudip, Online vhs
END:VEVENT
BEGIN:VEVENT
DTSTAMP:20260420T181550
DTSTART;TZID=Europe/Berlin:20260430T070000
DTEND;TZID=Europe/Berlin:20260430T071500
UID:V83024110-20260430T070000@VHSBÖBLINGEN-SINDELFINGEN
SUMMARY:Morning Workout (V83024110) 
LOCATION:Online vhs, edudip, Online vhs
END:VEVENT
END:VCALENDAR