BEGIN:VCALENDAR
VERSION:2.0
PRODID:https://www.kufer.de/kuferweb / DE
METHOD:PUBLISH
CALSCALE:GREGORIAN
X-WR-TIMEZONE:Europe/Berlin
BEGIN:VTIMEZONE
TZID:Europe/Berlin
X-LIC-LOCATION:Europe/Berlin
BEGIN:DAYLIGHT
TZOFFSETFROM:+0100
TZOFFSETTO:+0200
TZNAME:CEST
DTSTART:19700329T020000
RRULE:FREQ=YEARLY;INTERVAL=1;BYDAY=-1SU;BYMONTH=3
END:DAYLIGHT
BEGIN:STANDARD
TZOFFSETFROM:+0200
TZOFFSETTO:+0100
TZNAME:CET
DTSTART:19701025T030000
RRULE:FREQ=YEARLY;INTERVAL=1;BYDAY=-1SU;BYMONTH=10
END:STANDARD
END:VTIMEZONE
BEGIN:VEVENT
DTSTAMP:20260421T121715
DTSTART;TZID=Europe/Berlin:20260301T100000
DTEND;TZID=Europe/Berlin:20260301T103000
UID:V83024010-20260301T100000@VHSBÖBLINGEN-SINDELFINGEN
SUMMARY:Morning Workout (V83024010) 
LOCATION:Online vhs, edudip, Online vhs
END:VEVENT
BEGIN:VEVENT
DTSTAMP:20260421T121715
DTSTART;TZID=Europe/Berlin:20260302T070000
DTEND;TZID=Europe/Berlin:20260302T071500
UID:V83024010-20260302T070000@VHSBÖBLINGEN-SINDELFINGEN
SUMMARY:Morning Workout (V83024010) 
LOCATION:Online vhs, edudip, Online vhs
END:VEVENT
BEGIN:VEVENT
DTSTAMP:20260421T121715
DTSTART;TZID=Europe/Berlin:20260303T070000
DTEND;TZID=Europe/Berlin:20260303T071500
UID:V83024010-20260303T070000@VHSBÖBLINGEN-SINDELFINGEN
SUMMARY:Morning Workout (V83024010) 
LOCATION:Online vhs, edudip, Online vhs
END:VEVENT
BEGIN:VEVENT
DTSTAMP:20260421T121715
DTSTART;TZID=Europe/Berlin:20260304T070000
DTEND;TZID=Europe/Berlin:20260304T071500
UID:V83024010-20260304T070000@VHSBÖBLINGEN-SINDELFINGEN
SUMMARY:Morning Workout (V83024010) 
LOCATION:Online vhs, edudip, Online vhs
END:VEVENT
BEGIN:VEVENT
DTSTAMP:20260421T121715
DTSTART;TZID=Europe/Berlin:20260305T070000
DTEND;TZID=Europe/Berlin:20260305T071500
UID:V83024010-20260305T070000@VHSBÖBLINGEN-SINDELFINGEN
SUMMARY:Morning Workout (V83024010) 
LOCATION:Online vhs, edudip, Online vhs
END:VEVENT
BEGIN:VEVENT
DTSTAMP:20260421T121715
DTSTART;TZID=Europe/Berlin:20260306T070000
DTEND;TZID=Europe/Berlin:20260306T071500
UID:V83024010-20260306T070000@VHSBÖBLINGEN-SINDELFINGEN
SUMMARY:Morning Workout (V83024010) 
LOCATION:Online vhs, edudip, Online vhs
END:VEVENT
BEGIN:VEVENT
DTSTAMP:20260421T121715
DTSTART;TZID=Europe/Berlin:20260307T100000
DTEND;TZID=Europe/Berlin:20260307T103000
UID:V83024010-20260307T100000@VHSBÖBLINGEN-SINDELFINGEN
SUMMARY:Morning Workout (V83024010) 
LOCATION:Online vhs, edudip, Online vhs
END:VEVENT
BEGIN:VEVENT
DTSTAMP:20260421T121715
DTSTART;TZID=Europe/Berlin:20260308T100000
DTEND;TZID=Europe/Berlin:20260308T103000
UID:V83024010-20260308T100000@VHSBÖBLINGEN-SINDELFINGEN
SUMMARY:Morning Workout (V83024010) 
LOCATION:Online vhs, edudip, Online vhs
END:VEVENT
BEGIN:VEVENT
DTSTAMP:20260421T121715
DTSTART;TZID=Europe/Berlin:20260309T070000
DTEND;TZID=Europe/Berlin:20260309T071500
UID:V83024010-20260309T070000@VHSBÖBLINGEN-SINDELFINGEN
SUMMARY:Morning Workout (V83024010) 
LOCATION:Online vhs, edudip, Online vhs
END:VEVENT
BEGIN:VEVENT
DTSTAMP:20260421T121715
DTSTART;TZID=Europe/Berlin:20260310T070000
DTEND;TZID=Europe/Berlin:20260310T071500
UID:V83024010-20260310T070000@VHSBÖBLINGEN-SINDELFINGEN
SUMMARY:Morning Workout (V83024010) 
LOCATION:Online vhs, edudip, Online vhs
END:VEVENT
BEGIN:VEVENT
DTSTAMP:20260421T121715
DTSTART;TZID=Europe/Berlin:20260311T070000
DTEND;TZID=Europe/Berlin:20260311T071500
UID:V83024010-20260311T070000@VHSBÖBLINGEN-SINDELFINGEN
SUMMARY:Morning Workout (V83024010) 
LOCATION:Online vhs, edudip, Online vhs
END:VEVENT
BEGIN:VEVENT
DTSTAMP:20260421T121715
DTSTART;TZID=Europe/Berlin:20260312T070000
DTEND;TZID=Europe/Berlin:20260312T071500
UID:V83024010-20260312T070000@VHSBÖBLINGEN-SINDELFINGEN
SUMMARY:Morning Workout (V83024010) 
LOCATION:Online vhs, edudip, Online vhs
END:VEVENT
BEGIN:VEVENT
DTSTAMP:20260421T121715
DTSTART;TZID=Europe/Berlin:20260313T070000
DTEND;TZID=Europe/Berlin:20260313T071500
UID:V83024010-20260313T070000@VHSBÖBLINGEN-SINDELFINGEN
SUMMARY:Morning Workout (V83024010) 
LOCATION:Online vhs, edudip, Online vhs
END:VEVENT
BEGIN:VEVENT
DTSTAMP:20260421T121715
DTSTART;TZID=Europe/Berlin:20260314T100000
DTEND;TZID=Europe/Berlin:20260314T103000
UID:V83024010-20260314T100000@VHSBÖBLINGEN-SINDELFINGEN
SUMMARY:Morning Workout (V83024010) 
LOCATION:Online vhs, edudip, Online vhs
END:VEVENT
BEGIN:VEVENT
DTSTAMP:20260421T121715
DTSTART;TZID=Europe/Berlin:20260315T100000
DTEND;TZID=Europe/Berlin:20260315T103000
UID:V83024010-20260315T100000@VHSBÖBLINGEN-SINDELFINGEN
SUMMARY:Morning Workout (V83024010) 
LOCATION:Online vhs, edudip, Online vhs
END:VEVENT
BEGIN:VEVENT
DTSTAMP:20260421T121715
DTSTART;TZID=Europe/Berlin:20260316T070000
DTEND;TZID=Europe/Berlin:20260316T071500
UID:V83024010-20260316T070000@VHSBÖBLINGEN-SINDELFINGEN
SUMMARY:Morning Workout (V83024010) 
LOCATION:Online vhs, edudip, Online vhs
END:VEVENT
BEGIN:VEVENT
DTSTAMP:20260421T121715
DTSTART;TZID=Europe/Berlin:20260317T070000
DTEND;TZID=Europe/Berlin:20260317T071500
UID:V83024010-20260317T070000@VHSBÖBLINGEN-SINDELFINGEN
SUMMARY:Morning Workout (V83024010) 
LOCATION:Online vhs, edudip, Online vhs
END:VEVENT
BEGIN:VEVENT
DTSTAMP:20260421T121715
DTSTART;TZID=Europe/Berlin:20260318T070000
DTEND;TZID=Europe/Berlin:20260318T071500
UID:V83024010-20260318T070000@VHSBÖBLINGEN-SINDELFINGEN
SUMMARY:Morning Workout (V83024010) 
LOCATION:Online vhs, edudip, Online vhs
END:VEVENT
BEGIN:VEVENT
DTSTAMP:20260421T121715
DTSTART;TZID=Europe/Berlin:20260319T070000
DTEND;TZID=Europe/Berlin:20260319T071500
UID:V83024010-20260319T070000@VHSBÖBLINGEN-SINDELFINGEN
SUMMARY:Morning Workout (V83024010) 
LOCATION:Online vhs, edudip, Online vhs
END:VEVENT
BEGIN:VEVENT
DTSTAMP:20260421T121715
DTSTART;TZID=Europe/Berlin:20260320T070000
DTEND;TZID=Europe/Berlin:20260320T071500
UID:V83024010-20260320T070000@VHSBÖBLINGEN-SINDELFINGEN
SUMMARY:Morning Workout (V83024010) 
LOCATION:Online vhs, edudip, Online vhs
END:VEVENT
BEGIN:VEVENT
DTSTAMP:20260421T121715
DTSTART;TZID=Europe/Berlin:20260321T100000
DTEND;TZID=Europe/Berlin:20260321T103000
UID:V83024010-20260321T100000@VHSBÖBLINGEN-SINDELFINGEN
SUMMARY:Morning Workout (V83024010) 
LOCATION:Online vhs, edudip, Online vhs
END:VEVENT
BEGIN:VEVENT
DTSTAMP:20260421T121715
DTSTART;TZID=Europe/Berlin:20260322T100000
DTEND;TZID=Europe/Berlin:20260322T103000
UID:V83024010-20260322T100000@VHSBÖBLINGEN-SINDELFINGEN
SUMMARY:Morning Workout (V83024010) 
LOCATION:Online vhs, edudip, Online vhs
END:VEVENT
BEGIN:VEVENT
DTSTAMP:20260421T121715
DTSTART;TZID=Europe/Berlin:20260323T070000
DTEND;TZID=Europe/Berlin:20260323T071500
UID:V83024010-20260323T070000@VHSBÖBLINGEN-SINDELFINGEN
SUMMARY:Morning Workout (V83024010) 
LOCATION:Online vhs, edudip, Online vhs
END:VEVENT
BEGIN:VEVENT
DTSTAMP:20260421T121715
DTSTART;TZID=Europe/Berlin:20260324T070000
DTEND;TZID=Europe/Berlin:20260324T071500
UID:V83024010-20260324T070000@VHSBÖBLINGEN-SINDELFINGEN
SUMMARY:Morning Workout (V83024010) 
LOCATION:Online vhs, edudip, Online vhs
END:VEVENT
BEGIN:VEVENT
DTSTAMP:20260421T121715
DTSTART;TZID=Europe/Berlin:20260325T070000
DTEND;TZID=Europe/Berlin:20260325T071500
UID:V83024010-20260325T070000@VHSBÖBLINGEN-SINDELFINGEN
SUMMARY:Morning Workout (V83024010) 
LOCATION:Online vhs, edudip, Online vhs
END:VEVENT
BEGIN:VEVENT
DTSTAMP:20260421T121715
DTSTART;TZID=Europe/Berlin:20260326T070000
DTEND;TZID=Europe/Berlin:20260326T071500
UID:V83024010-20260326T070000@VHSBÖBLINGEN-SINDELFINGEN
SUMMARY:Morning Workout (V83024010) 
LOCATION:Online vhs, edudip, Online vhs
END:VEVENT
BEGIN:VEVENT
DTSTAMP:20260421T121715
DTSTART;TZID=Europe/Berlin:20260327T070000
DTEND;TZID=Europe/Berlin:20260327T071500
UID:V83024010-20260327T070000@VHSBÖBLINGEN-SINDELFINGEN
SUMMARY:Morning Workout (V83024010) 
LOCATION:Online vhs, edudip, Online vhs
END:VEVENT
BEGIN:VEVENT
DTSTAMP:20260421T121715
DTSTART;TZID=Europe/Berlin:20260328T100000
DTEND;TZID=Europe/Berlin:20260328T103000
UID:V83024010-20260328T100000@VHSBÖBLINGEN-SINDELFINGEN
SUMMARY:Morning Workout (V83024010) 
LOCATION:Online vhs, edudip, Online vhs
END:VEVENT
BEGIN:VEVENT
DTSTAMP:20260421T121715
DTSTART;TZID=Europe/Berlin:20260329T100000
DTEND;TZID=Europe/Berlin:20260329T103000
UID:V83024010-20260329T100000@VHSBÖBLINGEN-SINDELFINGEN
SUMMARY:Morning Workout (V83024010) 
LOCATION:Online vhs, edudip, Online vhs
END:VEVENT
BEGIN:VEVENT
DTSTAMP:20260421T121715
DTSTART;TZID=Europe/Berlin:20260330T070000
DTEND;TZID=Europe/Berlin:20260330T071500
UID:V83024010-20260330T070000@VHSBÖBLINGEN-SINDELFINGEN
SUMMARY:Morning Workout (V83024010) 
LOCATION:Online vhs, edudip, Online vhs
END:VEVENT
BEGIN:VEVENT
DTSTAMP:20260421T121715
DTSTART;TZID=Europe/Berlin:20260331T070000
DTEND;TZID=Europe/Berlin:20260331T071500
UID:V83024010-20260331T070000@VHSBÖBLINGEN-SINDELFINGEN
SUMMARY:Morning Workout (V83024010) 
LOCATION:Online vhs, edudip, Online vhs
END:VEVENT
END:VCALENDAR