BEGIN:VCALENDAR
VERSION:2.0
PRODID:https://www.kufer.de/kuferweb / DE
METHOD:PUBLISH
CALSCALE:GREGORIAN
X-WR-TIMEZONE:Europe/Berlin
BEGIN:VTIMEZONE
TZID:Europe/Berlin
X-LIC-LOCATION:Europe/Berlin
BEGIN:DAYLIGHT
TZOFFSETFROM:+0100
TZOFFSETTO:+0200
TZNAME:CEST
DTSTART:19700329T020000
RRULE:FREQ=YEARLY;INTERVAL=1;BYDAY=-1SU;BYMONTH=3
END:DAYLIGHT
BEGIN:STANDARD
TZOFFSETFROM:+0200
TZOFFSETTO:+0100
TZNAME:CET
DTSTART:19701025T030000
RRULE:FREQ=YEARLY;INTERVAL=1;BYDAY=-1SU;BYMONTH=10
END:STANDARD
END:VTIMEZONE
BEGIN:VEVENT
DTSTAMP:20260421T175307
DTSTART;TZID=Europe/Berlin:20260803T072000
DTEND;TZID=Europe/Berlin:20260803T073500
UID:V83023510-20260803T072000@VHSBÖBLINGEN-SINDELFINGEN
SUMMARY:Bauch Challenge in 30 Tagen (V83023510) 
LOCATION:Online vhs, edudip, Online vhs
END:VEVENT
BEGIN:VEVENT
DTSTAMP:20260421T175307
DTSTART;TZID=Europe/Berlin:20260804T072000
DTEND;TZID=Europe/Berlin:20260804T073500
UID:V83023510-20260804T072000@VHSBÖBLINGEN-SINDELFINGEN
SUMMARY:Bauch Challenge in 30 Tagen (V83023510) 
LOCATION:Online vhs, edudip, Online vhs
END:VEVENT
BEGIN:VEVENT
DTSTAMP:20260421T175307
DTSTART;TZID=Europe/Berlin:20260805T072000
DTEND;TZID=Europe/Berlin:20260805T073500
UID:V83023510-20260805T072000@VHSBÖBLINGEN-SINDELFINGEN
SUMMARY:Bauch Challenge in 30 Tagen (V83023510) 
LOCATION:Online vhs, edudip, Online vhs
END:VEVENT
BEGIN:VEVENT
DTSTAMP:20260421T175307
DTSTART;TZID=Europe/Berlin:20260806T072000
DTEND;TZID=Europe/Berlin:20260806T073500
UID:V83023510-20260806T072000@VHSBÖBLINGEN-SINDELFINGEN
SUMMARY:Bauch Challenge in 30 Tagen (V83023510) 
LOCATION:Online vhs, edudip, Online vhs
END:VEVENT
BEGIN:VEVENT
DTSTAMP:20260421T175307
DTSTART;TZID=Europe/Berlin:20260807T072000
DTEND;TZID=Europe/Berlin:20260807T073500
UID:V83023510-20260807T072000@VHSBÖBLINGEN-SINDELFINGEN
SUMMARY:Bauch Challenge in 30 Tagen (V83023510) 
LOCATION:Online vhs, edudip, Online vhs
END:VEVENT
BEGIN:VEVENT
DTSTAMP:20260421T175307
DTSTART;TZID=Europe/Berlin:20260810T072000
DTEND;TZID=Europe/Berlin:20260810T073500
UID:V83023510-20260810T072000@VHSBÖBLINGEN-SINDELFINGEN
SUMMARY:Bauch Challenge in 30 Tagen (V83023510) 
LOCATION:Online vhs, edudip, Online vhs
END:VEVENT
BEGIN:VEVENT
DTSTAMP:20260421T175307
DTSTART;TZID=Europe/Berlin:20260811T072000
DTEND;TZID=Europe/Berlin:20260811T073500
UID:V83023510-20260811T072000@VHSBÖBLINGEN-SINDELFINGEN
SUMMARY:Bauch Challenge in 30 Tagen (V83023510) 
LOCATION:Online vhs, edudip, Online vhs
END:VEVENT
BEGIN:VEVENT
DTSTAMP:20260421T175307
DTSTART;TZID=Europe/Berlin:20260812T072000
DTEND;TZID=Europe/Berlin:20260812T073500
UID:V83023510-20260812T072000@VHSBÖBLINGEN-SINDELFINGEN
SUMMARY:Bauch Challenge in 30 Tagen (V83023510) 
LOCATION:Online vhs, edudip, Online vhs
END:VEVENT
BEGIN:VEVENT
DTSTAMP:20260421T175307
DTSTART;TZID=Europe/Berlin:20260813T072000
DTEND;TZID=Europe/Berlin:20260813T073500
UID:V83023510-20260813T072000@VHSBÖBLINGEN-SINDELFINGEN
SUMMARY:Bauch Challenge in 30 Tagen (V83023510) 
LOCATION:Online vhs, edudip, Online vhs
END:VEVENT
BEGIN:VEVENT
DTSTAMP:20260421T175307
DTSTART;TZID=Europe/Berlin:20260814T072000
DTEND;TZID=Europe/Berlin:20260814T073500
UID:V83023510-20260814T072000@VHSBÖBLINGEN-SINDELFINGEN
SUMMARY:Bauch Challenge in 30 Tagen (V83023510) 
LOCATION:Online vhs, edudip, Online vhs
END:VEVENT
BEGIN:VEVENT
DTSTAMP:20260421T175307
DTSTART;TZID=Europe/Berlin:20260817T072000
DTEND;TZID=Europe/Berlin:20260817T073500
UID:V83023510-20260817T072000@VHSBÖBLINGEN-SINDELFINGEN
SUMMARY:Bauch Challenge in 30 Tagen (V83023510) 
LOCATION:Online vhs, edudip, Online vhs
END:VEVENT
BEGIN:VEVENT
DTSTAMP:20260421T175307
DTSTART;TZID=Europe/Berlin:20260818T072000
DTEND;TZID=Europe/Berlin:20260818T073500
UID:V83023510-20260818T072000@VHSBÖBLINGEN-SINDELFINGEN
SUMMARY:Bauch Challenge in 30 Tagen (V83023510) 
LOCATION:Online vhs, edudip, Online vhs
END:VEVENT
BEGIN:VEVENT
DTSTAMP:20260421T175307
DTSTART;TZID=Europe/Berlin:20260819T072000
DTEND;TZID=Europe/Berlin:20260819T073500
UID:V83023510-20260819T072000@VHSBÖBLINGEN-SINDELFINGEN
SUMMARY:Bauch Challenge in 30 Tagen (V83023510) 
LOCATION:Online vhs, edudip, Online vhs
END:VEVENT
BEGIN:VEVENT
DTSTAMP:20260421T175307
DTSTART;TZID=Europe/Berlin:20260820T072000
DTEND;TZID=Europe/Berlin:20260820T073500
UID:V83023510-20260820T072000@VHSBÖBLINGEN-SINDELFINGEN
SUMMARY:Bauch Challenge in 30 Tagen (V83023510) 
LOCATION:Online vhs, edudip, Online vhs
END:VEVENT
BEGIN:VEVENT
DTSTAMP:20260421T175307
DTSTART;TZID=Europe/Berlin:20260821T072000
DTEND;TZID=Europe/Berlin:20260821T073500
UID:V83023510-20260821T072000@VHSBÖBLINGEN-SINDELFINGEN
SUMMARY:Bauch Challenge in 30 Tagen (V83023510) 
LOCATION:Online vhs, edudip, Online vhs
END:VEVENT
BEGIN:VEVENT
DTSTAMP:20260421T175307
DTSTART;TZID=Europe/Berlin:20260824T072000
DTEND;TZID=Europe/Berlin:20260824T073500
UID:V83023510-20260824T072000@VHSBÖBLINGEN-SINDELFINGEN
SUMMARY:Bauch Challenge in 30 Tagen (V83023510) 
LOCATION:Online vhs, edudip, Online vhs
END:VEVENT
BEGIN:VEVENT
DTSTAMP:20260421T175307
DTSTART;TZID=Europe/Berlin:20260825T072000
DTEND;TZID=Europe/Berlin:20260825T073500
UID:V83023510-20260825T072000@VHSBÖBLINGEN-SINDELFINGEN
SUMMARY:Bauch Challenge in 30 Tagen (V83023510) 
LOCATION:Online vhs, edudip, Online vhs
END:VEVENT
BEGIN:VEVENT
DTSTAMP:20260421T175307
DTSTART;TZID=Europe/Berlin:20260826T072000
DTEND;TZID=Europe/Berlin:20260826T073500
UID:V83023510-20260826T072000@VHSBÖBLINGEN-SINDELFINGEN
SUMMARY:Bauch Challenge in 30 Tagen (V83023510) 
LOCATION:Online vhs, edudip, Online vhs
END:VEVENT
BEGIN:VEVENT
DTSTAMP:20260421T175307
DTSTART;TZID=Europe/Berlin:20260827T072000
DTEND;TZID=Europe/Berlin:20260827T073500
UID:V83023510-20260827T072000@VHSBÖBLINGEN-SINDELFINGEN
SUMMARY:Bauch Challenge in 30 Tagen (V83023510) 
LOCATION:Online vhs, edudip, Online vhs
END:VEVENT
BEGIN:VEVENT
DTSTAMP:20260421T175307
DTSTART;TZID=Europe/Berlin:20260828T072000
DTEND;TZID=Europe/Berlin:20260828T073500
UID:V83023510-20260828T072000@VHSBÖBLINGEN-SINDELFINGEN
SUMMARY:Bauch Challenge in 30 Tagen (V83023510) 
LOCATION:Online vhs, edudip, Online vhs
END:VEVENT
BEGIN:VEVENT
DTSTAMP:20260421T175307
DTSTART;TZID=Europe/Berlin:20260831T072000
DTEND;TZID=Europe/Berlin:20260831T073500
UID:V83023510-20260831T072000@VHSBÖBLINGEN-SINDELFINGEN
SUMMARY:Bauch Challenge in 30 Tagen (V83023510) 
LOCATION:Online vhs, edudip, Online vhs
END:VEVENT
END:VCALENDAR