BEGIN:VCALENDAR
VERSION:2.0
PRODID:https://www.kufer.de/kuferweb / DE
METHOD:PUBLISH
CALSCALE:GREGORIAN
X-WR-TIMEZONE:Europe/Berlin
BEGIN:VTIMEZONE
TZID:Europe/Berlin
X-LIC-LOCATION:Europe/Berlin
BEGIN:DAYLIGHT
TZOFFSETFROM:+0100
TZOFFSETTO:+0200
TZNAME:CEST
DTSTART:19700329T020000
RRULE:FREQ=YEARLY;INTERVAL=1;BYDAY=-1SU;BYMONTH=3
END:DAYLIGHT
BEGIN:STANDARD
TZOFFSETFROM:+0200
TZOFFSETTO:+0100
TZNAME:CET
DTSTART:19701025T030000
RRULE:FREQ=YEARLY;INTERVAL=1;BYDAY=-1SU;BYMONTH=10
END:STANDARD
END:VTIMEZONE
BEGIN:VEVENT
DTSTAMP:20260421T110623
DTSTART;TZID=Europe/Berlin:20260601T072000
DTEND;TZID=Europe/Berlin:20260601T073500
UID:V83023310-20260601T072000@VHSBÖBLINGEN-SINDELFINGEN
SUMMARY:Bauch Challenge in 30 Tagen (V83023310) 
LOCATION:Online vhs, edudip, Online vhs
END:VEVENT
BEGIN:VEVENT
DTSTAMP:20260421T110623
DTSTART;TZID=Europe/Berlin:20260602T072000
DTEND;TZID=Europe/Berlin:20260602T073500
UID:V83023310-20260602T072000@VHSBÖBLINGEN-SINDELFINGEN
SUMMARY:Bauch Challenge in 30 Tagen (V83023310) 
LOCATION:Online vhs, edudip, Online vhs
END:VEVENT
BEGIN:VEVENT
DTSTAMP:20260421T110623
DTSTART;TZID=Europe/Berlin:20260603T072000
DTEND;TZID=Europe/Berlin:20260603T073500
UID:V83023310-20260603T072000@VHSBÖBLINGEN-SINDELFINGEN
SUMMARY:Bauch Challenge in 30 Tagen (V83023310) 
LOCATION:Online vhs, edudip, Online vhs
END:VEVENT
BEGIN:VEVENT
DTSTAMP:20260421T110623
DTSTART;TZID=Europe/Berlin:20260604T072000
DTEND;TZID=Europe/Berlin:20260604T073500
UID:V83023310-20260604T072000@VHSBÖBLINGEN-SINDELFINGEN
SUMMARY:Bauch Challenge in 30 Tagen (V83023310) 
LOCATION:Online vhs, edudip, Online vhs
END:VEVENT
BEGIN:VEVENT
DTSTAMP:20260421T110623
DTSTART;TZID=Europe/Berlin:20260605T072000
DTEND;TZID=Europe/Berlin:20260605T073500
UID:V83023310-20260605T072000@VHSBÖBLINGEN-SINDELFINGEN
SUMMARY:Bauch Challenge in 30 Tagen (V83023310) 
LOCATION:Online vhs, edudip, Online vhs
END:VEVENT
BEGIN:VEVENT
DTSTAMP:20260421T110623
DTSTART;TZID=Europe/Berlin:20260608T072000
DTEND;TZID=Europe/Berlin:20260608T073500
UID:V83023310-20260608T072000@VHSBÖBLINGEN-SINDELFINGEN
SUMMARY:Bauch Challenge in 30 Tagen (V83023310) 
LOCATION:Online vhs, edudip, Online vhs
END:VEVENT
BEGIN:VEVENT
DTSTAMP:20260421T110623
DTSTART;TZID=Europe/Berlin:20260609T072000
DTEND;TZID=Europe/Berlin:20260609T073500
UID:V83023310-20260609T072000@VHSBÖBLINGEN-SINDELFINGEN
SUMMARY:Bauch Challenge in 30 Tagen (V83023310) 
LOCATION:Online vhs, edudip, Online vhs
END:VEVENT
BEGIN:VEVENT
DTSTAMP:20260421T110623
DTSTART;TZID=Europe/Berlin:20260610T072000
DTEND;TZID=Europe/Berlin:20260610T073500
UID:V83023310-20260610T072000@VHSBÖBLINGEN-SINDELFINGEN
SUMMARY:Bauch Challenge in 30 Tagen (V83023310) 
LOCATION:Online vhs, edudip, Online vhs
END:VEVENT
BEGIN:VEVENT
DTSTAMP:20260421T110623
DTSTART;TZID=Europe/Berlin:20260611T072000
DTEND;TZID=Europe/Berlin:20260611T073500
UID:V83023310-20260611T072000@VHSBÖBLINGEN-SINDELFINGEN
SUMMARY:Bauch Challenge in 30 Tagen (V83023310) 
LOCATION:Online vhs, edudip, Online vhs
END:VEVENT
BEGIN:VEVENT
DTSTAMP:20260421T110623
DTSTART;TZID=Europe/Berlin:20260612T072000
DTEND;TZID=Europe/Berlin:20260612T073500
UID:V83023310-20260612T072000@VHSBÖBLINGEN-SINDELFINGEN
SUMMARY:Bauch Challenge in 30 Tagen (V83023310) 
LOCATION:Online vhs, edudip, Online vhs
END:VEVENT
BEGIN:VEVENT
DTSTAMP:20260421T110623
DTSTART;TZID=Europe/Berlin:20260615T072000
DTEND;TZID=Europe/Berlin:20260615T073500
UID:V83023310-20260615T072000@VHSBÖBLINGEN-SINDELFINGEN
SUMMARY:Bauch Challenge in 30 Tagen (V83023310) 
LOCATION:Online vhs, edudip, Online vhs
END:VEVENT
BEGIN:VEVENT
DTSTAMP:20260421T110623
DTSTART;TZID=Europe/Berlin:20260616T072000
DTEND;TZID=Europe/Berlin:20260616T073500
UID:V83023310-20260616T072000@VHSBÖBLINGEN-SINDELFINGEN
SUMMARY:Bauch Challenge in 30 Tagen (V83023310) 
LOCATION:Online vhs, edudip, Online vhs
END:VEVENT
BEGIN:VEVENT
DTSTAMP:20260421T110623
DTSTART;TZID=Europe/Berlin:20260617T072000
DTEND;TZID=Europe/Berlin:20260617T073500
UID:V83023310-20260617T072000@VHSBÖBLINGEN-SINDELFINGEN
SUMMARY:Bauch Challenge in 30 Tagen (V83023310) 
LOCATION:Online vhs, edudip, Online vhs
END:VEVENT
BEGIN:VEVENT
DTSTAMP:20260421T110623
DTSTART;TZID=Europe/Berlin:20260618T072000
DTEND;TZID=Europe/Berlin:20260618T073500
UID:V83023310-20260618T072000@VHSBÖBLINGEN-SINDELFINGEN
SUMMARY:Bauch Challenge in 30 Tagen (V83023310) 
LOCATION:Online vhs, edudip, Online vhs
END:VEVENT
BEGIN:VEVENT
DTSTAMP:20260421T110623
DTSTART;TZID=Europe/Berlin:20260619T072000
DTEND;TZID=Europe/Berlin:20260619T073500
UID:V83023310-20260619T072000@VHSBÖBLINGEN-SINDELFINGEN
SUMMARY:Bauch Challenge in 30 Tagen (V83023310) 
LOCATION:Online vhs, edudip, Online vhs
END:VEVENT
BEGIN:VEVENT
DTSTAMP:20260421T110623
DTSTART;TZID=Europe/Berlin:20260622T072000
DTEND;TZID=Europe/Berlin:20260622T073500
UID:V83023310-20260622T072000@VHSBÖBLINGEN-SINDELFINGEN
SUMMARY:Bauch Challenge in 30 Tagen (V83023310) 
LOCATION:Online vhs, edudip, Online vhs
END:VEVENT
BEGIN:VEVENT
DTSTAMP:20260421T110623
DTSTART;TZID=Europe/Berlin:20260623T072000
DTEND;TZID=Europe/Berlin:20260623T073500
UID:V83023310-20260623T072000@VHSBÖBLINGEN-SINDELFINGEN
SUMMARY:Bauch Challenge in 30 Tagen (V83023310) 
LOCATION:Online vhs, edudip, Online vhs
END:VEVENT
BEGIN:VEVENT
DTSTAMP:20260421T110623
DTSTART;TZID=Europe/Berlin:20260624T072000
DTEND;TZID=Europe/Berlin:20260624T073500
UID:V83023310-20260624T072000@VHSBÖBLINGEN-SINDELFINGEN
SUMMARY:Bauch Challenge in 30 Tagen (V83023310) 
LOCATION:Online vhs, edudip, Online vhs
END:VEVENT
BEGIN:VEVENT
DTSTAMP:20260421T110623
DTSTART;TZID=Europe/Berlin:20260625T072000
DTEND;TZID=Europe/Berlin:20260625T073500
UID:V83023310-20260625T072000@VHSBÖBLINGEN-SINDELFINGEN
SUMMARY:Bauch Challenge in 30 Tagen (V83023310) 
LOCATION:Online vhs, edudip, Online vhs
END:VEVENT
BEGIN:VEVENT
DTSTAMP:20260421T110623
DTSTART;TZID=Europe/Berlin:20260626T072000
DTEND;TZID=Europe/Berlin:20260626T073500
UID:V83023310-20260626T072000@VHSBÖBLINGEN-SINDELFINGEN
SUMMARY:Bauch Challenge in 30 Tagen (V83023310) 
LOCATION:Online vhs, edudip, Online vhs
END:VEVENT
BEGIN:VEVENT
DTSTAMP:20260421T110623
DTSTART;TZID=Europe/Berlin:20260629T072000
DTEND;TZID=Europe/Berlin:20260629T073500
UID:V83023310-20260629T072000@VHSBÖBLINGEN-SINDELFINGEN
SUMMARY:Bauch Challenge in 30 Tagen (V83023310) 
LOCATION:Online vhs, edudip, Online vhs
END:VEVENT
BEGIN:VEVENT
DTSTAMP:20260421T110623
DTSTART;TZID=Europe/Berlin:20260630T072000
DTEND;TZID=Europe/Berlin:20260630T073500
UID:V83023310-20260630T072000@VHSBÖBLINGEN-SINDELFINGEN
SUMMARY:Bauch Challenge in 30 Tagen (V83023310) 
LOCATION:Online vhs, edudip, Online vhs
END:VEVENT
END:VCALENDAR