BEGIN:VCALENDAR
VERSION:2.0
PRODID:https://www.kufer.de/kuferweb / DE
METHOD:PUBLISH
CALSCALE:GREGORIAN
X-WR-TIMEZONE:Europe/Berlin
BEGIN:VTIMEZONE
TZID:Europe/Berlin
X-LIC-LOCATION:Europe/Berlin
BEGIN:DAYLIGHT
TZOFFSETFROM:+0100
TZOFFSETTO:+0200
TZNAME:CEST
DTSTART:19700329T020000
RRULE:FREQ=YEARLY;INTERVAL=1;BYDAY=-1SU;BYMONTH=3
END:DAYLIGHT
BEGIN:STANDARD
TZOFFSETFROM:+0200
TZOFFSETTO:+0100
TZNAME:CET
DTSTART:19701025T030000
RRULE:FREQ=YEARLY;INTERVAL=1;BYDAY=-1SU;BYMONTH=10
END:STANDARD
END:VTIMEZONE
BEGIN:VEVENT
DTSTAMP:20260421T022754
DTSTART;TZID=Europe/Berlin:20260401T072000
DTEND;TZID=Europe/Berlin:20260401T073500
UID:V83023110-20260401T072000@VHSBÖBLINGEN-SINDELFINGEN
SUMMARY:Bauch Challenge in 30 Tagen (V83023110) 
LOCATION:Online vhs, edudip, Online vhs
END:VEVENT
BEGIN:VEVENT
DTSTAMP:20260421T022754
DTSTART;TZID=Europe/Berlin:20260402T072000
DTEND;TZID=Europe/Berlin:20260402T073500
UID:V83023110-20260402T072000@VHSBÖBLINGEN-SINDELFINGEN
SUMMARY:Bauch Challenge in 30 Tagen (V83023110) 
LOCATION:Online vhs, edudip, Online vhs
END:VEVENT
BEGIN:VEVENT
DTSTAMP:20260421T022754
DTSTART;TZID=Europe/Berlin:20260403T072000
DTEND;TZID=Europe/Berlin:20260403T073500
UID:V83023110-20260403T072000@VHSBÖBLINGEN-SINDELFINGEN
SUMMARY:Bauch Challenge in 30 Tagen (V83023110) 
LOCATION:Online vhs, edudip, Online vhs
END:VEVENT
BEGIN:VEVENT
DTSTAMP:20260421T022754
DTSTART;TZID=Europe/Berlin:20260406T072000
DTEND;TZID=Europe/Berlin:20260406T073500
UID:V83023110-20260406T072000@VHSBÖBLINGEN-SINDELFINGEN
SUMMARY:Bauch Challenge in 30 Tagen (V83023110) 
LOCATION:Online vhs, edudip, Online vhs
END:VEVENT
BEGIN:VEVENT
DTSTAMP:20260421T022754
DTSTART;TZID=Europe/Berlin:20260407T072000
DTEND;TZID=Europe/Berlin:20260407T073500
UID:V83023110-20260407T072000@VHSBÖBLINGEN-SINDELFINGEN
SUMMARY:Bauch Challenge in 30 Tagen (V83023110) 
LOCATION:Online vhs, edudip, Online vhs
END:VEVENT
BEGIN:VEVENT
DTSTAMP:20260421T022754
DTSTART;TZID=Europe/Berlin:20260408T072000
DTEND;TZID=Europe/Berlin:20260408T073500
UID:V83023110-20260408T072000@VHSBÖBLINGEN-SINDELFINGEN
SUMMARY:Bauch Challenge in 30 Tagen (V83023110) 
LOCATION:Online vhs, edudip, Online vhs
END:VEVENT
BEGIN:VEVENT
DTSTAMP:20260421T022754
DTSTART;TZID=Europe/Berlin:20260409T072000
DTEND;TZID=Europe/Berlin:20260409T073500
UID:V83023110-20260409T072000@VHSBÖBLINGEN-SINDELFINGEN
SUMMARY:Bauch Challenge in 30 Tagen (V83023110) 
LOCATION:Online vhs, edudip, Online vhs
END:VEVENT
BEGIN:VEVENT
DTSTAMP:20260421T022754
DTSTART;TZID=Europe/Berlin:20260410T072000
DTEND;TZID=Europe/Berlin:20260410T073500
UID:V83023110-20260410T072000@VHSBÖBLINGEN-SINDELFINGEN
SUMMARY:Bauch Challenge in 30 Tagen (V83023110) 
LOCATION:Online vhs, edudip, Online vhs
END:VEVENT
BEGIN:VEVENT
DTSTAMP:20260421T022754
DTSTART;TZID=Europe/Berlin:20260413T072000
DTEND;TZID=Europe/Berlin:20260413T073500
UID:V83023110-20260413T072000@VHSBÖBLINGEN-SINDELFINGEN
SUMMARY:Bauch Challenge in 30 Tagen (V83023110) 
LOCATION:Online vhs, edudip, Online vhs
END:VEVENT
BEGIN:VEVENT
DTSTAMP:20260421T022754
DTSTART;TZID=Europe/Berlin:20260414T072000
DTEND;TZID=Europe/Berlin:20260414T073500
UID:V83023110-20260414T072000@VHSBÖBLINGEN-SINDELFINGEN
SUMMARY:Bauch Challenge in 30 Tagen (V83023110) 
LOCATION:Online vhs, edudip, Online vhs
END:VEVENT
BEGIN:VEVENT
DTSTAMP:20260421T022754
DTSTART;TZID=Europe/Berlin:20260415T072000
DTEND;TZID=Europe/Berlin:20260415T073500
UID:V83023110-20260415T072000@VHSBÖBLINGEN-SINDELFINGEN
SUMMARY:Bauch Challenge in 30 Tagen (V83023110) 
LOCATION:Online vhs, edudip, Online vhs
END:VEVENT
BEGIN:VEVENT
DTSTAMP:20260421T022754
DTSTART;TZID=Europe/Berlin:20260416T072000
DTEND;TZID=Europe/Berlin:20260416T073500
UID:V83023110-20260416T072000@VHSBÖBLINGEN-SINDELFINGEN
SUMMARY:Bauch Challenge in 30 Tagen (V83023110) 
LOCATION:Online vhs, edudip, Online vhs
END:VEVENT
BEGIN:VEVENT
DTSTAMP:20260421T022754
DTSTART;TZID=Europe/Berlin:20260417T072000
DTEND;TZID=Europe/Berlin:20260417T073500
UID:V83023110-20260417T072000@VHSBÖBLINGEN-SINDELFINGEN
SUMMARY:Bauch Challenge in 30 Tagen (V83023110) 
LOCATION:Online vhs, edudip, Online vhs
END:VEVENT
BEGIN:VEVENT
DTSTAMP:20260421T022754
DTSTART;TZID=Europe/Berlin:20260420T072000
DTEND;TZID=Europe/Berlin:20260420T073500
UID:V83023110-20260420T072000@VHSBÖBLINGEN-SINDELFINGEN
SUMMARY:Bauch Challenge in 30 Tagen (V83023110) 
LOCATION:Online vhs, edudip, Online vhs
END:VEVENT
BEGIN:VEVENT
DTSTAMP:20260421T022754
DTSTART;TZID=Europe/Berlin:20260421T072000
DTEND;TZID=Europe/Berlin:20260421T073500
UID:V83023110-20260421T072000@VHSBÖBLINGEN-SINDELFINGEN
SUMMARY:Bauch Challenge in 30 Tagen (V83023110) 
LOCATION:Online vhs, edudip, Online vhs
END:VEVENT
BEGIN:VEVENT
DTSTAMP:20260421T022754
DTSTART;TZID=Europe/Berlin:20260422T072000
DTEND;TZID=Europe/Berlin:20260422T073500
UID:V83023110-20260422T072000@VHSBÖBLINGEN-SINDELFINGEN
SUMMARY:Bauch Challenge in 30 Tagen (V83023110) 
LOCATION:Online vhs, edudip, Online vhs
END:VEVENT
BEGIN:VEVENT
DTSTAMP:20260421T022754
DTSTART;TZID=Europe/Berlin:20260423T072000
DTEND;TZID=Europe/Berlin:20260423T073500
UID:V83023110-20260423T072000@VHSBÖBLINGEN-SINDELFINGEN
SUMMARY:Bauch Challenge in 30 Tagen (V83023110) 
LOCATION:Online vhs, edudip, Online vhs
END:VEVENT
BEGIN:VEVENT
DTSTAMP:20260421T022754
DTSTART;TZID=Europe/Berlin:20260424T072000
DTEND;TZID=Europe/Berlin:20260424T073500
UID:V83023110-20260424T072000@VHSBÖBLINGEN-SINDELFINGEN
SUMMARY:Bauch Challenge in 30 Tagen (V83023110) 
LOCATION:Online vhs, edudip, Online vhs
END:VEVENT
BEGIN:VEVENT
DTSTAMP:20260421T022754
DTSTART;TZID=Europe/Berlin:20260427T072000
DTEND;TZID=Europe/Berlin:20260427T073500
UID:V83023110-20260427T072000@VHSBÖBLINGEN-SINDELFINGEN
SUMMARY:Bauch Challenge in 30 Tagen (V83023110) 
LOCATION:Online vhs, edudip, Online vhs
END:VEVENT
BEGIN:VEVENT
DTSTAMP:20260421T022754
DTSTART;TZID=Europe/Berlin:20260428T072000
DTEND;TZID=Europe/Berlin:20260428T073500
UID:V83023110-20260428T072000@VHSBÖBLINGEN-SINDELFINGEN
SUMMARY:Bauch Challenge in 30 Tagen (V83023110) 
LOCATION:Online vhs, edudip, Online vhs
END:VEVENT
BEGIN:VEVENT
DTSTAMP:20260421T022754
DTSTART;TZID=Europe/Berlin:20260429T072000
DTEND;TZID=Europe/Berlin:20260429T073500
UID:V83023110-20260429T072000@VHSBÖBLINGEN-SINDELFINGEN
SUMMARY:Bauch Challenge in 30 Tagen (V83023110) 
LOCATION:Online vhs, edudip, Online vhs
END:VEVENT
BEGIN:VEVENT
DTSTAMP:20260421T022754
DTSTART;TZID=Europe/Berlin:20260430T072000
DTEND;TZID=Europe/Berlin:20260430T073500
UID:V83023110-20260430T072000@VHSBÖBLINGEN-SINDELFINGEN
SUMMARY:Bauch Challenge in 30 Tagen (V83023110) 
LOCATION:Online vhs, edudip, Online vhs
END:VEVENT
END:VCALENDAR