BEGIN:VCALENDAR
VERSION:2.0
PRODID:https://www.kufer.de/kuferweb / DE
METHOD:PUBLISH
CALSCALE:GREGORIAN
X-WR-TIMEZONE:Europe/Berlin
BEGIN:VTIMEZONE
TZID:Europe/Berlin
X-LIC-LOCATION:Europe/Berlin
BEGIN:DAYLIGHT
TZOFFSETFROM:+0100
TZOFFSETTO:+0200
TZNAME:CEST
DTSTART:19700329T020000
RRULE:FREQ=YEARLY;INTERVAL=1;BYDAY=-1SU;BYMONTH=3
END:DAYLIGHT
BEGIN:STANDARD
TZOFFSETFROM:+0200
TZOFFSETTO:+0100
TZNAME:CET
DTSTART:19701025T030000
RRULE:FREQ=YEARLY;INTERVAL=1;BYDAY=-1SU;BYMONTH=10
END:STANDARD
END:VTIMEZONE
BEGIN:VEVENT
DTSTAMP:20260421T003217
DTSTART;TZID=Europe/Berlin:20260302T072000
DTEND;TZID=Europe/Berlin:20260302T073500
UID:V83023010-20260302T072000@VHSBÖBLINGEN-SINDELFINGEN
SUMMARY:Bauch Challenge in 30 Tagen (V83023010) 
LOCATION:Online vhs, edudip, Online vhs
END:VEVENT
BEGIN:VEVENT
DTSTAMP:20260421T003217
DTSTART;TZID=Europe/Berlin:20260303T072000
DTEND;TZID=Europe/Berlin:20260303T073500
UID:V83023010-20260303T072000@VHSBÖBLINGEN-SINDELFINGEN
SUMMARY:Bauch Challenge in 30 Tagen (V83023010) 
LOCATION:Online vhs, edudip, Online vhs
END:VEVENT
BEGIN:VEVENT
DTSTAMP:20260421T003217
DTSTART;TZID=Europe/Berlin:20260304T072000
DTEND;TZID=Europe/Berlin:20260304T073500
UID:V83023010-20260304T072000@VHSBÖBLINGEN-SINDELFINGEN
SUMMARY:Bauch Challenge in 30 Tagen (V83023010) 
LOCATION:Online vhs, edudip, Online vhs
END:VEVENT
BEGIN:VEVENT
DTSTAMP:20260421T003217
DTSTART;TZID=Europe/Berlin:20260305T072000
DTEND;TZID=Europe/Berlin:20260305T073500
UID:V83023010-20260305T072000@VHSBÖBLINGEN-SINDELFINGEN
SUMMARY:Bauch Challenge in 30 Tagen (V83023010) 
LOCATION:Online vhs, edudip, Online vhs
END:VEVENT
BEGIN:VEVENT
DTSTAMP:20260421T003217
DTSTART;TZID=Europe/Berlin:20260306T072000
DTEND;TZID=Europe/Berlin:20260306T073500
UID:V83023010-20260306T072000@VHSBÖBLINGEN-SINDELFINGEN
SUMMARY:Bauch Challenge in 30 Tagen (V83023010) 
LOCATION:Online vhs, edudip, Online vhs
END:VEVENT
BEGIN:VEVENT
DTSTAMP:20260421T003217
DTSTART;TZID=Europe/Berlin:20260309T072000
DTEND;TZID=Europe/Berlin:20260309T073500
UID:V83023010-20260309T072000@VHSBÖBLINGEN-SINDELFINGEN
SUMMARY:Bauch Challenge in 30 Tagen (V83023010) 
LOCATION:Online vhs, edudip, Online vhs
END:VEVENT
BEGIN:VEVENT
DTSTAMP:20260421T003217
DTSTART;TZID=Europe/Berlin:20260310T072000
DTEND;TZID=Europe/Berlin:20260310T073500
UID:V83023010-20260310T072000@VHSBÖBLINGEN-SINDELFINGEN
SUMMARY:Bauch Challenge in 30 Tagen (V83023010) 
LOCATION:Online vhs, edudip, Online vhs
END:VEVENT
BEGIN:VEVENT
DTSTAMP:20260421T003217
DTSTART;TZID=Europe/Berlin:20260311T072000
DTEND;TZID=Europe/Berlin:20260311T073500
UID:V83023010-20260311T072000@VHSBÖBLINGEN-SINDELFINGEN
SUMMARY:Bauch Challenge in 30 Tagen (V83023010) 
LOCATION:Online vhs, edudip, Online vhs
END:VEVENT
BEGIN:VEVENT
DTSTAMP:20260421T003217
DTSTART;TZID=Europe/Berlin:20260312T072000
DTEND;TZID=Europe/Berlin:20260312T073500
UID:V83023010-20260312T072000@VHSBÖBLINGEN-SINDELFINGEN
SUMMARY:Bauch Challenge in 30 Tagen (V83023010) 
LOCATION:Online vhs, edudip, Online vhs
END:VEVENT
BEGIN:VEVENT
DTSTAMP:20260421T003217
DTSTART;TZID=Europe/Berlin:20260313T072000
DTEND;TZID=Europe/Berlin:20260313T073500
UID:V83023010-20260313T072000@VHSBÖBLINGEN-SINDELFINGEN
SUMMARY:Bauch Challenge in 30 Tagen (V83023010) 
LOCATION:Online vhs, edudip, Online vhs
END:VEVENT
BEGIN:VEVENT
DTSTAMP:20260421T003217
DTSTART;TZID=Europe/Berlin:20260316T072000
DTEND;TZID=Europe/Berlin:20260316T073500
UID:V83023010-20260316T072000@VHSBÖBLINGEN-SINDELFINGEN
SUMMARY:Bauch Challenge in 30 Tagen (V83023010) 
LOCATION:Online vhs, edudip, Online vhs
END:VEVENT
BEGIN:VEVENT
DTSTAMP:20260421T003217
DTSTART;TZID=Europe/Berlin:20260317T072000
DTEND;TZID=Europe/Berlin:20260317T073500
UID:V83023010-20260317T072000@VHSBÖBLINGEN-SINDELFINGEN
SUMMARY:Bauch Challenge in 30 Tagen (V83023010) 
LOCATION:Online vhs, edudip, Online vhs
END:VEVENT
BEGIN:VEVENT
DTSTAMP:20260421T003217
DTSTART;TZID=Europe/Berlin:20260318T072000
DTEND;TZID=Europe/Berlin:20260318T073500
UID:V83023010-20260318T072000@VHSBÖBLINGEN-SINDELFINGEN
SUMMARY:Bauch Challenge in 30 Tagen (V83023010) 
LOCATION:Online vhs, edudip, Online vhs
END:VEVENT
BEGIN:VEVENT
DTSTAMP:20260421T003217
DTSTART;TZID=Europe/Berlin:20260319T072000
DTEND;TZID=Europe/Berlin:20260319T073500
UID:V83023010-20260319T072000@VHSBÖBLINGEN-SINDELFINGEN
SUMMARY:Bauch Challenge in 30 Tagen (V83023010) 
LOCATION:Online vhs, edudip, Online vhs
END:VEVENT
BEGIN:VEVENT
DTSTAMP:20260421T003217
DTSTART;TZID=Europe/Berlin:20260320T072000
DTEND;TZID=Europe/Berlin:20260320T073500
UID:V83023010-20260320T072000@VHSBÖBLINGEN-SINDELFINGEN
SUMMARY:Bauch Challenge in 30 Tagen (V83023010) 
LOCATION:Online vhs, edudip, Online vhs
END:VEVENT
BEGIN:VEVENT
DTSTAMP:20260421T003217
DTSTART;TZID=Europe/Berlin:20260323T072000
DTEND;TZID=Europe/Berlin:20260323T073500
UID:V83023010-20260323T072000@VHSBÖBLINGEN-SINDELFINGEN
SUMMARY:Bauch Challenge in 30 Tagen (V83023010) 
LOCATION:Online vhs, edudip, Online vhs
END:VEVENT
BEGIN:VEVENT
DTSTAMP:20260421T003217
DTSTART;TZID=Europe/Berlin:20260324T072000
DTEND;TZID=Europe/Berlin:20260324T073500
UID:V83023010-20260324T072000@VHSBÖBLINGEN-SINDELFINGEN
SUMMARY:Bauch Challenge in 30 Tagen (V83023010) 
LOCATION:Online vhs, edudip, Online vhs
END:VEVENT
BEGIN:VEVENT
DTSTAMP:20260421T003217
DTSTART;TZID=Europe/Berlin:20260325T072000
DTEND;TZID=Europe/Berlin:20260325T073500
UID:V83023010-20260325T072000@VHSBÖBLINGEN-SINDELFINGEN
SUMMARY:Bauch Challenge in 30 Tagen (V83023010) 
LOCATION:Online vhs, edudip, Online vhs
END:VEVENT
BEGIN:VEVENT
DTSTAMP:20260421T003217
DTSTART;TZID=Europe/Berlin:20260326T072000
DTEND;TZID=Europe/Berlin:20260326T073500
UID:V83023010-20260326T072000@VHSBÖBLINGEN-SINDELFINGEN
SUMMARY:Bauch Challenge in 30 Tagen (V83023010) 
LOCATION:Online vhs, edudip, Online vhs
END:VEVENT
BEGIN:VEVENT
DTSTAMP:20260421T003217
DTSTART;TZID=Europe/Berlin:20260327T072000
DTEND;TZID=Europe/Berlin:20260327T073500
UID:V83023010-20260327T072000@VHSBÖBLINGEN-SINDELFINGEN
SUMMARY:Bauch Challenge in 30 Tagen (V83023010) 
LOCATION:Online vhs, edudip, Online vhs
END:VEVENT
BEGIN:VEVENT
DTSTAMP:20260421T003217
DTSTART;TZID=Europe/Berlin:20260330T072000
DTEND;TZID=Europe/Berlin:20260330T073500
UID:V83023010-20260330T072000@VHSBÖBLINGEN-SINDELFINGEN
SUMMARY:Bauch Challenge in 30 Tagen (V83023010) 
LOCATION:Online vhs, edudip, Online vhs
END:VEVENT
BEGIN:VEVENT
DTSTAMP:20260421T003217
DTSTART;TZID=Europe/Berlin:20260331T072000
DTEND;TZID=Europe/Berlin:20260331T073500
UID:V83023010-20260331T072000@VHSBÖBLINGEN-SINDELFINGEN
SUMMARY:Bauch Challenge in 30 Tagen (V83023010) 
LOCATION:Online vhs, edudip, Online vhs
END:VEVENT
END:VCALENDAR