BEGIN:VCALENDAR
VERSION:2.0
PRODID:https://www.kufer.de/kuferweb / DE
METHOD:PUBLISH
CALSCALE:GREGORIAN
X-WR-TIMEZONE:Europe/Berlin
BEGIN:VTIMEZONE
TZID:Europe/Berlin
X-LIC-LOCATION:Europe/Berlin
BEGIN:DAYLIGHT
TZOFFSETFROM:+0100
TZOFFSETTO:+0200
TZNAME:CEST
DTSTART:19700329T020000
RRULE:FREQ=YEARLY;INTERVAL=1;BYDAY=-1SU;BYMONTH=3
END:DAYLIGHT
BEGIN:STANDARD
TZOFFSETFROM:+0200
TZOFFSETTO:+0100
TZNAME:CET
DTSTART:19701025T030000
RRULE:FREQ=YEARLY;INTERVAL=1;BYDAY=-1SU;BYMONTH=10
END:STANDARD
END:VTIMEZONE
BEGIN:VEVENT
DTSTAMP:20260420T220504
DTSTART;TZID=Europe/Berlin:20260407T090000
DTEND;TZID=Europe/Berlin:20260407T094500
UID:V83022110-20260407T090000@VHSBÖBLINGEN-SINDELFINGEN
SUMMARY:Qi Gong – bewegter Start in den Tag (V83022110) 
LOCATION:Online vhs, edudip, Online vhs
END:VEVENT
BEGIN:VEVENT
DTSTAMP:20260420T220504
DTSTART;TZID=Europe/Berlin:20260414T090000
DTEND;TZID=Europe/Berlin:20260414T094500
UID:V83022110-20260414T090000@VHSBÖBLINGEN-SINDELFINGEN
SUMMARY:Qi Gong – bewegter Start in den Tag (V83022110) 
LOCATION:Online vhs, edudip, Online vhs
END:VEVENT
BEGIN:VEVENT
DTSTAMP:20260420T220504
DTSTART;TZID=Europe/Berlin:20260421T090000
DTEND;TZID=Europe/Berlin:20260421T094500
UID:V83022110-20260421T090000@VHSBÖBLINGEN-SINDELFINGEN
SUMMARY:Qi Gong – bewegter Start in den Tag (V83022110) 
LOCATION:Online vhs, edudip, Online vhs
END:VEVENT
BEGIN:VEVENT
DTSTAMP:20260420T220504
DTSTART;TZID=Europe/Berlin:20260428T090000
DTEND;TZID=Europe/Berlin:20260428T094500
UID:V83022110-20260428T090000@VHSBÖBLINGEN-SINDELFINGEN
SUMMARY:Qi Gong – bewegter Start in den Tag (V83022110) 
LOCATION:Online vhs, edudip, Online vhs
END:VEVENT
END:VCALENDAR