BEGIN:VCALENDAR
VERSION:2.0
PRODID:https://www.kufer.de/kuferweb / DE
METHOD:PUBLISH
CALSCALE:GREGORIAN
X-WR-TIMEZONE:Europe/Berlin
BEGIN:VTIMEZONE
TZID:Europe/Berlin
X-LIC-LOCATION:Europe/Berlin
BEGIN:DAYLIGHT
TZOFFSETFROM:+0100
TZOFFSETTO:+0200
TZNAME:CEST
DTSTART:19700329T020000
RRULE:FREQ=YEARLY;INTERVAL=1;BYDAY=-1SU;BYMONTH=3
END:DAYLIGHT
BEGIN:STANDARD
TZOFFSETFROM:+0200
TZOFFSETTO:+0100
TZNAME:CET
DTSTART:19701025T030000
RRULE:FREQ=YEARLY;INTERVAL=1;BYDAY=-1SU;BYMONTH=10
END:STANDARD
END:VTIMEZONE
BEGIN:VEVENT
DTSTAMP:20260421T090030
DTSTART;TZID=Europe/Berlin:20260303T090000
DTEND;TZID=Europe/Berlin:20260303T094500
UID:V83022010-20260303T090000@VHSBÖBLINGEN-SINDELFINGEN
SUMMARY:Qi Gong – bewegter Start in den Tag (V83022010) 
LOCATION:Online vhs, edudip, Online vhs
END:VEVENT
BEGIN:VEVENT
DTSTAMP:20260421T090030
DTSTART;TZID=Europe/Berlin:20260310T090000
DTEND;TZID=Europe/Berlin:20260310T094500
UID:V83022010-20260310T090000@VHSBÖBLINGEN-SINDELFINGEN
SUMMARY:Qi Gong – bewegter Start in den Tag (V83022010) 
LOCATION:Online vhs, edudip, Online vhs
END:VEVENT
BEGIN:VEVENT
DTSTAMP:20260421T090030
DTSTART;TZID=Europe/Berlin:20260317T090000
DTEND;TZID=Europe/Berlin:20260317T094500
UID:V83022010-20260317T090000@VHSBÖBLINGEN-SINDELFINGEN
SUMMARY:Qi Gong – bewegter Start in den Tag (V83022010) 
LOCATION:Online vhs, edudip, Online vhs
END:VEVENT
BEGIN:VEVENT
DTSTAMP:20260421T090030
DTSTART;TZID=Europe/Berlin:20260324T090000
DTEND;TZID=Europe/Berlin:20260324T094500
UID:V83022010-20260324T090000@VHSBÖBLINGEN-SINDELFINGEN
SUMMARY:Qi Gong – bewegter Start in den Tag (V83022010) 
LOCATION:Online vhs, edudip, Online vhs
END:VEVENT
BEGIN:VEVENT
DTSTAMP:20260421T090030
DTSTART;TZID=Europe/Berlin:20260331T090000
DTEND;TZID=Europe/Berlin:20260331T094500
UID:V83022010-20260331T090000@VHSBÖBLINGEN-SINDELFINGEN
SUMMARY:Qi Gong – bewegter Start in den Tag (V83022010) 
LOCATION:Online vhs, edudip, Online vhs
END:VEVENT
END:VCALENDAR