BEGIN:VCALENDAR
VERSION:2.0
PRODID:https://www.kufer.de/kuferweb / DE
METHOD:PUBLISH
CALSCALE:GREGORIAN
X-WR-TIMEZONE:Europe/Berlin
BEGIN:VTIMEZONE
TZID:Europe/Berlin
X-LIC-LOCATION:Europe/Berlin
BEGIN:DAYLIGHT
TZOFFSETFROM:+0100
TZOFFSETTO:+0200
TZNAME:CEST
DTSTART:19700329T020000
RRULE:FREQ=YEARLY;INTERVAL=1;BYDAY=-1SU;BYMONTH=3
END:DAYLIGHT
BEGIN:STANDARD
TZOFFSETFROM:+0200
TZOFFSETTO:+0100
TZNAME:CET
DTSTART:19701025T030000
RRULE:FREQ=YEARLY;INTERVAL=1;BYDAY=-1SU;BYMONTH=10
END:STANDARD
END:VTIMEZONE
BEGIN:VEVENT
DTSTAMP:20260420T175610
DTSTART;TZID=Europe/Berlin:20260225T090000
DTEND;TZID=Europe/Berlin:20260225T094500
UID:V83020210-20260225T090000@VHSBÖBLINGEN-SINDELFINGEN
SUMMARY:TriloChi® (V83020210) 
LOCATION:Online vhs
END:VEVENT
BEGIN:VEVENT
DTSTAMP:20260420T175610
DTSTART;TZID=Europe/Berlin:20260304T090000
DTEND;TZID=Europe/Berlin:20260304T094500
UID:V83020210-20260304T090000@VHSBÖBLINGEN-SINDELFINGEN
SUMMARY:TriloChi® (V83020210) 
LOCATION:Online vhs
END:VEVENT
BEGIN:VEVENT
DTSTAMP:20260420T175610
DTSTART;TZID=Europe/Berlin:20260311T090000
DTEND;TZID=Europe/Berlin:20260311T094500
UID:V83020210-20260311T090000@VHSBÖBLINGEN-SINDELFINGEN
SUMMARY:TriloChi® (V83020210) 
LOCATION:Online vhs
END:VEVENT
BEGIN:VEVENT
DTSTAMP:20260420T175610
DTSTART;TZID=Europe/Berlin:20260325T090000
DTEND;TZID=Europe/Berlin:20260325T094500
UID:V83020210-20260325T090000@VHSBÖBLINGEN-SINDELFINGEN
SUMMARY:TriloChi® (V83020210) 
LOCATION:Online vhs
END:VEVENT
END:VCALENDAR