BEGIN:VCALENDAR
VERSION:2.0
PRODID:https://www.kufer.de/kuferweb / DE
METHOD:PUBLISH
CALSCALE:GREGORIAN
X-WR-TIMEZONE:Europe/Berlin
BEGIN:VTIMEZONE
TZID:Europe/Berlin
X-LIC-LOCATION:Europe/Berlin
BEGIN:DAYLIGHT
TZOFFSETFROM:+0100
TZOFFSETTO:+0200
TZNAME:CEST
DTSTART:19700329T020000
RRULE:FREQ=YEARLY;INTERVAL=1;BYDAY=-1SU;BYMONTH=3
END:DAYLIGHT
BEGIN:STANDARD
TZOFFSETFROM:+0200
TZOFFSETTO:+0100
TZNAME:CET
DTSTART:19701025T030000
RRULE:FREQ=YEARLY;INTERVAL=1;BYDAY=-1SU;BYMONTH=10
END:STANDARD
END:VTIMEZONE
BEGIN:VEVENT
DTSTAMP:20260421T110558
DTSTART;TZID=Europe/Berlin:20260612T100000
DTEND;TZID=Europe/Berlin:20260612T103000
UID:V82046010-20260612T100000@VHSBÖBLINGEN-SINDELFINGEN
SUMMARY:Klavier zuhause lernen  Online-Einzelunterricht für Erwachsene, Jugendliche und Kinder ab 7 Jahren (V82046010) 
LOCATION:Online vhs, Warschau (Alfaview), Online vhs
END:VEVENT
BEGIN:VEVENT
DTSTAMP:20260421T110558
DTSTART;TZID=Europe/Berlin:20260619T100000
DTEND;TZID=Europe/Berlin:20260619T103000
UID:V82046010-20260619T100000@VHSBÖBLINGEN-SINDELFINGEN
SUMMARY:Klavier zuhause lernen  Online-Einzelunterricht für Erwachsene, Jugendliche und Kinder ab 7 Jahren (V82046010) 
LOCATION:Online vhs, Warschau (Alfaview), Online vhs
END:VEVENT
BEGIN:VEVENT
DTSTAMP:20260421T110558
DTSTART;TZID=Europe/Berlin:20260626T100000
DTEND;TZID=Europe/Berlin:20260626T103000
UID:V82046010-20260626T100000@VHSBÖBLINGEN-SINDELFINGEN
SUMMARY:Klavier zuhause lernen  Online-Einzelunterricht für Erwachsene, Jugendliche und Kinder ab 7 Jahren (V82046010) 
LOCATION:Online vhs, Warschau (Alfaview), Online vhs
END:VEVENT
BEGIN:VEVENT
DTSTAMP:20260421T110558
DTSTART;TZID=Europe/Berlin:20260703T100000
DTEND;TZID=Europe/Berlin:20260703T103000
UID:V82046010-20260703T100000@VHSBÖBLINGEN-SINDELFINGEN
SUMMARY:Klavier zuhause lernen  Online-Einzelunterricht für Erwachsene, Jugendliche und Kinder ab 7 Jahren (V82046010) 
LOCATION:Online vhs, Warschau (Alfaview), Online vhs
END:VEVENT
BEGIN:VEVENT
DTSTAMP:20260421T110558
DTSTART;TZID=Europe/Berlin:20260710T100000
DTEND;TZID=Europe/Berlin:20260710T103000
UID:V82046010-20260710T100000@VHSBÖBLINGEN-SINDELFINGEN
SUMMARY:Klavier zuhause lernen  Online-Einzelunterricht für Erwachsene, Jugendliche und Kinder ab 7 Jahren (V82046010) 
LOCATION:Online vhs, Warschau (Alfaview), Online vhs
END:VEVENT
BEGIN:VEVENT
DTSTAMP:20260421T110558
DTSTART;TZID=Europe/Berlin:20260717T100000
DTEND;TZID=Europe/Berlin:20260717T103000
UID:V82046010-20260717T100000@VHSBÖBLINGEN-SINDELFINGEN
SUMMARY:Klavier zuhause lernen  Online-Einzelunterricht für Erwachsene, Jugendliche und Kinder ab 7 Jahren (V82046010) 
LOCATION:Online vhs, Warschau (Alfaview), Online vhs
END:VEVENT
BEGIN:VEVENT
DTSTAMP:20260421T110558
DTSTART;TZID=Europe/Berlin:20260724T100000
DTEND;TZID=Europe/Berlin:20260724T103000
UID:V82046010-20260724T100000@VHSBÖBLINGEN-SINDELFINGEN
SUMMARY:Klavier zuhause lernen  Online-Einzelunterricht für Erwachsene, Jugendliche und Kinder ab 7 Jahren (V82046010) 
LOCATION:Online vhs, Warschau (Alfaview), Online vhs
END:VEVENT
END:VCALENDAR