BEGIN:VCALENDAR
VERSION:2.0
PRODID:https://www.kufer.de/kuferweb / DE
METHOD:PUBLISH
CALSCALE:GREGORIAN
X-WR-TIMEZONE:Europe/Berlin
BEGIN:VTIMEZONE
TZID:Europe/Berlin
X-LIC-LOCATION:Europe/Berlin
BEGIN:DAYLIGHT
TZOFFSETFROM:+0100
TZOFFSETTO:+0200
TZNAME:CEST
DTSTART:19700329T020000
RRULE:FREQ=YEARLY;INTERVAL=1;BYDAY=-1SU;BYMONTH=3
END:DAYLIGHT
BEGIN:STANDARD
TZOFFSETFROM:+0200
TZOFFSETTO:+0100
TZNAME:CET
DTSTART:19701025T030000
RRULE:FREQ=YEARLY;INTERVAL=1;BYDAY=-1SU;BYMONTH=10
END:STANDARD
END:VTIMEZONE
BEGIN:VEVENT
DTSTAMP:20260421T150741
DTSTART;TZID=Europe/Berlin:20260608T183000
DTEND;TZID=Europe/Berlin:20260608T190000
UID:V82045010-20260608T183000@VHSBÖBLINGEN-SINDELFINGEN
SUMMARY:Klavier zuhause lernen  Online-Einzelunterricht für Erwachsene, Jugendliche und Kinder ab 7 Jahren (V82045010) 
LOCATION:Online vhs, Warschau (Alfaview), Online vhs
END:VEVENT
BEGIN:VEVENT
DTSTAMP:20260421T150741
DTSTART;TZID=Europe/Berlin:20260615T183000
DTEND;TZID=Europe/Berlin:20260615T190000
UID:V82045010-20260615T183000@VHSBÖBLINGEN-SINDELFINGEN
SUMMARY:Klavier zuhause lernen  Online-Einzelunterricht für Erwachsene, Jugendliche und Kinder ab 7 Jahren (V82045010) 
LOCATION:Online vhs, Warschau (Alfaview), Online vhs
END:VEVENT
BEGIN:VEVENT
DTSTAMP:20260421T150741
DTSTART;TZID=Europe/Berlin:20260622T183000
DTEND;TZID=Europe/Berlin:20260622T190000
UID:V82045010-20260622T183000@VHSBÖBLINGEN-SINDELFINGEN
SUMMARY:Klavier zuhause lernen  Online-Einzelunterricht für Erwachsene, Jugendliche und Kinder ab 7 Jahren (V82045010) 
LOCATION:Online vhs, Warschau (Alfaview), Online vhs
END:VEVENT
BEGIN:VEVENT
DTSTAMP:20260421T150741
DTSTART;TZID=Europe/Berlin:20260629T183000
DTEND;TZID=Europe/Berlin:20260629T190000
UID:V82045010-20260629T183000@VHSBÖBLINGEN-SINDELFINGEN
SUMMARY:Klavier zuhause lernen  Online-Einzelunterricht für Erwachsene, Jugendliche und Kinder ab 7 Jahren (V82045010) 
LOCATION:Online vhs, Warschau (Alfaview), Online vhs
END:VEVENT
BEGIN:VEVENT
DTSTAMP:20260421T150741
DTSTART;TZID=Europe/Berlin:20260706T183000
DTEND;TZID=Europe/Berlin:20260706T190000
UID:V82045010-20260706T183000@VHSBÖBLINGEN-SINDELFINGEN
SUMMARY:Klavier zuhause lernen  Online-Einzelunterricht für Erwachsene, Jugendliche und Kinder ab 7 Jahren (V82045010) 
LOCATION:Online vhs, Warschau (Alfaview), Online vhs
END:VEVENT
BEGIN:VEVENT
DTSTAMP:20260421T150741
DTSTART;TZID=Europe/Berlin:20260713T183000
DTEND;TZID=Europe/Berlin:20260713T190000
UID:V82045010-20260713T183000@VHSBÖBLINGEN-SINDELFINGEN
SUMMARY:Klavier zuhause lernen  Online-Einzelunterricht für Erwachsene, Jugendliche und Kinder ab 7 Jahren (V82045010) 
LOCATION:Online vhs, Warschau (Alfaview), Online vhs
END:VEVENT
BEGIN:VEVENT
DTSTAMP:20260421T150741
DTSTART;TZID=Europe/Berlin:20260720T183000
DTEND;TZID=Europe/Berlin:20260720T190000
UID:V82045010-20260720T183000@VHSBÖBLINGEN-SINDELFINGEN
SUMMARY:Klavier zuhause lernen  Online-Einzelunterricht für Erwachsene, Jugendliche und Kinder ab 7 Jahren (V82045010) 
LOCATION:Online vhs, Warschau (Alfaview), Online vhs
END:VEVENT
END:VCALENDAR