BEGIN:VCALENDAR
VERSION:2.0
PRODID:https://www.kufer.de/kuferweb / DE
METHOD:PUBLISH
CALSCALE:GREGORIAN
X-WR-TIMEZONE:Europe/Berlin
BEGIN:VTIMEZONE
TZID:Europe/Berlin
X-LIC-LOCATION:Europe/Berlin
BEGIN:DAYLIGHT
TZOFFSETFROM:+0100
TZOFFSETTO:+0200
TZNAME:CEST
DTSTART:19700329T020000
RRULE:FREQ=YEARLY;INTERVAL=1;BYDAY=-1SU;BYMONTH=3
END:DAYLIGHT
BEGIN:STANDARD
TZOFFSETFROM:+0200
TZOFFSETTO:+0100
TZNAME:CET
DTSTART:19701025T030000
RRULE:FREQ=YEARLY;INTERVAL=1;BYDAY=-1SU;BYMONTH=10
END:STANDARD
END:VTIMEZONE
BEGIN:VEVENT
DTSTAMP:20260421T134852
DTSTART;TZID=Europe/Berlin:20260227T110000
DTEND;TZID=Europe/Berlin:20260227T113000
UID:V82042110-20260227T110000@VHSBÖBLINGEN-SINDELFINGEN
SUMMARY:Klavier zuhause lernen  Online-Einzelunterricht für Erwachsene, Jugendliche und Kinder ab 7 Jahren (V82042110) 
LOCATION:Online vhs, Warschau (Alfaview), Online vhs
END:VEVENT
BEGIN:VEVENT
DTSTAMP:20260421T134852
DTSTART;TZID=Europe/Berlin:20260306T110000
DTEND;TZID=Europe/Berlin:20260306T113000
UID:V82042110-20260306T110000@VHSBÖBLINGEN-SINDELFINGEN
SUMMARY:Klavier zuhause lernen  Online-Einzelunterricht für Erwachsene, Jugendliche und Kinder ab 7 Jahren (V82042110) 
LOCATION:Online vhs, Warschau (Alfaview), Online vhs
END:VEVENT
BEGIN:VEVENT
DTSTAMP:20260421T134852
DTSTART;TZID=Europe/Berlin:20260313T110000
DTEND;TZID=Europe/Berlin:20260313T113000
UID:V82042110-20260313T110000@VHSBÖBLINGEN-SINDELFINGEN
SUMMARY:Klavier zuhause lernen  Online-Einzelunterricht für Erwachsene, Jugendliche und Kinder ab 7 Jahren (V82042110) 
LOCATION:Online vhs, Warschau (Alfaview), Online vhs
END:VEVENT
BEGIN:VEVENT
DTSTAMP:20260421T134852
DTSTART;TZID=Europe/Berlin:20260320T110000
DTEND;TZID=Europe/Berlin:20260320T113000
UID:V82042110-20260320T110000@VHSBÖBLINGEN-SINDELFINGEN
SUMMARY:Klavier zuhause lernen  Online-Einzelunterricht für Erwachsene, Jugendliche und Kinder ab 7 Jahren (V82042110) 
LOCATION:Online vhs, Warschau (Alfaview), Online vhs
END:VEVENT
BEGIN:VEVENT
DTSTAMP:20260421T134852
DTSTART;TZID=Europe/Berlin:20260327T110000
DTEND;TZID=Europe/Berlin:20260327T113000
UID:V82042110-20260327T110000@VHSBÖBLINGEN-SINDELFINGEN
SUMMARY:Klavier zuhause lernen  Online-Einzelunterricht für Erwachsene, Jugendliche und Kinder ab 7 Jahren (V82042110) 
LOCATION:Online vhs, Warschau (Alfaview), Online vhs
END:VEVENT
END:VCALENDAR