BEGIN:VCALENDAR
VERSION:2.0
PRODID:https://www.kufer.de/kuferweb / DE
METHOD:PUBLISH
CALSCALE:GREGORIAN
X-WR-TIMEZONE:Europe/Berlin
BEGIN:VTIMEZONE
TZID:Europe/Berlin
X-LIC-LOCATION:Europe/Berlin
BEGIN:DAYLIGHT
TZOFFSETFROM:+0100
TZOFFSETTO:+0200
TZNAME:CEST
DTSTART:19700329T020000
RRULE:FREQ=YEARLY;INTERVAL=1;BYDAY=-1SU;BYMONTH=3
END:DAYLIGHT
BEGIN:STANDARD
TZOFFSETFROM:+0200
TZOFFSETTO:+0100
TZNAME:CET
DTSTART:19701025T030000
RRULE:FREQ=YEARLY;INTERVAL=1;BYDAY=-1SU;BYMONTH=10
END:STANDARD
END:VTIMEZONE
BEGIN:VEVENT
DTSTAMP:20260421T010840
DTSTART;TZID=Europe/Berlin:20260617T183000
DTEND;TZID=Europe/Berlin:20260617T203000
UID:V82013110-20260617T183000@VHSBÖBLINGEN-SINDELFINGEN
SUMMARY:Fotopoesie  Aus dem Bild heraus geschrieben (V82013110) 
LOCATION:Online vhs, Helsinki (Alfaview), Online vhs
END:VEVENT
BEGIN:VEVENT
DTSTAMP:20260421T010840
DTSTART;TZID=Europe/Berlin:20260624T183000
DTEND;TZID=Europe/Berlin:20260624T203000
UID:V82013110-20260624T183000@VHSBÖBLINGEN-SINDELFINGEN
SUMMARY:Fotopoesie  Aus dem Bild heraus geschrieben (V82013110) 
LOCATION:Online vhs, Helsinki (Alfaview), Online vhs
END:VEVENT
BEGIN:VEVENT
DTSTAMP:20260421T010840
DTSTART;TZID=Europe/Berlin:20260701T183000
DTEND;TZID=Europe/Berlin:20260701T203000
UID:V82013110-20260701T183000@VHSBÖBLINGEN-SINDELFINGEN
SUMMARY:Fotopoesie  Aus dem Bild heraus geschrieben (V82013110) 
LOCATION:Online vhs, Helsinki (Alfaview), Online vhs
END:VEVENT
BEGIN:VEVENT
DTSTAMP:20260421T010840
DTSTART;TZID=Europe/Berlin:20260708T183000
DTEND;TZID=Europe/Berlin:20260708T203000
UID:V82013110-20260708T183000@VHSBÖBLINGEN-SINDELFINGEN
SUMMARY:Fotopoesie  Aus dem Bild heraus geschrieben (V82013110) 
LOCATION:Online vhs, Helsinki (Alfaview), Online vhs
END:VEVENT
END:VCALENDAR