BEGIN:VCALENDAR
VERSION:2.0
PRODID:https://www.kufer.de/kuferweb / DE
METHOD:PUBLISH
CALSCALE:GREGORIAN
X-WR-TIMEZONE:Europe/Berlin
BEGIN:VTIMEZONE
TZID:Europe/Berlin
X-LIC-LOCATION:Europe/Berlin
BEGIN:DAYLIGHT
TZOFFSETFROM:+0100
TZOFFSETTO:+0200
TZNAME:CEST
DTSTART:19700329T020000
RRULE:FREQ=YEARLY;INTERVAL=1;BYDAY=-1SU;BYMONTH=3
END:DAYLIGHT
BEGIN:STANDARD
TZOFFSETFROM:+0200
TZOFFSETTO:+0100
TZNAME:CET
DTSTART:19701025T030000
RRULE:FREQ=YEARLY;INTERVAL=1;BYDAY=-1SU;BYMONTH=10
END:STANDARD
END:VTIMEZONE
BEGIN:VEVENT
DTSTAMP:20260421T024843
DTSTART;TZID=Europe/Berlin:20260623T180000
DTEND;TZID=Europe/Berlin:20260623T193000
UID:V82012110-20260623T180000@VHSBÖBLINGEN-SINDELFINGEN
SUMMARY:Schreibwerkstatt online - Mein Schreibprojekt "Buchreihe" vhs-Online-Kurs in 5 Doppelstunden (V82012110) 
LOCATION:Online vhs, Helsinki (Alfaview), Online vhs
END:VEVENT
BEGIN:VEVENT
DTSTAMP:20260421T024843
DTSTART;TZID=Europe/Berlin:20260630T180000
DTEND;TZID=Europe/Berlin:20260630T193000
UID:V82012110-20260630T180000@VHSBÖBLINGEN-SINDELFINGEN
SUMMARY:Schreibwerkstatt online - Mein Schreibprojekt "Buchreihe" vhs-Online-Kurs in 5 Doppelstunden (V82012110) 
LOCATION:Online vhs, Helsinki (Alfaview), Online vhs
END:VEVENT
BEGIN:VEVENT
DTSTAMP:20260421T024843
DTSTART;TZID=Europe/Berlin:20260707T180000
DTEND;TZID=Europe/Berlin:20260707T193000
UID:V82012110-20260707T180000@VHSBÖBLINGEN-SINDELFINGEN
SUMMARY:Schreibwerkstatt online - Mein Schreibprojekt "Buchreihe" vhs-Online-Kurs in 5 Doppelstunden (V82012110) 
LOCATION:Online vhs, Helsinki (Alfaview), Online vhs
END:VEVENT
BEGIN:VEVENT
DTSTAMP:20260421T024843
DTSTART;TZID=Europe/Berlin:20260714T180000
DTEND;TZID=Europe/Berlin:20260714T193000
UID:V82012110-20260714T180000@VHSBÖBLINGEN-SINDELFINGEN
SUMMARY:Schreibwerkstatt online - Mein Schreibprojekt "Buchreihe" vhs-Online-Kurs in 5 Doppelstunden (V82012110) 
LOCATION:Online vhs, Helsinki (Alfaview), Online vhs
END:VEVENT
BEGIN:VEVENT
DTSTAMP:20260421T024843
DTSTART;TZID=Europe/Berlin:20260721T180000
DTEND;TZID=Europe/Berlin:20260721T193000
UID:V82012110-20260721T180000@VHSBÖBLINGEN-SINDELFINGEN
SUMMARY:Schreibwerkstatt online - Mein Schreibprojekt "Buchreihe" vhs-Online-Kurs in 5 Doppelstunden (V82012110) 
LOCATION:Online vhs, Helsinki (Alfaview), Online vhs
END:VEVENT
END:VCALENDAR