BEGIN:VCALENDAR
VERSION:2.0
PRODID:https://www.kufer.de/kuferweb / DE
METHOD:PUBLISH
CALSCALE:GREGORIAN
X-WR-TIMEZONE:Europe/Berlin
BEGIN:VTIMEZONE
TZID:Europe/Berlin
X-LIC-LOCATION:Europe/Berlin
BEGIN:DAYLIGHT
TZOFFSETFROM:+0100
TZOFFSETTO:+0200
TZNAME:CEST
DTSTART:19700329T020000
RRULE:FREQ=YEARLY;INTERVAL=1;BYDAY=-1SU;BYMONTH=3
END:DAYLIGHT
BEGIN:STANDARD
TZOFFSETFROM:+0200
TZOFFSETTO:+0100
TZNAME:CET
DTSTART:19701025T030000
RRULE:FREQ=YEARLY;INTERVAL=1;BYDAY=-1SU;BYMONTH=10
END:STANDARD
END:VTIMEZONE
BEGIN:VEVENT
DTSTAMP:20260420T180310
DTSTART;TZID=Europe/Berlin:20260626T141500
DTEND;TZID=Europe/Berlin:20260626T164500
UID:V57120010K-20260626T141500@VHSBÖBLINGEN-SINDELFINGEN
SUMMARY:Das MINT-Labor: Mit EV3-Robotern programmieren lernen für Schülerinnen und Schüler von 8 bis 12 Jahren (V57120010K) 
LOCATION:Höfle, 202, 2. OG, Pestalozzistr. 4, 71032 Böblingen
END:VEVENT
BEGIN:VEVENT
DTSTAMP:20260420T180310
DTSTART;TZID=Europe/Berlin:20260703T141500
DTEND;TZID=Europe/Berlin:20260703T164500
UID:V57120010K-20260703T141500@VHSBÖBLINGEN-SINDELFINGEN
SUMMARY:Das MINT-Labor: Mit EV3-Robotern programmieren lernen für Schülerinnen und Schüler von 8 bis 12 Jahren (V57120010K) 
LOCATION:Höfle, 202, 2. OG, Pestalozzistr. 4, 71032 Böblingen
END:VEVENT
BEGIN:VEVENT
DTSTAMP:20260420T180310
DTSTART;TZID=Europe/Berlin:20260710T141500
DTEND;TZID=Europe/Berlin:20260710T164500
UID:V57120010K-20260710T141500@VHSBÖBLINGEN-SINDELFINGEN
SUMMARY:Das MINT-Labor: Mit EV3-Robotern programmieren lernen für Schülerinnen und Schüler von 8 bis 12 Jahren (V57120010K) 
LOCATION:Höfle, 202, 2. OG, Pestalozzistr. 4, 71032 Böblingen
END:VEVENT
END:VCALENDAR