BEGIN:VCALENDAR
VERSION:2.0
PRODID:https://www.kufer.de/kuferweb / DE
METHOD:PUBLISH
CALSCALE:GREGORIAN
X-WR-TIMEZONE:Europe/Berlin
BEGIN:VTIMEZONE
TZID:Europe/Berlin
X-LIC-LOCATION:Europe/Berlin
BEGIN:DAYLIGHT
TZOFFSETFROM:+0100
TZOFFSETTO:+0200
TZNAME:CEST
DTSTART:19700329T020000
RRULE:FREQ=YEARLY;INTERVAL=1;BYDAY=-1SU;BYMONTH=3
END:DAYLIGHT
BEGIN:STANDARD
TZOFFSETFROM:+0200
TZOFFSETTO:+0100
TZNAME:CET
DTSTART:19701025T030000
RRULE:FREQ=YEARLY;INTERVAL=1;BYDAY=-1SU;BYMONTH=10
END:STANDARD
END:VTIMEZONE
BEGIN:VEVENT
DTSTAMP:20260420T212311
DTSTART;TZID=Europe/Berlin:20260407T083000
DTEND;TZID=Europe/Berlin:20260407T100000
UID:V57105010K-20260407T083000@VHSBÖBLINGEN-SINDELFINGEN
SUMMARY:Programmieren mit Scratch für Kinder von 8 bis 11 Jahren (V57105010K) 
LOCATION:Höfle, 104, 1. OG, Pestalozzistr. 4, 71032 Böblingen
END:VEVENT
BEGIN:VEVENT
DTSTAMP:20260420T212311
DTSTART;TZID=Europe/Berlin:20260408T083000
DTEND;TZID=Europe/Berlin:20260408T100000
UID:V57105010K-20260408T083000@VHSBÖBLINGEN-SINDELFINGEN
SUMMARY:Programmieren mit Scratch für Kinder von 8 bis 11 Jahren (V57105010K) 
LOCATION:Höfle, 104, 1. OG, Pestalozzistr. 4, 71032 Böblingen
END:VEVENT
BEGIN:VEVENT
DTSTAMP:20260420T212311
DTSTART;TZID=Europe/Berlin:20260409T083000
DTEND;TZID=Europe/Berlin:20260409T100000
UID:V57105010K-20260409T083000@VHSBÖBLINGEN-SINDELFINGEN
SUMMARY:Programmieren mit Scratch für Kinder von 8 bis 11 Jahren (V57105010K) 
LOCATION:Höfle, 104, 1. OG, Pestalozzistr. 4, 71032 Böblingen
END:VEVENT
BEGIN:VEVENT
DTSTAMP:20260420T212311
DTSTART;TZID=Europe/Berlin:20260410T083000
DTEND;TZID=Europe/Berlin:20260410T100000
UID:V57105010K-20260410T083000@VHSBÖBLINGEN-SINDELFINGEN
SUMMARY:Programmieren mit Scratch für Kinder von 8 bis 11 Jahren (V57105010K) 
LOCATION:Höfle, 104, 1. OG, Pestalozzistr. 4, 71032 Böblingen
END:VEVENT
END:VCALENDAR