BEGIN:VCALENDAR
VERSION:2.0
PRODID:https://www.kufer.de/kuferweb / DE
METHOD:PUBLISH
CALSCALE:GREGORIAN
X-WR-TIMEZONE:Europe/Berlin
BEGIN:VTIMEZONE
TZID:Europe/Berlin
X-LIC-LOCATION:Europe/Berlin
BEGIN:DAYLIGHT
TZOFFSETFROM:+0100
TZOFFSETTO:+0200
TZNAME:CEST
DTSTART:19700329T020000
RRULE:FREQ=YEARLY;INTERVAL=1;BYDAY=-1SU;BYMONTH=3
END:DAYLIGHT
BEGIN:STANDARD
TZOFFSETFROM:+0200
TZOFFSETTO:+0100
TZNAME:CET
DTSTART:19701025T030000
RRULE:FREQ=YEARLY;INTERVAL=1;BYDAY=-1SU;BYMONTH=10
END:STANDARD
END:VTIMEZONE
BEGIN:VEVENT
DTSTAMP:20260420T202252
DTSTART;TZID=Europe/Berlin:20260615T174500
DTEND;TZID=Europe/Berlin:20260615T200000
UID:V54334410-20260615T174500@VHSBÖBLINGEN-SINDELFINGEN
SUMMARY:Computerschreiben: kurz und kompakt (V54334410) 
LOCATION:Höfle, 104, 1. OG, Pestalozzistr. 4, 71032 Böblingen
END:VEVENT
BEGIN:VEVENT
DTSTAMP:20260420T202252
DTSTART;TZID=Europe/Berlin:20260622T174500
DTEND;TZID=Europe/Berlin:20260622T200000
UID:V54334410-20260622T174500@VHSBÖBLINGEN-SINDELFINGEN
SUMMARY:Computerschreiben: kurz und kompakt (V54334410) 
LOCATION:Höfle, 104, 1. OG, Pestalozzistr. 4, 71032 Böblingen
END:VEVENT
BEGIN:VEVENT
DTSTAMP:20260420T202252
DTSTART;TZID=Europe/Berlin:20260629T174500
DTEND;TZID=Europe/Berlin:20260629T200000
UID:V54334410-20260629T174500@VHSBÖBLINGEN-SINDELFINGEN
SUMMARY:Computerschreiben: kurz und kompakt (V54334410) 
LOCATION:Höfle, 104, 1. OG, Pestalozzistr. 4, 71032 Böblingen
END:VEVENT
BEGIN:VEVENT
DTSTAMP:20260420T202252
DTSTART;TZID=Europe/Berlin:20260706T174500
DTEND;TZID=Europe/Berlin:20260706T200000
UID:V54334410-20260706T174500@VHSBÖBLINGEN-SINDELFINGEN
SUMMARY:Computerschreiben: kurz und kompakt (V54334410) 
LOCATION:Höfle, 104, 1. OG, Pestalozzistr. 4, 71032 Böblingen
END:VEVENT
BEGIN:VEVENT
DTSTAMP:20260420T202252
DTSTART;TZID=Europe/Berlin:20260713T174500
DTEND;TZID=Europe/Berlin:20260713T200000
UID:V54334410-20260713T174500@VHSBÖBLINGEN-SINDELFINGEN
SUMMARY:Computerschreiben: kurz und kompakt (V54334410) 
LOCATION:Höfle, 104, 1. OG, Pestalozzistr. 4, 71032 Böblingen
END:VEVENT
BEGIN:VEVENT
DTSTAMP:20260420T202252
DTSTART;TZID=Europe/Berlin:20260720T174500
DTEND;TZID=Europe/Berlin:20260720T200000
UID:V54334410-20260720T174500@VHSBÖBLINGEN-SINDELFINGEN
SUMMARY:Computerschreiben: kurz und kompakt (V54334410) 
LOCATION:Höfle, 104, 1. OG, Pestalozzistr. 4, 71032 Böblingen
END:VEVENT
BEGIN:VEVENT
DTSTAMP:20260420T202252
DTSTART;TZID=Europe/Berlin:20260727T174500
DTEND;TZID=Europe/Berlin:20260727T200000
UID:V54334410-20260727T174500@VHSBÖBLINGEN-SINDELFINGEN
SUMMARY:Computerschreiben: kurz und kompakt (V54334410) 
LOCATION:Höfle, 104, 1. OG, Pestalozzistr. 4, 71032 Böblingen
END:VEVENT
BEGIN:VEVENT
DTSTAMP:20260420T202252
DTSTART;TZID=Europe/Berlin:20260914T174500
DTEND;TZID=Europe/Berlin:20260914T200000
UID:V54334410-20260914T174500@VHSBÖBLINGEN-SINDELFINGEN
SUMMARY:Computerschreiben: kurz und kompakt (V54334410) 
LOCATION:Höfle, 104, 1. OG, Pestalozzistr. 4, 71032 Böblingen
END:VEVENT
END:VCALENDAR