BEGIN:VCALENDAR
VERSION:2.0
PRODID:https://www.kufer.de/kuferweb / DE
METHOD:PUBLISH
CALSCALE:GREGORIAN
X-WR-TIMEZONE:Europe/Berlin
BEGIN:VTIMEZONE
TZID:Europe/Berlin
X-LIC-LOCATION:Europe/Berlin
BEGIN:DAYLIGHT
TZOFFSETFROM:+0100
TZOFFSETTO:+0200
TZNAME:CEST
DTSTART:19700329T020000
RRULE:FREQ=YEARLY;INTERVAL=1;BYDAY=-1SU;BYMONTH=3
END:DAYLIGHT
BEGIN:STANDARD
TZOFFSETFROM:+0200
TZOFFSETTO:+0100
TZNAME:CET
DTSTART:19701025T030000
RRULE:FREQ=YEARLY;INTERVAL=1;BYDAY=-1SU;BYMONTH=10
END:STANDARD
END:VTIMEZONE
BEGIN:VEVENT
DTSTAMP:20260421T230851
DTSTART;TZID=Europe/Berlin:20260302T174500
DTEND;TZID=Europe/Berlin:20260302T210000
UID:V46941010-20260302T174500@VHSBÖBLINGEN-SINDELFINGEN
SUMMARY:Deutsch, B2 (V46941010) 
LOCATION:Höfle, 103, 1. OG, Pestalozzistr. 4, 71032 Böblingen
END:VEVENT
BEGIN:VEVENT
DTSTAMP:20260421T230851
DTSTART;TZID=Europe/Berlin:20260304T174500
DTEND;TZID=Europe/Berlin:20260304T210000
UID:V46941010-20260304T174500@VHSBÖBLINGEN-SINDELFINGEN
SUMMARY:Deutsch, B2 (V46941010) 
LOCATION:Höfle, 103, 1. OG, Pestalozzistr. 4, 71032 Böblingen
END:VEVENT
BEGIN:VEVENT
DTSTAMP:20260421T230851
DTSTART;TZID=Europe/Berlin:20260309T174500
DTEND;TZID=Europe/Berlin:20260309T210000
UID:V46941010-20260309T174500@VHSBÖBLINGEN-SINDELFINGEN
SUMMARY:Deutsch, B2 (V46941010) 
LOCATION:Höfle, 103, 1. OG, Pestalozzistr. 4, 71032 Böblingen
END:VEVENT
BEGIN:VEVENT
DTSTAMP:20260421T230851
DTSTART;TZID=Europe/Berlin:20260311T174500
DTEND;TZID=Europe/Berlin:20260311T210000
UID:V46941010-20260311T174500@VHSBÖBLINGEN-SINDELFINGEN
SUMMARY:Deutsch, B2 (V46941010) 
LOCATION:Höfle, 103, 1. OG, Pestalozzistr. 4, 71032 Böblingen
END:VEVENT
BEGIN:VEVENT
DTSTAMP:20260421T230851
DTSTART;TZID=Europe/Berlin:20260316T174500
DTEND;TZID=Europe/Berlin:20260316T210000
UID:V46941010-20260316T174500@VHSBÖBLINGEN-SINDELFINGEN
SUMMARY:Deutsch, B2 (V46941010) 
LOCATION:Höfle, 103, 1. OG, Pestalozzistr. 4, 71032 Böblingen
END:VEVENT
BEGIN:VEVENT
DTSTAMP:20260421T230851
DTSTART;TZID=Europe/Berlin:20260318T174500
DTEND;TZID=Europe/Berlin:20260318T210000
UID:V46941010-20260318T174500@VHSBÖBLINGEN-SINDELFINGEN
SUMMARY:Deutsch, B2 (V46941010) 
LOCATION:Höfle, 103, 1. OG, Pestalozzistr. 4, 71032 Böblingen
END:VEVENT
BEGIN:VEVENT
DTSTAMP:20260421T230851
DTSTART;TZID=Europe/Berlin:20260323T174500
DTEND;TZID=Europe/Berlin:20260323T210000
UID:V46941010-20260323T174500@VHSBÖBLINGEN-SINDELFINGEN
SUMMARY:Deutsch, B2 (V46941010) 
LOCATION:Höfle, 103, 1. OG, Pestalozzistr. 4, 71032 Böblingen
END:VEVENT
BEGIN:VEVENT
DTSTAMP:20260421T230851
DTSTART;TZID=Europe/Berlin:20260325T174500
DTEND;TZID=Europe/Berlin:20260325T210000
UID:V46941010-20260325T174500@VHSBÖBLINGEN-SINDELFINGEN
SUMMARY:Deutsch, B2 (V46941010) 
LOCATION:Höfle, 103, 1. OG, Pestalozzistr. 4, 71032 Böblingen
END:VEVENT
BEGIN:VEVENT
DTSTAMP:20260421T230851
DTSTART;TZID=Europe/Berlin:20260413T174500
DTEND;TZID=Europe/Berlin:20260413T210000
UID:V46941010-20260413T174500@VHSBÖBLINGEN-SINDELFINGEN
SUMMARY:Deutsch, B2 (V46941010) 
LOCATION:Höfle, 103, 1. OG, Pestalozzistr. 4, 71032 Böblingen
END:VEVENT
BEGIN:VEVENT
DTSTAMP:20260421T230851
DTSTART;TZID=Europe/Berlin:20260415T174500
DTEND;TZID=Europe/Berlin:20260415T210000
UID:V46941010-20260415T174500@VHSBÖBLINGEN-SINDELFINGEN
SUMMARY:Deutsch, B2 (V46941010) 
LOCATION:Höfle, 103, 1. OG, Pestalozzistr. 4, 71032 Böblingen
END:VEVENT
BEGIN:VEVENT
DTSTAMP:20260421T230851
DTSTART;TZID=Europe/Berlin:20260420T174500
DTEND;TZID=Europe/Berlin:20260420T210000
UID:V46941010-20260420T174500@VHSBÖBLINGEN-SINDELFINGEN
SUMMARY:Deutsch, B2 (V46941010) 
LOCATION:Höfle, 103, 1. OG, Pestalozzistr. 4, 71032 Böblingen
END:VEVENT
BEGIN:VEVENT
DTSTAMP:20260421T230851
DTSTART;TZID=Europe/Berlin:20260422T174500
DTEND;TZID=Europe/Berlin:20260422T210000
UID:V46941010-20260422T174500@VHSBÖBLINGEN-SINDELFINGEN
SUMMARY:Deutsch, B2 (V46941010) 
LOCATION:Höfle, 103, 1. OG, Pestalozzistr. 4, 71032 Böblingen
END:VEVENT
BEGIN:VEVENT
DTSTAMP:20260421T230851
DTSTART;TZID=Europe/Berlin:20260427T174500
DTEND;TZID=Europe/Berlin:20260427T210000
UID:V46941010-20260427T174500@VHSBÖBLINGEN-SINDELFINGEN
SUMMARY:Deutsch, B2 (V46941010) 
LOCATION:Höfle, 103, 1. OG, Pestalozzistr. 4, 71032 Böblingen
END:VEVENT
BEGIN:VEVENT
DTSTAMP:20260421T230851
DTSTART;TZID=Europe/Berlin:20260429T174500
DTEND;TZID=Europe/Berlin:20260429T210000
UID:V46941010-20260429T174500@VHSBÖBLINGEN-SINDELFINGEN
SUMMARY:Deutsch, B2 (V46941010) 
LOCATION:Höfle, 103, 1. OG, Pestalozzistr. 4, 71032 Böblingen
END:VEVENT
BEGIN:VEVENT
DTSTAMP:20260421T230851
DTSTART;TZID=Europe/Berlin:20260504T174500
DTEND;TZID=Europe/Berlin:20260504T210000
UID:V46941010-20260504T174500@VHSBÖBLINGEN-SINDELFINGEN
SUMMARY:Deutsch, B2 (V46941010) 
LOCATION:Höfle, 103, 1. OG, Pestalozzistr. 4, 71032 Böblingen
END:VEVENT
BEGIN:VEVENT
DTSTAMP:20260421T230851
DTSTART;TZID=Europe/Berlin:20260506T174500
DTEND;TZID=Europe/Berlin:20260506T210000
UID:V46941010-20260506T174500@VHSBÖBLINGEN-SINDELFINGEN
SUMMARY:Deutsch, B2 (V46941010) 
LOCATION:Höfle, 103, 1. OG, Pestalozzistr. 4, 71032 Böblingen
END:VEVENT
BEGIN:VEVENT
DTSTAMP:20260421T230851
DTSTART;TZID=Europe/Berlin:20260511T174500
DTEND;TZID=Europe/Berlin:20260511T210000
UID:V46941010-20260511T174500@VHSBÖBLINGEN-SINDELFINGEN
SUMMARY:Deutsch, B2 (V46941010) 
LOCATION:Höfle, 103, 1. OG, Pestalozzistr. 4, 71032 Böblingen
END:VEVENT
BEGIN:VEVENT
DTSTAMP:20260421T230851
DTSTART;TZID=Europe/Berlin:20260513T174500
DTEND;TZID=Europe/Berlin:20260513T210000
UID:V46941010-20260513T174500@VHSBÖBLINGEN-SINDELFINGEN
SUMMARY:Deutsch, B2 (V46941010) 
LOCATION:Höfle, 103, 1. OG, Pestalozzistr. 4, 71032 Böblingen
END:VEVENT
BEGIN:VEVENT
DTSTAMP:20260421T230851
DTSTART;TZID=Europe/Berlin:20260518T174500
DTEND;TZID=Europe/Berlin:20260518T210000
UID:V46941010-20260518T174500@VHSBÖBLINGEN-SINDELFINGEN
SUMMARY:Deutsch, B2 (V46941010) 
LOCATION:Höfle, 103, 1. OG, Pestalozzistr. 4, 71032 Böblingen
END:VEVENT
BEGIN:VEVENT
DTSTAMP:20260421T230851
DTSTART;TZID=Europe/Berlin:20260520T174500
DTEND;TZID=Europe/Berlin:20260520T210000
UID:V46941010-20260520T174500@VHSBÖBLINGEN-SINDELFINGEN
SUMMARY:Deutsch, B2 (V46941010) 
LOCATION:Höfle, 103, 1. OG, Pestalozzistr. 4, 71032 Böblingen
END:VEVENT
BEGIN:VEVENT
DTSTAMP:20260421T230851
DTSTART;TZID=Europe/Berlin:20260608T174500
DTEND;TZID=Europe/Berlin:20260608T210000
UID:V46941010-20260608T174500@VHSBÖBLINGEN-SINDELFINGEN
SUMMARY:Deutsch, B2 (V46941010) 
LOCATION:Höfle, 103, 1. OG, Pestalozzistr. 4, 71032 Böblingen
END:VEVENT
BEGIN:VEVENT
DTSTAMP:20260421T230851
DTSTART;TZID=Europe/Berlin:20260610T174500
DTEND;TZID=Europe/Berlin:20260610T210000
UID:V46941010-20260610T174500@VHSBÖBLINGEN-SINDELFINGEN
SUMMARY:Deutsch, B2 (V46941010) 
LOCATION:Höfle, 103, 1. OG, Pestalozzistr. 4, 71032 Böblingen
END:VEVENT
BEGIN:VEVENT
DTSTAMP:20260421T230851
DTSTART;TZID=Europe/Berlin:20260615T174500
DTEND;TZID=Europe/Berlin:20260615T210000
UID:V46941010-20260615T174500@VHSBÖBLINGEN-SINDELFINGEN
SUMMARY:Deutsch, B2 (V46941010) 
LOCATION:Höfle, 103, 1. OG, Pestalozzistr. 4, 71032 Böblingen
END:VEVENT
BEGIN:VEVENT
DTSTAMP:20260421T230851
DTSTART;TZID=Europe/Berlin:20260617T174500
DTEND;TZID=Europe/Berlin:20260617T210000
UID:V46941010-20260617T174500@VHSBÖBLINGEN-SINDELFINGEN
SUMMARY:Deutsch, B2 (V46941010) 
LOCATION:Höfle, 103, 1. OG, Pestalozzistr. 4, 71032 Böblingen
END:VEVENT
BEGIN:VEVENT
DTSTAMP:20260421T230851
DTSTART;TZID=Europe/Berlin:20260622T174500
DTEND;TZID=Europe/Berlin:20260622T210000
UID:V46941010-20260622T174500@VHSBÖBLINGEN-SINDELFINGEN
SUMMARY:Deutsch, B2 (V46941010) 
LOCATION:Höfle, 103, 1. OG, Pestalozzistr. 4, 71032 Böblingen
END:VEVENT
END:VCALENDAR