BEGIN:VCALENDAR
VERSION:2.0
PRODID:https://www.kufer.de/kuferweb / DE
METHOD:PUBLISH
CALSCALE:GREGORIAN
X-WR-TIMEZONE:Europe/Berlin
BEGIN:VTIMEZONE
TZID:Europe/Berlin
X-LIC-LOCATION:Europe/Berlin
BEGIN:DAYLIGHT
TZOFFSETFROM:+0100
TZOFFSETTO:+0200
TZNAME:CEST
DTSTART:19700329T020000
RRULE:FREQ=YEARLY;INTERVAL=1;BYDAY=-1SU;BYMONTH=3
END:DAYLIGHT
BEGIN:STANDARD
TZOFFSETFROM:+0200
TZOFFSETTO:+0100
TZNAME:CET
DTSTART:19701025T030000
RRULE:FREQ=YEARLY;INTERVAL=1;BYDAY=-1SU;BYMONTH=10
END:STANDARD
END:VTIMEZONE
BEGIN:VEVENT
DTSTAMP:20260422T215043
DTSTART;TZID=Europe/Berlin:20260708T180000
DTEND;TZID=Europe/Berlin:20260708T223000
UID:V46916006-20260708T180000@VHSBÖBLINGEN-SINDELFINGEN
SUMMARY:Deutsch B1, Integrationskurs 6 (941) (V46916006) 
LOCATION:Neckarstraße, 004, Neckarstraße 16, Sindelfingen
END:VEVENT
BEGIN:VEVENT
DTSTAMP:20260422T215043
DTSTART;TZID=Europe/Berlin:20260709T180000
DTEND;TZID=Europe/Berlin:20260709T223000
UID:V46916006-20260709T180000@VHSBÖBLINGEN-SINDELFINGEN
SUMMARY:Deutsch B1, Integrationskurs 6 (941) (V46916006) 
LOCATION:Neckarstraße, 004, Neckarstraße 16, Sindelfingen
END:VEVENT
BEGIN:VEVENT
DTSTAMP:20260422T215043
DTSTART;TZID=Europe/Berlin:20260715T180000
DTEND;TZID=Europe/Berlin:20260715T223000
UID:V46916006-20260715T180000@VHSBÖBLINGEN-SINDELFINGEN
SUMMARY:Deutsch B1, Integrationskurs 6 (941) (V46916006) 
LOCATION:Neckarstraße, 004, Neckarstraße 16, Sindelfingen
END:VEVENT
BEGIN:VEVENT
DTSTAMP:20260422T215043
DTSTART;TZID=Europe/Berlin:20260716T180000
DTEND;TZID=Europe/Berlin:20260716T223000
UID:V46916006-20260716T180000@VHSBÖBLINGEN-SINDELFINGEN
SUMMARY:Deutsch B1, Integrationskurs 6 (941) (V46916006) 
LOCATION:Neckarstraße, 004, Neckarstraße 16, Sindelfingen
END:VEVENT
BEGIN:VEVENT
DTSTAMP:20260422T215043
DTSTART;TZID=Europe/Berlin:20260722T180000
DTEND;TZID=Europe/Berlin:20260722T223000
UID:V46916006-20260722T180000@VHSBÖBLINGEN-SINDELFINGEN
SUMMARY:Deutsch B1, Integrationskurs 6 (941) (V46916006) 
LOCATION:Neckarstraße, 004, Neckarstraße 16, Sindelfingen
END:VEVENT
BEGIN:VEVENT
DTSTAMP:20260422T215043
DTSTART;TZID=Europe/Berlin:20260723T180000
DTEND;TZID=Europe/Berlin:20260723T223000
UID:V46916006-20260723T180000@VHSBÖBLINGEN-SINDELFINGEN
SUMMARY:Deutsch B1, Integrationskurs 6 (941) (V46916006) 
LOCATION:Neckarstraße, 004, Neckarstraße 16, Sindelfingen
END:VEVENT
BEGIN:VEVENT
DTSTAMP:20260422T215043
DTSTART;TZID=Europe/Berlin:20260729T180000
DTEND;TZID=Europe/Berlin:20260729T223000
UID:V46916006-20260729T180000@VHSBÖBLINGEN-SINDELFINGEN
SUMMARY:Deutsch B1, Integrationskurs 6 (941) (V46916006) 
LOCATION:Neckarstraße, 004, Neckarstraße 16, Sindelfingen
END:VEVENT
BEGIN:VEVENT
DTSTAMP:20260422T215043
DTSTART;TZID=Europe/Berlin:20260916T180000
DTEND;TZID=Europe/Berlin:20260916T223000
UID:V46916006-20260916T180000@VHSBÖBLINGEN-SINDELFINGEN
SUMMARY:Deutsch B1, Integrationskurs 6 (941) (V46916006) 
LOCATION:Neckarstraße, 004, Neckarstraße 16, Sindelfingen
END:VEVENT
BEGIN:VEVENT
DTSTAMP:20260422T215043
DTSTART;TZID=Europe/Berlin:20260917T180000
DTEND;TZID=Europe/Berlin:20260917T223000
UID:V46916006-20260917T180000@VHSBÖBLINGEN-SINDELFINGEN
SUMMARY:Deutsch B1, Integrationskurs 6 (941) (V46916006) 
LOCATION:Neckarstraße, 004, Neckarstraße 16, Sindelfingen
END:VEVENT
BEGIN:VEVENT
DTSTAMP:20260422T215043
DTSTART;TZID=Europe/Berlin:20260923T180000
DTEND;TZID=Europe/Berlin:20260923T223000
UID:V46916006-20260923T180000@VHSBÖBLINGEN-SINDELFINGEN
SUMMARY:Deutsch B1, Integrationskurs 6 (941) (V46916006) 
LOCATION:Neckarstraße, 004, Neckarstraße 16, Sindelfingen
END:VEVENT
BEGIN:VEVENT
DTSTAMP:20260422T215043
DTSTART;TZID=Europe/Berlin:20260924T180000
DTEND;TZID=Europe/Berlin:20260924T223000
UID:V46916006-20260924T180000@VHSBÖBLINGEN-SINDELFINGEN
SUMMARY:Deutsch B1, Integrationskurs 6 (941) (V46916006) 
LOCATION:Neckarstraße, 004, Neckarstraße 16, Sindelfingen
END:VEVENT
BEGIN:VEVENT
DTSTAMP:20260422T215043
DTSTART;TZID=Europe/Berlin:20260930T180000
DTEND;TZID=Europe/Berlin:20260930T223000
UID:V46916006-20260930T180000@VHSBÖBLINGEN-SINDELFINGEN
SUMMARY:Deutsch B1, Integrationskurs 6 (941) (V46916006) 
LOCATION:Neckarstraße, 004, Neckarstraße 16, Sindelfingen
END:VEVENT
BEGIN:VEVENT
DTSTAMP:20260422T215043
DTSTART;TZID=Europe/Berlin:20261001T180000
DTEND;TZID=Europe/Berlin:20261001T223000
UID:V46916006-20261001T180000@VHSBÖBLINGEN-SINDELFINGEN
SUMMARY:Deutsch B1, Integrationskurs 6 (941) (V46916006) 
LOCATION:Neckarstraße, 004, Neckarstraße 16, Sindelfingen
END:VEVENT
BEGIN:VEVENT
DTSTAMP:20260422T215043
DTSTART;TZID=Europe/Berlin:20261007T180000
DTEND;TZID=Europe/Berlin:20261007T223000
UID:V46916006-20261007T180000@VHSBÖBLINGEN-SINDELFINGEN
SUMMARY:Deutsch B1, Integrationskurs 6 (941) (V46916006) 
LOCATION:Neckarstraße, 004, Neckarstraße 16, Sindelfingen
END:VEVENT
BEGIN:VEVENT
DTSTAMP:20260422T215043
DTSTART;TZID=Europe/Berlin:20261008T180000
DTEND;TZID=Europe/Berlin:20261008T223000
UID:V46916006-20261008T180000@VHSBÖBLINGEN-SINDELFINGEN
SUMMARY:Deutsch B1, Integrationskurs 6 (941) (V46916006) 
LOCATION:Neckarstraße, 004, Neckarstraße 16, Sindelfingen
END:VEVENT
BEGIN:VEVENT
DTSTAMP:20260422T215043
DTSTART;TZID=Europe/Berlin:20261014T180000
DTEND;TZID=Europe/Berlin:20261014T210000
UID:V46916006-20261014T180000@VHSBÖBLINGEN-SINDELFINGEN
SUMMARY:Deutsch B1, Integrationskurs 6 (941) (V46916006) 
LOCATION:Neckarstraße, 004, Neckarstraße 16, Sindelfingen
END:VEVENT
BEGIN:VEVENT
DTSTAMP:20260422T215043
DTSTART;TZID=Europe/Berlin:20261015T180000
DTEND;TZID=Europe/Berlin:20261015T223000
UID:V46916006-20261015T180000@VHSBÖBLINGEN-SINDELFINGEN
SUMMARY:Deutsch B1, Integrationskurs 6 (941) (V46916006) 
LOCATION:Neckarstraße, 004, Neckarstraße 16, Sindelfingen
END:VEVENT
END:VCALENDAR