BEGIN:VCALENDAR
VERSION:2.0
PRODID:https://www.kufer.de/kuferweb / DE
METHOD:PUBLISH
CALSCALE:GREGORIAN
X-WR-TIMEZONE:Europe/Berlin
BEGIN:VTIMEZONE
TZID:Europe/Berlin
X-LIC-LOCATION:Europe/Berlin
BEGIN:DAYLIGHT
TZOFFSETFROM:+0100
TZOFFSETTO:+0200
TZNAME:CEST
DTSTART:19700329T020000
RRULE:FREQ=YEARLY;INTERVAL=1;BYDAY=-1SU;BYMONTH=3
END:DAYLIGHT
BEGIN:STANDARD
TZOFFSETFROM:+0200
TZOFFSETTO:+0100
TZNAME:CET
DTSTART:19701025T030000
RRULE:FREQ=YEARLY;INTERVAL=1;BYDAY=-1SU;BYMONTH=10
END:STANDARD
END:VTIMEZONE
BEGIN:VEVENT
DTSTAMP:20260421T073546
DTSTART;TZID=Europe/Berlin:20260521T180000
DTEND;TZID=Europe/Berlin:20260521T223000
UID:V46916002-20260521T180000@VHSBÖBLINGEN-SINDELFINGEN
SUMMARY:Deutsch B1, Integrationskurs 6 (892) (V46916002) 
LOCATION:Neckarstraße, 009, Neckarstraße 16, 71065 Sindelfingen
END:VEVENT
BEGIN:VEVENT
DTSTAMP:20260421T073546
DTSTART;TZID=Europe/Berlin:20260608T180000
DTEND;TZID=Europe/Berlin:20260608T223000
UID:V46916002-20260608T180000@VHSBÖBLINGEN-SINDELFINGEN
SUMMARY:Deutsch B1, Integrationskurs 6 (892) (V46916002) 
LOCATION:Neckarstraße, 009, Neckarstraße 16, 71065 Sindelfingen
END:VEVENT
BEGIN:VEVENT
DTSTAMP:20260421T073546
DTSTART;TZID=Europe/Berlin:20260611T180000
DTEND;TZID=Europe/Berlin:20260611T223000
UID:V46916002-20260611T180000@VHSBÖBLINGEN-SINDELFINGEN
SUMMARY:Deutsch B1, Integrationskurs 6 (892) (V46916002) 
LOCATION:Neckarstraße, 009, Neckarstraße 16, 71065 Sindelfingen
END:VEVENT
BEGIN:VEVENT
DTSTAMP:20260421T073546
DTSTART;TZID=Europe/Berlin:20260615T180000
DTEND;TZID=Europe/Berlin:20260615T223000
UID:V46916002-20260615T180000@VHSBÖBLINGEN-SINDELFINGEN
SUMMARY:Deutsch B1, Integrationskurs 6 (892) (V46916002) 
LOCATION:Neckarstraße, 009, Neckarstraße 16, 71065 Sindelfingen
END:VEVENT
BEGIN:VEVENT
DTSTAMP:20260421T073546
DTSTART;TZID=Europe/Berlin:20260618T180000
DTEND;TZID=Europe/Berlin:20260618T223000
UID:V46916002-20260618T180000@VHSBÖBLINGEN-SINDELFINGEN
SUMMARY:Deutsch B1, Integrationskurs 6 (892) (V46916002) 
LOCATION:Neckarstraße, 009, Neckarstraße 16, 71065 Sindelfingen
END:VEVENT
BEGIN:VEVENT
DTSTAMP:20260421T073546
DTSTART;TZID=Europe/Berlin:20260622T180000
DTEND;TZID=Europe/Berlin:20260622T223000
UID:V46916002-20260622T180000@VHSBÖBLINGEN-SINDELFINGEN
SUMMARY:Deutsch B1, Integrationskurs 6 (892) (V46916002) 
LOCATION:Neckarstraße, 009, Neckarstraße 16, 71065 Sindelfingen
END:VEVENT
BEGIN:VEVENT
DTSTAMP:20260421T073546
DTSTART;TZID=Europe/Berlin:20260625T180000
DTEND;TZID=Europe/Berlin:20260625T223000
UID:V46916002-20260625T180000@VHSBÖBLINGEN-SINDELFINGEN
SUMMARY:Deutsch B1, Integrationskurs 6 (892) (V46916002) 
LOCATION:Neckarstraße, 009, Neckarstraße 16, 71065 Sindelfingen
END:VEVENT
BEGIN:VEVENT
DTSTAMP:20260421T073546
DTSTART;TZID=Europe/Berlin:20260629T180000
DTEND;TZID=Europe/Berlin:20260629T223000
UID:V46916002-20260629T180000@VHSBÖBLINGEN-SINDELFINGEN
SUMMARY:Deutsch B1, Integrationskurs 6 (892) (V46916002) 
LOCATION:Neckarstraße, 009, Neckarstraße 16, 71065 Sindelfingen
END:VEVENT
BEGIN:VEVENT
DTSTAMP:20260421T073546
DTSTART;TZID=Europe/Berlin:20260702T180000
DTEND;TZID=Europe/Berlin:20260702T223000
UID:V46916002-20260702T180000@VHSBÖBLINGEN-SINDELFINGEN
SUMMARY:Deutsch B1, Integrationskurs 6 (892) (V46916002) 
LOCATION:Neckarstraße, 009, Neckarstraße 16, 71065 Sindelfingen
END:VEVENT
BEGIN:VEVENT
DTSTAMP:20260421T073546
DTSTART;TZID=Europe/Berlin:20260706T180000
DTEND;TZID=Europe/Berlin:20260706T210000
UID:V46916002-20260706T180000@VHSBÖBLINGEN-SINDELFINGEN
SUMMARY:Deutsch B1, Integrationskurs 6 (892) (V46916002) 
LOCATION:Neckarstraße, 009, Neckarstraße 16, 71065 Sindelfingen
END:VEVENT
BEGIN:VEVENT
DTSTAMP:20260421T073546
DTSTART;TZID=Europe/Berlin:20260709T180000
DTEND;TZID=Europe/Berlin:20260709T223000
UID:V46916002-20260709T180000@VHSBÖBLINGEN-SINDELFINGEN
SUMMARY:Deutsch B1, Integrationskurs 6 (892) (V46916002) 
LOCATION:Neckarstraße, 009, Neckarstraße 16, 71065 Sindelfingen
END:VEVENT
BEGIN:VEVENT
DTSTAMP:20260421T073546
DTSTART;TZID=Europe/Berlin:20260713T180000
DTEND;TZID=Europe/Berlin:20260713T223000
UID:V46916002-20260713T180000@VHSBÖBLINGEN-SINDELFINGEN
SUMMARY:Deutsch B1, Integrationskurs 6 (892) (V46916002) 
LOCATION:Neckarstraße, 009, Neckarstraße 16, 71065 Sindelfingen
END:VEVENT
BEGIN:VEVENT
DTSTAMP:20260421T073546
DTSTART;TZID=Europe/Berlin:20260715T180000
DTEND;TZID=Europe/Berlin:20260715T223000
UID:V46916002-20260715T180000@VHSBÖBLINGEN-SINDELFINGEN
SUMMARY:Deutsch B1, Integrationskurs 6 (892) (V46916002) 
LOCATION:Neckarstraße, 009, Neckarstraße 16, 71065 Sindelfingen
END:VEVENT
BEGIN:VEVENT
DTSTAMP:20260421T073546
DTSTART;TZID=Europe/Berlin:20260716T180000
DTEND;TZID=Europe/Berlin:20260716T223000
UID:V46916002-20260716T180000@VHSBÖBLINGEN-SINDELFINGEN
SUMMARY:Deutsch B1, Integrationskurs 6 (892) (V46916002) 
LOCATION:Neckarstraße, 009, Neckarstraße 16, 71065 Sindelfingen
END:VEVENT
BEGIN:VEVENT
DTSTAMP:20260421T073546
DTSTART;TZID=Europe/Berlin:20260720T180000
DTEND;TZID=Europe/Berlin:20260720T223000
UID:V46916002-20260720T180000@VHSBÖBLINGEN-SINDELFINGEN
SUMMARY:Deutsch B1, Integrationskurs 6 (892) (V46916002) 
LOCATION:Neckarstraße, 009, Neckarstraße 16, 71065 Sindelfingen
END:VEVENT
BEGIN:VEVENT
DTSTAMP:20260421T073546
DTSTART;TZID=Europe/Berlin:20260723T180000
DTEND;TZID=Europe/Berlin:20260723T223000
UID:V46916002-20260723T180000@VHSBÖBLINGEN-SINDELFINGEN
SUMMARY:Deutsch B1, Integrationskurs 6 (892) (V46916002) 
LOCATION:Neckarstraße, 009, Neckarstraße 16, 71065 Sindelfingen
END:VEVENT
BEGIN:VEVENT
DTSTAMP:20260421T073546
DTSTART;TZID=Europe/Berlin:20260727T180000
DTEND;TZID=Europe/Berlin:20260727T223000
UID:V46916002-20260727T180000@VHSBÖBLINGEN-SINDELFINGEN
SUMMARY:Deutsch B1, Integrationskurs 6 (892) (V46916002) 
LOCATION:Neckarstraße, 009, Neckarstraße 16, 71065 Sindelfingen
END:VEVENT
END:VCALENDAR