BEGIN:VCALENDAR
VERSION:2.0
PRODID:https://www.kufer.de/kuferweb / DE
METHOD:PUBLISH
CALSCALE:GREGORIAN
X-WR-TIMEZONE:Europe/Berlin
BEGIN:VTIMEZONE
TZID:Europe/Berlin
X-LIC-LOCATION:Europe/Berlin
BEGIN:DAYLIGHT
TZOFFSETFROM:+0100
TZOFFSETTO:+0200
TZNAME:CEST
DTSTART:19700329T020000
RRULE:FREQ=YEARLY;INTERVAL=1;BYDAY=-1SU;BYMONTH=3
END:DAYLIGHT
BEGIN:STANDARD
TZOFFSETFROM:+0200
TZOFFSETTO:+0100
TZNAME:CET
DTSTART:19701025T030000
RRULE:FREQ=YEARLY;INTERVAL=1;BYDAY=-1SU;BYMONTH=10
END:STANDARD
END:VTIMEZONE
BEGIN:VEVENT
DTSTAMP:20260422T203608
DTSTART;TZID=Europe/Berlin:20260616T180000
DTEND;TZID=Europe/Berlin:20260616T211500
UID:V46916001-20260616T180000@VHSBÖBLINGEN-SINDELFINGEN
SUMMARY:Deutsch B1, Integrationskurs 6 (888) (V46916001) 
LOCATION:Höfle, 002, EG, Pestalozzistr. 4, 71032 Böblingen
END:VEVENT
BEGIN:VEVENT
DTSTAMP:20260422T203608
DTSTART;TZID=Europe/Berlin:20260618T180000
DTEND;TZID=Europe/Berlin:20260618T211500
UID:V46916001-20260618T180000@VHSBÖBLINGEN-SINDELFINGEN
SUMMARY:Deutsch B1, Integrationskurs 6 (888) (V46916001) 
LOCATION:Höfle, 002, EG, Pestalozzistr. 4, 71032 Böblingen
END:VEVENT
BEGIN:VEVENT
DTSTAMP:20260422T203608
DTSTART;TZID=Europe/Berlin:20260619T180000
DTEND;TZID=Europe/Berlin:20260619T211500
UID:V46916001-20260619T180000@VHSBÖBLINGEN-SINDELFINGEN
SUMMARY:Deutsch B1, Integrationskurs 6 (888) (V46916001) 
LOCATION:Höfle, 002, EG, Pestalozzistr. 4, 71032 Böblingen
END:VEVENT
BEGIN:VEVENT
DTSTAMP:20260422T203608
DTSTART;TZID=Europe/Berlin:20260623T180000
DTEND;TZID=Europe/Berlin:20260623T211500
UID:V46916001-20260623T180000@VHSBÖBLINGEN-SINDELFINGEN
SUMMARY:Deutsch B1, Integrationskurs 6 (888) (V46916001) 
LOCATION:Höfle, 002, EG, Pestalozzistr. 4, 71032 Böblingen
END:VEVENT
BEGIN:VEVENT
DTSTAMP:20260422T203608
DTSTART;TZID=Europe/Berlin:20260625T180000
DTEND;TZID=Europe/Berlin:20260625T211500
UID:V46916001-20260625T180000@VHSBÖBLINGEN-SINDELFINGEN
SUMMARY:Deutsch B1, Integrationskurs 6 (888) (V46916001) 
LOCATION:Höfle, 002, EG, Pestalozzistr. 4, 71032 Böblingen
END:VEVENT
BEGIN:VEVENT
DTSTAMP:20260422T203608
DTSTART;TZID=Europe/Berlin:20260626T180000
DTEND;TZID=Europe/Berlin:20260626T211500
UID:V46916001-20260626T180000@VHSBÖBLINGEN-SINDELFINGEN
SUMMARY:Deutsch B1, Integrationskurs 6 (888) (V46916001) 
LOCATION:Höfle, 002, EG, Pestalozzistr. 4, 71032 Böblingen
END:VEVENT
BEGIN:VEVENT
DTSTAMP:20260422T203608
DTSTART;TZID=Europe/Berlin:20260630T180000
DTEND;TZID=Europe/Berlin:20260630T211500
UID:V46916001-20260630T180000@VHSBÖBLINGEN-SINDELFINGEN
SUMMARY:Deutsch B1, Integrationskurs 6 (888) (V46916001) 
LOCATION:Höfle, 002, EG, Pestalozzistr. 4, 71032 Böblingen
END:VEVENT
BEGIN:VEVENT
DTSTAMP:20260422T203608
DTSTART;TZID=Europe/Berlin:20260702T180000
DTEND;TZID=Europe/Berlin:20260702T211500
UID:V46916001-20260702T180000@VHSBÖBLINGEN-SINDELFINGEN
SUMMARY:Deutsch B1, Integrationskurs 6 (888) (V46916001) 
LOCATION:Höfle, 002, EG, Pestalozzistr. 4, 71032 Böblingen
END:VEVENT
BEGIN:VEVENT
DTSTAMP:20260422T203608
DTSTART;TZID=Europe/Berlin:20260703T180000
DTEND;TZID=Europe/Berlin:20260703T211500
UID:V46916001-20260703T180000@VHSBÖBLINGEN-SINDELFINGEN
SUMMARY:Deutsch B1, Integrationskurs 6 (888) (V46916001) 
LOCATION:Höfle, 002, EG, Pestalozzistr. 4, 71032 Böblingen
END:VEVENT
BEGIN:VEVENT
DTSTAMP:20260422T203608
DTSTART;TZID=Europe/Berlin:20260707T180000
DTEND;TZID=Europe/Berlin:20260707T211500
UID:V46916001-20260707T180000@VHSBÖBLINGEN-SINDELFINGEN
SUMMARY:Deutsch B1, Integrationskurs 6 (888) (V46916001) 
LOCATION:Höfle, 002, EG, Pestalozzistr. 4, 71032 Böblingen
END:VEVENT
BEGIN:VEVENT
DTSTAMP:20260422T203608
DTSTART;TZID=Europe/Berlin:20260709T180000
DTEND;TZID=Europe/Berlin:20260709T211500
UID:V46916001-20260709T180000@VHSBÖBLINGEN-SINDELFINGEN
SUMMARY:Deutsch B1, Integrationskurs 6 (888) (V46916001) 
LOCATION:Höfle, 002, EG, Pestalozzistr. 4, 71032 Böblingen
END:VEVENT
BEGIN:VEVENT
DTSTAMP:20260422T203608
DTSTART;TZID=Europe/Berlin:20260710T180000
DTEND;TZID=Europe/Berlin:20260710T211500
UID:V46916001-20260710T180000@VHSBÖBLINGEN-SINDELFINGEN
SUMMARY:Deutsch B1, Integrationskurs 6 (888) (V46916001) 
LOCATION:Höfle, 002, EG, Pestalozzistr. 4, 71032 Böblingen
END:VEVENT
BEGIN:VEVENT
DTSTAMP:20260422T203608
DTSTART;TZID=Europe/Berlin:20260714T180000
DTEND;TZID=Europe/Berlin:20260714T211500
UID:V46916001-20260714T180000@VHSBÖBLINGEN-SINDELFINGEN
SUMMARY:Deutsch B1, Integrationskurs 6 (888) (V46916001) 
LOCATION:Höfle, 002, EG, Pestalozzistr. 4, 71032 Böblingen
END:VEVENT
BEGIN:VEVENT
DTSTAMP:20260422T203608
DTSTART;TZID=Europe/Berlin:20260716T180000
DTEND;TZID=Europe/Berlin:20260716T211500
UID:V46916001-20260716T180000@VHSBÖBLINGEN-SINDELFINGEN
SUMMARY:Deutsch B1, Integrationskurs 6 (888) (V46916001) 
LOCATION:Höfle, 002, EG, Pestalozzistr. 4, 71032 Böblingen
END:VEVENT
BEGIN:VEVENT
DTSTAMP:20260422T203608
DTSTART;TZID=Europe/Berlin:20260717T180000
DTEND;TZID=Europe/Berlin:20260717T211500
UID:V46916001-20260717T180000@VHSBÖBLINGEN-SINDELFINGEN
SUMMARY:Deutsch B1, Integrationskurs 6 (888) (V46916001) 
LOCATION:Höfle, 002, EG, Pestalozzistr. 4, 71032 Böblingen
END:VEVENT
BEGIN:VEVENT
DTSTAMP:20260422T203608
DTSTART;TZID=Europe/Berlin:20260721T180000
DTEND;TZID=Europe/Berlin:20260721T211500
UID:V46916001-20260721T180000@VHSBÖBLINGEN-SINDELFINGEN
SUMMARY:Deutsch B1, Integrationskurs 6 (888) (V46916001) 
LOCATION:Höfle, 002, EG, Pestalozzistr. 4, 71032 Böblingen
END:VEVENT
BEGIN:VEVENT
DTSTAMP:20260422T203608
DTSTART;TZID=Europe/Berlin:20260723T180000
DTEND;TZID=Europe/Berlin:20260723T211500
UID:V46916001-20260723T180000@VHSBÖBLINGEN-SINDELFINGEN
SUMMARY:Deutsch B1, Integrationskurs 6 (888) (V46916001) 
LOCATION:Höfle, 002, EG, Pestalozzistr. 4, 71032 Böblingen
END:VEVENT
BEGIN:VEVENT
DTSTAMP:20260422T203608
DTSTART;TZID=Europe/Berlin:20260724T180000
DTEND;TZID=Europe/Berlin:20260724T211500
UID:V46916001-20260724T180000@VHSBÖBLINGEN-SINDELFINGEN
SUMMARY:Deutsch B1, Integrationskurs 6 (888) (V46916001) 
LOCATION:Höfle, 002, EG, Pestalozzistr. 4, 71032 Böblingen
END:VEVENT
BEGIN:VEVENT
DTSTAMP:20260422T203608
DTSTART;TZID=Europe/Berlin:20260915T180000
DTEND;TZID=Europe/Berlin:20260915T211500
UID:V46916001-20260915T180000@VHSBÖBLINGEN-SINDELFINGEN
SUMMARY:Deutsch B1, Integrationskurs 6 (888) (V46916001) 
LOCATION:Höfle, 002, EG, Pestalozzistr. 4, 71032 Böblingen
END:VEVENT
BEGIN:VEVENT
DTSTAMP:20260422T203608
DTSTART;TZID=Europe/Berlin:20260917T180000
DTEND;TZID=Europe/Berlin:20260917T211500
UID:V46916001-20260917T180000@VHSBÖBLINGEN-SINDELFINGEN
SUMMARY:Deutsch B1, Integrationskurs 6 (888) (V46916001) 
LOCATION:Höfle, 002, EG, Pestalozzistr. 4, 71032 Böblingen
END:VEVENT
BEGIN:VEVENT
DTSTAMP:20260422T203608
DTSTART;TZID=Europe/Berlin:20260918T180000
DTEND;TZID=Europe/Berlin:20260918T211500
UID:V46916001-20260918T180000@VHSBÖBLINGEN-SINDELFINGEN
SUMMARY:Deutsch B1, Integrationskurs 6 (888) (V46916001) 
LOCATION:Höfle, 002, EG, Pestalozzistr. 4, 71032 Böblingen
END:VEVENT
BEGIN:VEVENT
DTSTAMP:20260422T203608
DTSTART;TZID=Europe/Berlin:20260922T180000
DTEND;TZID=Europe/Berlin:20260922T211500
UID:V46916001-20260922T180000@VHSBÖBLINGEN-SINDELFINGEN
SUMMARY:Deutsch B1, Integrationskurs 6 (888) (V46916001) 
LOCATION:Höfle, 002, EG, Pestalozzistr. 4, 71032 Böblingen
END:VEVENT
BEGIN:VEVENT
DTSTAMP:20260422T203608
DTSTART;TZID=Europe/Berlin:20260924T180000
DTEND;TZID=Europe/Berlin:20260924T211500
UID:V46916001-20260924T180000@VHSBÖBLINGEN-SINDELFINGEN
SUMMARY:Deutsch B1, Integrationskurs 6 (888) (V46916001) 
LOCATION:Höfle, 002, EG, Pestalozzistr. 4, 71032 Böblingen
END:VEVENT
BEGIN:VEVENT
DTSTAMP:20260422T203608
DTSTART;TZID=Europe/Berlin:20260925T180000
DTEND;TZID=Europe/Berlin:20260925T211500
UID:V46916001-20260925T180000@VHSBÖBLINGEN-SINDELFINGEN
SUMMARY:Deutsch B1, Integrationskurs 6 (888) (V46916001) 
LOCATION:Höfle, 002, EG, Pestalozzistr. 4, 71032 Böblingen
END:VEVENT
BEGIN:VEVENT
DTSTAMP:20260422T203608
DTSTART;TZID=Europe/Berlin:20260929T180000
DTEND;TZID=Europe/Berlin:20260929T211500
UID:V46916001-20260929T180000@VHSBÖBLINGEN-SINDELFINGEN
SUMMARY:Deutsch B1, Integrationskurs 6 (888) (V46916001) 
LOCATION:Höfle, 002, EG, Pestalozzistr. 4, 71032 Böblingen
END:VEVENT
END:VCALENDAR