BEGIN:VCALENDAR
VERSION:2.0
PRODID:https://www.kufer.de/kuferweb / DE
METHOD:PUBLISH
CALSCALE:GREGORIAN
X-WR-TIMEZONE:Europe/Berlin
BEGIN:VTIMEZONE
TZID:Europe/Berlin
X-LIC-LOCATION:Europe/Berlin
BEGIN:DAYLIGHT
TZOFFSETFROM:+0100
TZOFFSETTO:+0200
TZNAME:CEST
DTSTART:19700329T020000
RRULE:FREQ=YEARLY;INTERVAL=1;BYDAY=-1SU;BYMONTH=3
END:DAYLIGHT
BEGIN:STANDARD
TZOFFSETFROM:+0200
TZOFFSETTO:+0100
TZNAME:CET
DTSTART:19701025T030000
RRULE:FREQ=YEARLY;INTERVAL=1;BYDAY=-1SU;BYMONTH=10
END:STANDARD
END:VTIMEZONE
BEGIN:VEVENT
DTSTAMP:20260423T040919
DTSTART;TZID=Europe/Berlin:20260615T180000
DTEND;TZID=Europe/Berlin:20260615T223000
UID:V46915007-20260615T180000@VHSBÖBLINGEN-SINDELFINGEN
SUMMARY:Deutsch B1, Integrationskurs 5 (959) (V46915007) 
LOCATION:Neckarstraße, 008, Neckarstraße 16, 71065 Sindelfingen
END:VEVENT
BEGIN:VEVENT
DTSTAMP:20260423T040919
DTSTART;TZID=Europe/Berlin:20260617T180000
DTEND;TZID=Europe/Berlin:20260617T223000
UID:V46915007-20260617T180000@VHSBÖBLINGEN-SINDELFINGEN
SUMMARY:Deutsch B1, Integrationskurs 5 (959) (V46915007) 
LOCATION:Neckarstraße, 008, Neckarstraße 16, 71065 Sindelfingen
END:VEVENT
BEGIN:VEVENT
DTSTAMP:20260423T040919
DTSTART;TZID=Europe/Berlin:20260622T180000
DTEND;TZID=Europe/Berlin:20260622T223000
UID:V46915007-20260622T180000@VHSBÖBLINGEN-SINDELFINGEN
SUMMARY:Deutsch B1, Integrationskurs 5 (959) (V46915007) 
LOCATION:Neckarstraße, 008, Neckarstraße 16, 71065 Sindelfingen
END:VEVENT
BEGIN:VEVENT
DTSTAMP:20260423T040919
DTSTART;TZID=Europe/Berlin:20260624T180000
DTEND;TZID=Europe/Berlin:20260624T223000
UID:V46915007-20260624T180000@VHSBÖBLINGEN-SINDELFINGEN
SUMMARY:Deutsch B1, Integrationskurs 5 (959) (V46915007) 
LOCATION:Neckarstraße, 008, Neckarstraße 16, 71065 Sindelfingen
END:VEVENT
BEGIN:VEVENT
DTSTAMP:20260423T040919
DTSTART;TZID=Europe/Berlin:20260629T180000
DTEND;TZID=Europe/Berlin:20260629T223000
UID:V46915007-20260629T180000@VHSBÖBLINGEN-SINDELFINGEN
SUMMARY:Deutsch B1, Integrationskurs 5 (959) (V46915007) 
LOCATION:Neckarstraße, 008, Neckarstraße 16, 71065 Sindelfingen
END:VEVENT
BEGIN:VEVENT
DTSTAMP:20260423T040919
DTSTART;TZID=Europe/Berlin:20260701T180000
DTEND;TZID=Europe/Berlin:20260701T223000
UID:V46915007-20260701T180000@VHSBÖBLINGEN-SINDELFINGEN
SUMMARY:Deutsch B1, Integrationskurs 5 (959) (V46915007) 
LOCATION:Neckarstraße, 008, Neckarstraße 16, 71065 Sindelfingen
END:VEVENT
BEGIN:VEVENT
DTSTAMP:20260423T040919
DTSTART;TZID=Europe/Berlin:20260706T180000
DTEND;TZID=Europe/Berlin:20260706T223000
UID:V46915007-20260706T180000@VHSBÖBLINGEN-SINDELFINGEN
SUMMARY:Deutsch B1, Integrationskurs 5 (959) (V46915007) 
LOCATION:Neckarstraße, 008, Neckarstraße 16, 71065 Sindelfingen
END:VEVENT
BEGIN:VEVENT
DTSTAMP:20260423T040919
DTSTART;TZID=Europe/Berlin:20260708T180000
DTEND;TZID=Europe/Berlin:20260708T223000
UID:V46915007-20260708T180000@VHSBÖBLINGEN-SINDELFINGEN
SUMMARY:Deutsch B1, Integrationskurs 5 (959) (V46915007) 
LOCATION:Neckarstraße, 008, Neckarstraße 16, 71065 Sindelfingen
END:VEVENT
BEGIN:VEVENT
DTSTAMP:20260423T040919
DTSTART;TZID=Europe/Berlin:20260713T180000
DTEND;TZID=Europe/Berlin:20260713T223000
UID:V46915007-20260713T180000@VHSBÖBLINGEN-SINDELFINGEN
SUMMARY:Deutsch B1, Integrationskurs 5 (959) (V46915007) 
LOCATION:Neckarstraße, 008, Neckarstraße 16, 71065 Sindelfingen
END:VEVENT
BEGIN:VEVENT
DTSTAMP:20260423T040919
DTSTART;TZID=Europe/Berlin:20260715T180000
DTEND;TZID=Europe/Berlin:20260715T223000
UID:V46915007-20260715T180000@VHSBÖBLINGEN-SINDELFINGEN
SUMMARY:Deutsch B1, Integrationskurs 5 (959) (V46915007) 
LOCATION:Neckarstraße, 008, Neckarstraße 16, 71065 Sindelfingen
END:VEVENT
BEGIN:VEVENT
DTSTAMP:20260423T040919
DTSTART;TZID=Europe/Berlin:20260720T180000
DTEND;TZID=Europe/Berlin:20260720T223000
UID:V46915007-20260720T180000@VHSBÖBLINGEN-SINDELFINGEN
SUMMARY:Deutsch B1, Integrationskurs 5 (959) (V46915007) 
LOCATION:Neckarstraße, 008, Neckarstraße 16, 71065 Sindelfingen
END:VEVENT
BEGIN:VEVENT
DTSTAMP:20260423T040919
DTSTART;TZID=Europe/Berlin:20260722T180000
DTEND;TZID=Europe/Berlin:20260722T223000
UID:V46915007-20260722T180000@VHSBÖBLINGEN-SINDELFINGEN
SUMMARY:Deutsch B1, Integrationskurs 5 (959) (V46915007) 
LOCATION:Neckarstraße, 008, Neckarstraße 16, 71065 Sindelfingen
END:VEVENT
BEGIN:VEVENT
DTSTAMP:20260423T040919
DTSTART;TZID=Europe/Berlin:20260727T180000
DTEND;TZID=Europe/Berlin:20260727T223000
UID:V46915007-20260727T180000@VHSBÖBLINGEN-SINDELFINGEN
SUMMARY:Deutsch B1, Integrationskurs 5 (959) (V46915007) 
LOCATION:Neckarstraße, 008, Neckarstraße 16, 71065 Sindelfingen
END:VEVENT
BEGIN:VEVENT
DTSTAMP:20260423T040919
DTSTART;TZID=Europe/Berlin:20260729T180000
DTEND;TZID=Europe/Berlin:20260729T223000
UID:V46915007-20260729T180000@VHSBÖBLINGEN-SINDELFINGEN
SUMMARY:Deutsch B1, Integrationskurs 5 (959) (V46915007) 
LOCATION:Neckarstraße, 008, Neckarstraße 16, 71065 Sindelfingen
END:VEVENT
BEGIN:VEVENT
DTSTAMP:20260423T040919
DTSTART;TZID=Europe/Berlin:20260914T180000
DTEND;TZID=Europe/Berlin:20260914T223000
UID:V46915007-20260914T180000@VHSBÖBLINGEN-SINDELFINGEN
SUMMARY:Deutsch B1, Integrationskurs 5 (959) (V46915007) 
LOCATION:Neckarstraße, 008, Neckarstraße 16, 71065 Sindelfingen
END:VEVENT
BEGIN:VEVENT
DTSTAMP:20260423T040919
DTSTART;TZID=Europe/Berlin:20260916T180000
DTEND;TZID=Europe/Berlin:20260916T210000
UID:V46915007-20260916T180000@VHSBÖBLINGEN-SINDELFINGEN
SUMMARY:Deutsch B1, Integrationskurs 5 (959) (V46915007) 
LOCATION:Neckarstraße, 008, Neckarstraße 16, 71065 Sindelfingen
END:VEVENT
BEGIN:VEVENT
DTSTAMP:20260423T040919
DTSTART;TZID=Europe/Berlin:20260921T180000
DTEND;TZID=Europe/Berlin:20260921T223000
UID:V46915007-20260921T180000@VHSBÖBLINGEN-SINDELFINGEN
SUMMARY:Deutsch B1, Integrationskurs 5 (959) (V46915007) 
LOCATION:Neckarstraße, 008, Neckarstraße 16, 71065 Sindelfingen
END:VEVENT
END:VCALENDAR