BEGIN:VCALENDAR
VERSION:2.0
PRODID:https://www.kufer.de/kuferweb / DE
METHOD:PUBLISH
CALSCALE:GREGORIAN
X-WR-TIMEZONE:Europe/Berlin
BEGIN:VTIMEZONE
TZID:Europe/Berlin
X-LIC-LOCATION:Europe/Berlin
BEGIN:DAYLIGHT
TZOFFSETFROM:+0100
TZOFFSETTO:+0200
TZNAME:CEST
DTSTART:19700329T020000
RRULE:FREQ=YEARLY;INTERVAL=1;BYDAY=-1SU;BYMONTH=3
END:DAYLIGHT
BEGIN:STANDARD
TZOFFSETFROM:+0200
TZOFFSETTO:+0100
TZNAME:CET
DTSTART:19701025T030000
RRULE:FREQ=YEARLY;INTERVAL=1;BYDAY=-1SU;BYMONTH=10
END:STANDARD
END:VTIMEZONE
BEGIN:VEVENT
DTSTAMP:20260421T145759
DTSTART;TZID=Europe/Berlin:20260422T180000
DTEND;TZID=Europe/Berlin:20260422T223000
UID:V46915004-20260422T180000@VHSBÖBLINGEN-SINDELFINGEN
SUMMARY:Deutsch B1, Integrationskurs 5 (941) (V46915004) 
LOCATION:Neckarstraße, 004, Neckarstraße 16, Sindelfingen
END:VEVENT
BEGIN:VEVENT
DTSTAMP:20260421T145759
DTSTART;TZID=Europe/Berlin:20260423T180000
DTEND;TZID=Europe/Berlin:20260423T223000
UID:V46915004-20260423T180000@VHSBÖBLINGEN-SINDELFINGEN
SUMMARY:Deutsch B1, Integrationskurs 5 (941) (V46915004) 
LOCATION:Neckarstraße, 004, Neckarstraße 16, Sindelfingen
END:VEVENT
BEGIN:VEVENT
DTSTAMP:20260421T145759
DTSTART;TZID=Europe/Berlin:20260429T180000
DTEND;TZID=Europe/Berlin:20260429T223000
UID:V46915004-20260429T180000@VHSBÖBLINGEN-SINDELFINGEN
SUMMARY:Deutsch B1, Integrationskurs 5 (941) (V46915004) 
LOCATION:Neckarstraße, 004, Neckarstraße 16, Sindelfingen
END:VEVENT
BEGIN:VEVENT
DTSTAMP:20260421T145759
DTSTART;TZID=Europe/Berlin:20260430T180000
DTEND;TZID=Europe/Berlin:20260430T223000
UID:V46915004-20260430T180000@VHSBÖBLINGEN-SINDELFINGEN
SUMMARY:Deutsch B1, Integrationskurs 5 (941) (V46915004) 
LOCATION:Neckarstraße, 004, Neckarstraße 16, Sindelfingen
END:VEVENT
BEGIN:VEVENT
DTSTAMP:20260421T145759
DTSTART;TZID=Europe/Berlin:20260506T180000
DTEND;TZID=Europe/Berlin:20260506T223000
UID:V46915004-20260506T180000@VHSBÖBLINGEN-SINDELFINGEN
SUMMARY:Deutsch B1, Integrationskurs 5 (941) (V46915004) 
LOCATION:Neckarstraße, 004, Neckarstraße 16, Sindelfingen
END:VEVENT
BEGIN:VEVENT
DTSTAMP:20260421T145759
DTSTART;TZID=Europe/Berlin:20260507T180000
DTEND;TZID=Europe/Berlin:20260507T223000
UID:V46915004-20260507T180000@VHSBÖBLINGEN-SINDELFINGEN
SUMMARY:Deutsch B1, Integrationskurs 5 (941) (V46915004) 
LOCATION:Neckarstraße, 004, Neckarstraße 16, Sindelfingen
END:VEVENT
BEGIN:VEVENT
DTSTAMP:20260421T145759
DTSTART;TZID=Europe/Berlin:20260513T180000
DTEND;TZID=Europe/Berlin:20260513T223000
UID:V46915004-20260513T180000@VHSBÖBLINGEN-SINDELFINGEN
SUMMARY:Deutsch B1, Integrationskurs 5 (941) (V46915004) 
LOCATION:Neckarstraße, 004, Neckarstraße 16, Sindelfingen
END:VEVENT
BEGIN:VEVENT
DTSTAMP:20260421T145759
DTSTART;TZID=Europe/Berlin:20260520T180000
DTEND;TZID=Europe/Berlin:20260520T223000
UID:V46915004-20260520T180000@VHSBÖBLINGEN-SINDELFINGEN
SUMMARY:Deutsch B1, Integrationskurs 5 (941) (V46915004) 
LOCATION:Neckarstraße, 004, Neckarstraße 16, Sindelfingen
END:VEVENT
BEGIN:VEVENT
DTSTAMP:20260421T145759
DTSTART;TZID=Europe/Berlin:20260521T180000
DTEND;TZID=Europe/Berlin:20260521T223000
UID:V46915004-20260521T180000@VHSBÖBLINGEN-SINDELFINGEN
SUMMARY:Deutsch B1, Integrationskurs 5 (941) (V46915004) 
LOCATION:Neckarstraße, 004, Neckarstraße 16, Sindelfingen
END:VEVENT
BEGIN:VEVENT
DTSTAMP:20260421T145759
DTSTART;TZID=Europe/Berlin:20260610T180000
DTEND;TZID=Europe/Berlin:20260610T223000
UID:V46915004-20260610T180000@VHSBÖBLINGEN-SINDELFINGEN
SUMMARY:Deutsch B1, Integrationskurs 5 (941) (V46915004) 
LOCATION:Neckarstraße, 004, Neckarstraße 16, Sindelfingen
END:VEVENT
BEGIN:VEVENT
DTSTAMP:20260421T145759
DTSTART;TZID=Europe/Berlin:20260611T180000
DTEND;TZID=Europe/Berlin:20260611T223000
UID:V46915004-20260611T180000@VHSBÖBLINGEN-SINDELFINGEN
SUMMARY:Deutsch B1, Integrationskurs 5 (941) (V46915004) 
LOCATION:Neckarstraße, 004, Neckarstraße 16, Sindelfingen
END:VEVENT
BEGIN:VEVENT
DTSTAMP:20260421T145759
DTSTART;TZID=Europe/Berlin:20260617T180000
DTEND;TZID=Europe/Berlin:20260617T223000
UID:V46915004-20260617T180000@VHSBÖBLINGEN-SINDELFINGEN
SUMMARY:Deutsch B1, Integrationskurs 5 (941) (V46915004) 
LOCATION:Neckarstraße, 004, Neckarstraße 16, Sindelfingen
END:VEVENT
BEGIN:VEVENT
DTSTAMP:20260421T145759
DTSTART;TZID=Europe/Berlin:20260618T180000
DTEND;TZID=Europe/Berlin:20260618T223000
UID:V46915004-20260618T180000@VHSBÖBLINGEN-SINDELFINGEN
SUMMARY:Deutsch B1, Integrationskurs 5 (941) (V46915004) 
LOCATION:Neckarstraße, 004, Neckarstraße 16, Sindelfingen
END:VEVENT
BEGIN:VEVENT
DTSTAMP:20260421T145759
DTSTART;TZID=Europe/Berlin:20260624T180000
DTEND;TZID=Europe/Berlin:20260624T223000
UID:V46915004-20260624T180000@VHSBÖBLINGEN-SINDELFINGEN
SUMMARY:Deutsch B1, Integrationskurs 5 (941) (V46915004) 
LOCATION:Neckarstraße, 004, Neckarstraße 16, Sindelfingen
END:VEVENT
BEGIN:VEVENT
DTSTAMP:20260421T145759
DTSTART;TZID=Europe/Berlin:20260625T180000
DTEND;TZID=Europe/Berlin:20260625T223000
UID:V46915004-20260625T180000@VHSBÖBLINGEN-SINDELFINGEN
SUMMARY:Deutsch B1, Integrationskurs 5 (941) (V46915004) 
LOCATION:Neckarstraße, 004, Neckarstraße 16, Sindelfingen
END:VEVENT
BEGIN:VEVENT
DTSTAMP:20260421T145759
DTSTART;TZID=Europe/Berlin:20260701T180000
DTEND;TZID=Europe/Berlin:20260701T210000
UID:V46915004-20260701T180000@VHSBÖBLINGEN-SINDELFINGEN
SUMMARY:Deutsch B1, Integrationskurs 5 (941) (V46915004) 
LOCATION:Neckarstraße, 004, Neckarstraße 16, Sindelfingen
END:VEVENT
BEGIN:VEVENT
DTSTAMP:20260421T145759
DTSTART;TZID=Europe/Berlin:20260702T180000
DTEND;TZID=Europe/Berlin:20260702T223000
UID:V46915004-20260702T180000@VHSBÖBLINGEN-SINDELFINGEN
SUMMARY:Deutsch B1, Integrationskurs 5 (941) (V46915004) 
LOCATION:Neckarstraße, 004, Neckarstraße 16, Sindelfingen
END:VEVENT
END:VCALENDAR