BEGIN:VCALENDAR
VERSION:2.0
PRODID:https://www.kufer.de/kuferweb / DE
METHOD:PUBLISH
CALSCALE:GREGORIAN
X-WR-TIMEZONE:Europe/Berlin
BEGIN:VTIMEZONE
TZID:Europe/Berlin
X-LIC-LOCATION:Europe/Berlin
BEGIN:DAYLIGHT
TZOFFSETFROM:+0100
TZOFFSETTO:+0200
TZNAME:CEST
DTSTART:19700329T020000
RRULE:FREQ=YEARLY;INTERVAL=1;BYDAY=-1SU;BYMONTH=3
END:DAYLIGHT
BEGIN:STANDARD
TZOFFSETFROM:+0200
TZOFFSETTO:+0100
TZNAME:CET
DTSTART:19701025T030000
RRULE:FREQ=YEARLY;INTERVAL=1;BYDAY=-1SU;BYMONTH=10
END:STANDARD
END:VTIMEZONE
BEGIN:VEVENT
DTSTAMP:20260422T203453
DTSTART;TZID=Europe/Berlin:20260317T180000
DTEND;TZID=Europe/Berlin:20260317T211500
UID:V46915001-20260317T180000@VHSBÖBLINGEN-SINDELFINGEN
SUMMARY:Deutsch B1, Integrationskurs 5 (888) (V46915001) 
LOCATION:Höfle, 002, EG, Pestalozzistr. 4, 71032 Böblingen
END:VEVENT
BEGIN:VEVENT
DTSTAMP:20260422T203453
DTSTART;TZID=Europe/Berlin:20260319T180000
DTEND;TZID=Europe/Berlin:20260319T211500
UID:V46915001-20260319T180000@VHSBÖBLINGEN-SINDELFINGEN
SUMMARY:Deutsch B1, Integrationskurs 5 (888) (V46915001) 
LOCATION:Höfle, 002, EG, Pestalozzistr. 4, 71032 Böblingen
END:VEVENT
BEGIN:VEVENT
DTSTAMP:20260422T203453
DTSTART;TZID=Europe/Berlin:20260320T180000
DTEND;TZID=Europe/Berlin:20260320T211500
UID:V46915001-20260320T180000@VHSBÖBLINGEN-SINDELFINGEN
SUMMARY:Deutsch B1, Integrationskurs 5 (888) (V46915001) 
LOCATION:Höfle, 002, EG, Pestalozzistr. 4, 71032 Böblingen
END:VEVENT
BEGIN:VEVENT
DTSTAMP:20260422T203453
DTSTART;TZID=Europe/Berlin:20260324T180000
DTEND;TZID=Europe/Berlin:20260324T211500
UID:V46915001-20260324T180000@VHSBÖBLINGEN-SINDELFINGEN
SUMMARY:Deutsch B1, Integrationskurs 5 (888) (V46915001) 
LOCATION:Höfle, 002, EG, Pestalozzistr. 4, 71032 Böblingen
END:VEVENT
BEGIN:VEVENT
DTSTAMP:20260422T203453
DTSTART;TZID=Europe/Berlin:20260326T180000
DTEND;TZID=Europe/Berlin:20260326T211500
UID:V46915001-20260326T180000@VHSBÖBLINGEN-SINDELFINGEN
SUMMARY:Deutsch B1, Integrationskurs 5 (888) (V46915001) 
LOCATION:Höfle, 002, EG, Pestalozzistr. 4, 71032 Böblingen
END:VEVENT
BEGIN:VEVENT
DTSTAMP:20260422T203453
DTSTART;TZID=Europe/Berlin:20260327T180000
DTEND;TZID=Europe/Berlin:20260327T211500
UID:V46915001-20260327T180000@VHSBÖBLINGEN-SINDELFINGEN
SUMMARY:Deutsch B1, Integrationskurs 5 (888) (V46915001) 
LOCATION:Höfle, 002, EG, Pestalozzistr. 4, 71032 Böblingen
END:VEVENT
BEGIN:VEVENT
DTSTAMP:20260422T203453
DTSTART;TZID=Europe/Berlin:20260414T180000
DTEND;TZID=Europe/Berlin:20260414T211500
UID:V46915001-20260414T180000@VHSBÖBLINGEN-SINDELFINGEN
SUMMARY:Deutsch B1, Integrationskurs 5 (888) (V46915001) 
LOCATION:Höfle, 002, EG, Pestalozzistr. 4, 71032 Böblingen
END:VEVENT
BEGIN:VEVENT
DTSTAMP:20260422T203453
DTSTART;TZID=Europe/Berlin:20260416T180000
DTEND;TZID=Europe/Berlin:20260416T211500
UID:V46915001-20260416T180000@VHSBÖBLINGEN-SINDELFINGEN
SUMMARY:Deutsch B1, Integrationskurs 5 (888) (V46915001) 
LOCATION:Höfle, 002, EG, Pestalozzistr. 4, 71032 Böblingen
END:VEVENT
BEGIN:VEVENT
DTSTAMP:20260422T203453
DTSTART;TZID=Europe/Berlin:20260417T180000
DTEND;TZID=Europe/Berlin:20260417T211500
UID:V46915001-20260417T180000@VHSBÖBLINGEN-SINDELFINGEN
SUMMARY:Deutsch B1, Integrationskurs 5 (888) (V46915001) 
LOCATION:Höfle, 005, EG, Pestalozzistr. 4, 71032 Böblingen
END:VEVENT
BEGIN:VEVENT
DTSTAMP:20260422T203453
DTSTART;TZID=Europe/Berlin:20260421T180000
DTEND;TZID=Europe/Berlin:20260421T211500
UID:V46915001-20260421T180000@VHSBÖBLINGEN-SINDELFINGEN
SUMMARY:Deutsch B1, Integrationskurs 5 (888) (V46915001) 
LOCATION:Höfle, 002, EG, Pestalozzistr. 4, 71032 Böblingen
END:VEVENT
BEGIN:VEVENT
DTSTAMP:20260422T203453
DTSTART;TZID=Europe/Berlin:20260423T180000
DTEND;TZID=Europe/Berlin:20260423T211500
UID:V46915001-20260423T180000@VHSBÖBLINGEN-SINDELFINGEN
SUMMARY:Deutsch B1, Integrationskurs 5 (888) (V46915001) 
LOCATION:Höfle, 002, EG, Pestalozzistr. 4, 71032 Böblingen
END:VEVENT
BEGIN:VEVENT
DTSTAMP:20260422T203453
DTSTART;TZID=Europe/Berlin:20260424T180000
DTEND;TZID=Europe/Berlin:20260424T211500
UID:V46915001-20260424T180000@VHSBÖBLINGEN-SINDELFINGEN
SUMMARY:Deutsch B1, Integrationskurs 5 (888) (V46915001) 
LOCATION:Höfle, 005, EG, Pestalozzistr. 4, 71032 Böblingen
END:VEVENT
BEGIN:VEVENT
DTSTAMP:20260422T203453
DTSTART;TZID=Europe/Berlin:20260428T180000
DTEND;TZID=Europe/Berlin:20260428T211500
UID:V46915001-20260428T180000@VHSBÖBLINGEN-SINDELFINGEN
SUMMARY:Deutsch B1, Integrationskurs 5 (888) (V46915001) 
LOCATION:Höfle, 002, EG, Pestalozzistr. 4, 71032 Böblingen
END:VEVENT
BEGIN:VEVENT
DTSTAMP:20260422T203453
DTSTART;TZID=Europe/Berlin:20260430T180000
DTEND;TZID=Europe/Berlin:20260430T211500
UID:V46915001-20260430T180000@VHSBÖBLINGEN-SINDELFINGEN
SUMMARY:Deutsch B1, Integrationskurs 5 (888) (V46915001) 
LOCATION:Höfle, 002, EG, Pestalozzistr. 4, 71032 Böblingen
END:VEVENT
BEGIN:VEVENT
DTSTAMP:20260422T203453
DTSTART;TZID=Europe/Berlin:20260505T180000
DTEND;TZID=Europe/Berlin:20260505T211500
UID:V46915001-20260505T180000@VHSBÖBLINGEN-SINDELFINGEN
SUMMARY:Deutsch B1, Integrationskurs 5 (888) (V46915001) 
LOCATION:Höfle, 002, EG, Pestalozzistr. 4, 71032 Böblingen
END:VEVENT
BEGIN:VEVENT
DTSTAMP:20260422T203453
DTSTART;TZID=Europe/Berlin:20260507T180000
DTEND;TZID=Europe/Berlin:20260507T211500
UID:V46915001-20260507T180000@VHSBÖBLINGEN-SINDELFINGEN
SUMMARY:Deutsch B1, Integrationskurs 5 (888) (V46915001) 
LOCATION:Höfle, 002, EG, Pestalozzistr. 4, 71032 Böblingen
END:VEVENT
BEGIN:VEVENT
DTSTAMP:20260422T203453
DTSTART;TZID=Europe/Berlin:20260508T180000
DTEND;TZID=Europe/Berlin:20260508T211500
UID:V46915001-20260508T180000@VHSBÖBLINGEN-SINDELFINGEN
SUMMARY:Deutsch B1, Integrationskurs 5 (888) (V46915001) 
LOCATION:Höfle, 002, EG, Pestalozzistr. 4, 71032 Böblingen
END:VEVENT
BEGIN:VEVENT
DTSTAMP:20260422T203453
DTSTART;TZID=Europe/Berlin:20260512T180000
DTEND;TZID=Europe/Berlin:20260512T211500
UID:V46915001-20260512T180000@VHSBÖBLINGEN-SINDELFINGEN
SUMMARY:Deutsch B1, Integrationskurs 5 (888) (V46915001) 
LOCATION:Höfle, 002, EG, Pestalozzistr. 4, 71032 Böblingen
END:VEVENT
BEGIN:VEVENT
DTSTAMP:20260422T203453
DTSTART;TZID=Europe/Berlin:20260515T180000
DTEND;TZID=Europe/Berlin:20260515T211500
UID:V46915001-20260515T180000@VHSBÖBLINGEN-SINDELFINGEN
SUMMARY:Deutsch B1, Integrationskurs 5 (888) (V46915001) 
LOCATION:Höfle, 002, EG, Pestalozzistr. 4, 71032 Böblingen
END:VEVENT
BEGIN:VEVENT
DTSTAMP:20260422T203453
DTSTART;TZID=Europe/Berlin:20260519T180000
DTEND;TZID=Europe/Berlin:20260519T211500
UID:V46915001-20260519T180000@VHSBÖBLINGEN-SINDELFINGEN
SUMMARY:Deutsch B1, Integrationskurs 5 (888) (V46915001) 
LOCATION:Höfle, 002, EG, Pestalozzistr. 4, 71032 Böblingen
END:VEVENT
BEGIN:VEVENT
DTSTAMP:20260422T203453
DTSTART;TZID=Europe/Berlin:20260521T180000
DTEND;TZID=Europe/Berlin:20260521T211500
UID:V46915001-20260521T180000@VHSBÖBLINGEN-SINDELFINGEN
SUMMARY:Deutsch B1, Integrationskurs 5 (888) (V46915001) 
LOCATION:Höfle, 002, EG, Pestalozzistr. 4, 71032 Böblingen
END:VEVENT
BEGIN:VEVENT
DTSTAMP:20260422T203453
DTSTART;TZID=Europe/Berlin:20260522T180000
DTEND;TZID=Europe/Berlin:20260522T211500
UID:V46915001-20260522T180000@VHSBÖBLINGEN-SINDELFINGEN
SUMMARY:Deutsch B1, Integrationskurs 5 (888) (V46915001) 
LOCATION:Höfle, 002, EG, Pestalozzistr. 4, 71032 Böblingen
END:VEVENT
BEGIN:VEVENT
DTSTAMP:20260422T203453
DTSTART;TZID=Europe/Berlin:20260609T180000
DTEND;TZID=Europe/Berlin:20260609T211500
UID:V46915001-20260609T180000@VHSBÖBLINGEN-SINDELFINGEN
SUMMARY:Deutsch B1, Integrationskurs 5 (888) (V46915001) 
LOCATION:Höfle, 002, EG, Pestalozzistr. 4, 71032 Böblingen
END:VEVENT
BEGIN:VEVENT
DTSTAMP:20260422T203453
DTSTART;TZID=Europe/Berlin:20260611T180000
DTEND;TZID=Europe/Berlin:20260611T211500
UID:V46915001-20260611T180000@VHSBÖBLINGEN-SINDELFINGEN
SUMMARY:Deutsch B1, Integrationskurs 5 (888) (V46915001) 
LOCATION:Höfle, 002, EG, Pestalozzistr. 4, 71032 Böblingen
END:VEVENT
BEGIN:VEVENT
DTSTAMP:20260422T203453
DTSTART;TZID=Europe/Berlin:20260612T180000
DTEND;TZID=Europe/Berlin:20260612T211500
UID:V46915001-20260612T180000@VHSBÖBLINGEN-SINDELFINGEN
SUMMARY:Deutsch B1, Integrationskurs 5 (888) (V46915001) 
LOCATION:Höfle, 002, EG, Pestalozzistr. 4, 71032 Böblingen
END:VEVENT
END:VCALENDAR