BEGIN:VCALENDAR
VERSION:2.0
PRODID:https://www.kufer.de/kuferweb / DE
METHOD:PUBLISH
CALSCALE:GREGORIAN
X-WR-TIMEZONE:Europe/Berlin
BEGIN:VTIMEZONE
TZID:Europe/Berlin
X-LIC-LOCATION:Europe/Berlin
BEGIN:DAYLIGHT
TZOFFSETFROM:+0100
TZOFFSETTO:+0200
TZNAME:CEST
DTSTART:19700329T020000
RRULE:FREQ=YEARLY;INTERVAL=1;BYDAY=-1SU;BYMONTH=3
END:DAYLIGHT
BEGIN:STANDARD
TZOFFSETFROM:+0200
TZOFFSETTO:+0100
TZNAME:CET
DTSTART:19701025T030000
RRULE:FREQ=YEARLY;INTERVAL=1;BYDAY=-1SU;BYMONTH=10
END:STANDARD
END:VTIMEZONE
BEGIN:VEVENT
DTSTAMP:20260420T134811
DTSTART;TZID=Europe/Berlin:20260427T180000
DTEND;TZID=Europe/Berlin:20260427T223000
UID:V46914003-20260427T180000@VHSBÖBLINGEN-SINDELFINGEN
SUMMARY:Deutsch A2, Integrationskurs 4 (933) (V46914003) 
LOCATION:GHH, 202, 2.OG, Böblinger Str. 8, 71065 Sindelfingen
END:VEVENT
BEGIN:VEVENT
DTSTAMP:20260420T134811
DTSTART;TZID=Europe/Berlin:20260430T180000
DTEND;TZID=Europe/Berlin:20260430T223000
UID:V46914003-20260430T180000@VHSBÖBLINGEN-SINDELFINGEN
SUMMARY:Deutsch A2, Integrationskurs 4 (933) (V46914003) 
LOCATION:GHH, 202, 2.OG, Böblinger Str. 8, 71065 Sindelfingen
END:VEVENT
BEGIN:VEVENT
DTSTAMP:20260420T134811
DTSTART;TZID=Europe/Berlin:20260504T180000
DTEND;TZID=Europe/Berlin:20260504T223000
UID:V46914003-20260504T180000@VHSBÖBLINGEN-SINDELFINGEN
SUMMARY:Deutsch A2, Integrationskurs 4 (933) (V46914003) 
LOCATION:GHH, 202, 2.OG, Böblinger Str. 8, 71065 Sindelfingen
END:VEVENT
BEGIN:VEVENT
DTSTAMP:20260420T134811
DTSTART;TZID=Europe/Berlin:20260507T180000
DTEND;TZID=Europe/Berlin:20260507T223000
UID:V46914003-20260507T180000@VHSBÖBLINGEN-SINDELFINGEN
SUMMARY:Deutsch A2, Integrationskurs 4 (933) (V46914003) 
LOCATION:GHH, 202, 2.OG, Böblinger Str. 8, 71065 Sindelfingen
END:VEVENT
BEGIN:VEVENT
DTSTAMP:20260420T134811
DTSTART;TZID=Europe/Berlin:20260511T180000
DTEND;TZID=Europe/Berlin:20260511T223000
UID:V46914003-20260511T180000@VHSBÖBLINGEN-SINDELFINGEN
SUMMARY:Deutsch A2, Integrationskurs 4 (933) (V46914003) 
LOCATION:GHH, 202, 2.OG, Böblinger Str. 8, 71065 Sindelfingen
END:VEVENT
BEGIN:VEVENT
DTSTAMP:20260420T134811
DTSTART;TZID=Europe/Berlin:20260518T180000
DTEND;TZID=Europe/Berlin:20260518T223000
UID:V46914003-20260518T180000@VHSBÖBLINGEN-SINDELFINGEN
SUMMARY:Deutsch A2, Integrationskurs 4 (933) (V46914003) 
LOCATION:GHH, 202, 2.OG, Böblinger Str. 8, 71065 Sindelfingen
END:VEVENT
BEGIN:VEVENT
DTSTAMP:20260420T134811
DTSTART;TZID=Europe/Berlin:20260521T180000
DTEND;TZID=Europe/Berlin:20260521T223000
UID:V46914003-20260521T180000@VHSBÖBLINGEN-SINDELFINGEN
SUMMARY:Deutsch A2, Integrationskurs 4 (933) (V46914003) 
LOCATION:GHH, 202, 2.OG, Böblinger Str. 8, 71065 Sindelfingen
END:VEVENT
BEGIN:VEVENT
DTSTAMP:20260420T134811
DTSTART;TZID=Europe/Berlin:20260608T180000
DTEND;TZID=Europe/Berlin:20260608T223000
UID:V46914003-20260608T180000@VHSBÖBLINGEN-SINDELFINGEN
SUMMARY:Deutsch A2, Integrationskurs 4 (933) (V46914003) 
LOCATION:GHH, 202, 2.OG, Böblinger Str. 8, 71065 Sindelfingen
END:VEVENT
BEGIN:VEVENT
DTSTAMP:20260420T134811
DTSTART;TZID=Europe/Berlin:20260611T180000
DTEND;TZID=Europe/Berlin:20260611T223000
UID:V46914003-20260611T180000@VHSBÖBLINGEN-SINDELFINGEN
SUMMARY:Deutsch A2, Integrationskurs 4 (933) (V46914003) 
LOCATION:GHH, 202, 2.OG, Böblinger Str. 8, 71065 Sindelfingen
END:VEVENT
BEGIN:VEVENT
DTSTAMP:20260420T134811
DTSTART;TZID=Europe/Berlin:20260615T180000
DTEND;TZID=Europe/Berlin:20260615T223000
UID:V46914003-20260615T180000@VHSBÖBLINGEN-SINDELFINGEN
SUMMARY:Deutsch A2, Integrationskurs 4 (933) (V46914003) 
LOCATION:GHH, 202, 2.OG, Böblinger Str. 8, 71065 Sindelfingen
END:VEVENT
BEGIN:VEVENT
DTSTAMP:20260420T134811
DTSTART;TZID=Europe/Berlin:20260618T180000
DTEND;TZID=Europe/Berlin:20260618T223000
UID:V46914003-20260618T180000@VHSBÖBLINGEN-SINDELFINGEN
SUMMARY:Deutsch A2, Integrationskurs 4 (933) (V46914003) 
LOCATION:GHH, 202, 2.OG, Böblinger Str. 8, 71065 Sindelfingen
END:VEVENT
BEGIN:VEVENT
DTSTAMP:20260420T134811
DTSTART;TZID=Europe/Berlin:20260622T180000
DTEND;TZID=Europe/Berlin:20260622T223000
UID:V46914003-20260622T180000@VHSBÖBLINGEN-SINDELFINGEN
SUMMARY:Deutsch A2, Integrationskurs 4 (933) (V46914003) 
LOCATION:GHH, 202, 2.OG, Böblinger Str. 8, 71065 Sindelfingen
END:VEVENT
BEGIN:VEVENT
DTSTAMP:20260420T134811
DTSTART;TZID=Europe/Berlin:20260625T180000
DTEND;TZID=Europe/Berlin:20260625T223000
UID:V46914003-20260625T180000@VHSBÖBLINGEN-SINDELFINGEN
SUMMARY:Deutsch A2, Integrationskurs 4 (933) (V46914003) 
LOCATION:GHH, 202, 2.OG, Böblinger Str. 8, 71065 Sindelfingen
END:VEVENT
BEGIN:VEVENT
DTSTAMP:20260420T134811
DTSTART;TZID=Europe/Berlin:20260629T180000
DTEND;TZID=Europe/Berlin:20260629T223000
UID:V46914003-20260629T180000@VHSBÖBLINGEN-SINDELFINGEN
SUMMARY:Deutsch A2, Integrationskurs 4 (933) (V46914003) 
LOCATION:GHH, 202, 2.OG, Böblinger Str. 8, 71065 Sindelfingen
END:VEVENT
BEGIN:VEVENT
DTSTAMP:20260420T134811
DTSTART;TZID=Europe/Berlin:20260702T180000
DTEND;TZID=Europe/Berlin:20260702T223000
UID:V46914003-20260702T180000@VHSBÖBLINGEN-SINDELFINGEN
SUMMARY:Deutsch A2, Integrationskurs 4 (933) (V46914003) 
LOCATION:GHH, 202, 2.OG, Böblinger Str. 8, 71065 Sindelfingen
END:VEVENT
BEGIN:VEVENT
DTSTAMP:20260420T134811
DTSTART;TZID=Europe/Berlin:20260706T180000
DTEND;TZID=Europe/Berlin:20260706T210000
UID:V46914003-20260706T180000@VHSBÖBLINGEN-SINDELFINGEN
SUMMARY:Deutsch A2, Integrationskurs 4 (933) (V46914003) 
LOCATION:GHH, 202, 2.OG, Böblinger Str. 8, 71065 Sindelfingen
END:VEVENT
BEGIN:VEVENT
DTSTAMP:20260420T134811
DTSTART;TZID=Europe/Berlin:20260709T180000
DTEND;TZID=Europe/Berlin:20260709T223000
UID:V46914003-20260709T180000@VHSBÖBLINGEN-SINDELFINGEN
SUMMARY:Deutsch A2, Integrationskurs 4 (933) (V46914003) 
LOCATION:GHH, 202, 2.OG, Böblinger Str. 8, 71065 Sindelfingen
END:VEVENT
END:VCALENDAR