BEGIN:VCALENDAR
VERSION:2.0
PRODID:https://www.kufer.de/kuferweb / DE
METHOD:PUBLISH
CALSCALE:GREGORIAN
X-WR-TIMEZONE:Europe/Berlin
BEGIN:VTIMEZONE
TZID:Europe/Berlin
X-LIC-LOCATION:Europe/Berlin
BEGIN:DAYLIGHT
TZOFFSETFROM:+0100
TZOFFSETTO:+0200
TZNAME:CEST
DTSTART:19700329T020000
RRULE:FREQ=YEARLY;INTERVAL=1;BYDAY=-1SU;BYMONTH=3
END:DAYLIGHT
BEGIN:STANDARD
TZOFFSETFROM:+0200
TZOFFSETTO:+0100
TZNAME:CET
DTSTART:19701025T030000
RRULE:FREQ=YEARLY;INTERVAL=1;BYDAY=-1SU;BYMONTH=10
END:STANDARD
END:VTIMEZONE
BEGIN:VEVENT
DTSTAMP:20260420T214327
DTSTART;TZID=Europe/Berlin:20260413T180000
DTEND;TZID=Europe/Berlin:20260413T223000
UID:V46914002-20260413T180000@VHSBÖBLINGEN-SINDELFINGEN
SUMMARY:Deutsch A2, Integrationskurs 4 (903) (V46914002) 
LOCATION:GHH, 103, 1.OG, Böblinger Str. 8, 71065 Sindelfingen
END:VEVENT
BEGIN:VEVENT
DTSTAMP:20260420T214327
DTSTART;TZID=Europe/Berlin:20260414T180000
DTEND;TZID=Europe/Berlin:20260414T223000
UID:V46914002-20260414T180000@VHSBÖBLINGEN-SINDELFINGEN
SUMMARY:Deutsch A2, Integrationskurs 4 (903) (V46914002) 
LOCATION:GHH, 103, 1.OG, Böblinger Str. 8, 71065 Sindelfingen
END:VEVENT
BEGIN:VEVENT
DTSTAMP:20260420T214327
DTSTART;TZID=Europe/Berlin:20260420T180000
DTEND;TZID=Europe/Berlin:20260420T223000
UID:V46914002-20260420T180000@VHSBÖBLINGEN-SINDELFINGEN
SUMMARY:Deutsch A2, Integrationskurs 4 (903) (V46914002) 
LOCATION:GHH, 103, 1.OG, Böblinger Str. 8, 71065 Sindelfingen
END:VEVENT
BEGIN:VEVENT
DTSTAMP:20260420T214327
DTSTART;TZID=Europe/Berlin:20260421T180000
DTEND;TZID=Europe/Berlin:20260421T223000
UID:V46914002-20260421T180000@VHSBÖBLINGEN-SINDELFINGEN
SUMMARY:Deutsch A2, Integrationskurs 4 (903) (V46914002) 
LOCATION:GHH, 103, 1.OG, Böblinger Str. 8, 71065 Sindelfingen
END:VEVENT
BEGIN:VEVENT
DTSTAMP:20260420T214327
DTSTART;TZID=Europe/Berlin:20260427T180000
DTEND;TZID=Europe/Berlin:20260427T223000
UID:V46914002-20260427T180000@VHSBÖBLINGEN-SINDELFINGEN
SUMMARY:Deutsch A2, Integrationskurs 4 (903) (V46914002) 
LOCATION:GHH, 103, 1.OG, Böblinger Str. 8, 71065 Sindelfingen
END:VEVENT
BEGIN:VEVENT
DTSTAMP:20260420T214327
DTSTART;TZID=Europe/Berlin:20260428T180000
DTEND;TZID=Europe/Berlin:20260428T223000
UID:V46914002-20260428T180000@VHSBÖBLINGEN-SINDELFINGEN
SUMMARY:Deutsch A2, Integrationskurs 4 (903) (V46914002) 
LOCATION:GHH, 103, 1.OG, Böblinger Str. 8, 71065 Sindelfingen
END:VEVENT
BEGIN:VEVENT
DTSTAMP:20260420T214327
DTSTART;TZID=Europe/Berlin:20260504T180000
DTEND;TZID=Europe/Berlin:20260504T223000
UID:V46914002-20260504T180000@VHSBÖBLINGEN-SINDELFINGEN
SUMMARY:Deutsch A2, Integrationskurs 4 (903) (V46914002) 
LOCATION:GHH, 103, 1.OG, Böblinger Str. 8, 71065 Sindelfingen
END:VEVENT
BEGIN:VEVENT
DTSTAMP:20260420T214327
DTSTART;TZID=Europe/Berlin:20260505T180000
DTEND;TZID=Europe/Berlin:20260505T223000
UID:V46914002-20260505T180000@VHSBÖBLINGEN-SINDELFINGEN
SUMMARY:Deutsch A2, Integrationskurs 4 (903) (V46914002) 
LOCATION:GHH, 103, 1.OG, Böblinger Str. 8, 71065 Sindelfingen
END:VEVENT
BEGIN:VEVENT
DTSTAMP:20260420T214327
DTSTART;TZID=Europe/Berlin:20260511T180000
DTEND;TZID=Europe/Berlin:20260511T223000
UID:V46914002-20260511T180000@VHSBÖBLINGEN-SINDELFINGEN
SUMMARY:Deutsch A2, Integrationskurs 4 (903) (V46914002) 
LOCATION:GHH, 103, 1.OG, Böblinger Str. 8, 71065 Sindelfingen
END:VEVENT
BEGIN:VEVENT
DTSTAMP:20260420T214327
DTSTART;TZID=Europe/Berlin:20260512T180000
DTEND;TZID=Europe/Berlin:20260512T223000
UID:V46914002-20260512T180000@VHSBÖBLINGEN-SINDELFINGEN
SUMMARY:Deutsch A2, Integrationskurs 4 (903) (V46914002) 
LOCATION:GHH, 103, 1.OG, Böblinger Str. 8, 71065 Sindelfingen
END:VEVENT
BEGIN:VEVENT
DTSTAMP:20260420T214327
DTSTART;TZID=Europe/Berlin:20260518T180000
DTEND;TZID=Europe/Berlin:20260518T223000
UID:V46914002-20260518T180000@VHSBÖBLINGEN-SINDELFINGEN
SUMMARY:Deutsch A2, Integrationskurs 4 (903) (V46914002) 
LOCATION:GHH, 103, 1.OG, Böblinger Str. 8, 71065 Sindelfingen
END:VEVENT
BEGIN:VEVENT
DTSTAMP:20260420T214327
DTSTART;TZID=Europe/Berlin:20260519T180000
DTEND;TZID=Europe/Berlin:20260519T223000
UID:V46914002-20260519T180000@VHSBÖBLINGEN-SINDELFINGEN
SUMMARY:Deutsch A2, Integrationskurs 4 (903) (V46914002) 
LOCATION:GHH, 103, 1.OG, Böblinger Str. 8, 71065 Sindelfingen
END:VEVENT
BEGIN:VEVENT
DTSTAMP:20260420T214327
DTSTART;TZID=Europe/Berlin:20260608T180000
DTEND;TZID=Europe/Berlin:20260608T223000
UID:V46914002-20260608T180000@VHSBÖBLINGEN-SINDELFINGEN
SUMMARY:Deutsch A2, Integrationskurs 4 (903) (V46914002) 
LOCATION:GHH, 103, 1.OG, Böblinger Str. 8, 71065 Sindelfingen
END:VEVENT
BEGIN:VEVENT
DTSTAMP:20260420T214327
DTSTART;TZID=Europe/Berlin:20260609T180000
DTEND;TZID=Europe/Berlin:20260609T223000
UID:V46914002-20260609T180000@VHSBÖBLINGEN-SINDELFINGEN
SUMMARY:Deutsch A2, Integrationskurs 4 (903) (V46914002) 
LOCATION:GHH, 103, 1.OG, Böblinger Str. 8, 71065 Sindelfingen
END:VEVENT
BEGIN:VEVENT
DTSTAMP:20260420T214327
DTSTART;TZID=Europe/Berlin:20260615T180000
DTEND;TZID=Europe/Berlin:20260615T223000
UID:V46914002-20260615T180000@VHSBÖBLINGEN-SINDELFINGEN
SUMMARY:Deutsch A2, Integrationskurs 4 (903) (V46914002) 
LOCATION:GHH, 103, 1.OG, Böblinger Str. 8, 71065 Sindelfingen
END:VEVENT
BEGIN:VEVENT
DTSTAMP:20260420T214327
DTSTART;TZID=Europe/Berlin:20260616T180000
DTEND;TZID=Europe/Berlin:20260616T210000
UID:V46914002-20260616T180000@VHSBÖBLINGEN-SINDELFINGEN
SUMMARY:Deutsch A2, Integrationskurs 4 (903) (V46914002) 
LOCATION:GHH, 103, 1.OG, Böblinger Str. 8, 71065 Sindelfingen
END:VEVENT
BEGIN:VEVENT
DTSTAMP:20260420T214327
DTSTART;TZID=Europe/Berlin:20260622T180000
DTEND;TZID=Europe/Berlin:20260622T223000
UID:V46914002-20260622T180000@VHSBÖBLINGEN-SINDELFINGEN
SUMMARY:Deutsch A2, Integrationskurs 4 (903) (V46914002) 
LOCATION:GHH, 103, 1.OG, Böblinger Str. 8, 71065 Sindelfingen
END:VEVENT
END:VCALENDAR