BEGIN:VCALENDAR
VERSION:2.0
PRODID:https://www.kufer.de/kuferweb / DE
METHOD:PUBLISH
CALSCALE:GREGORIAN
X-WR-TIMEZONE:Europe/Berlin
BEGIN:VTIMEZONE
TZID:Europe/Berlin
X-LIC-LOCATION:Europe/Berlin
BEGIN:DAYLIGHT
TZOFFSETFROM:+0100
TZOFFSETTO:+0200
TZNAME:CEST
DTSTART:19700329T020000
RRULE:FREQ=YEARLY;INTERVAL=1;BYDAY=-1SU;BYMONTH=3
END:DAYLIGHT
BEGIN:STANDARD
TZOFFSETFROM:+0200
TZOFFSETTO:+0100
TZNAME:CET
DTSTART:19701025T030000
RRULE:FREQ=YEARLY;INTERVAL=1;BYDAY=-1SU;BYMONTH=10
END:STANDARD
END:VTIMEZONE
BEGIN:VEVENT
DTSTAMP:20260422T172846
DTSTART;TZID=Europe/Berlin:20260615T184500
DTEND;TZID=Europe/Berlin:20260615T220000
UID:V46913003-20260615T184500@VHSBÖBLINGEN-SINDELFINGEN
SUMMARY:Deutsch A2, Integrationskurs 3 (942) (V46913003) 
LOCATION:GHH, 101, 1.OG, Böblinger Str. 8, 71065 Sindelfingen
END:VEVENT
BEGIN:VEVENT
DTSTAMP:20260422T172846
DTSTART;TZID=Europe/Berlin:20260616T184500
DTEND;TZID=Europe/Berlin:20260616T220000
UID:V46913003-20260616T184500@VHSBÖBLINGEN-SINDELFINGEN
SUMMARY:Deutsch A2, Integrationskurs 3 (942) (V46913003) 
LOCATION:GHH, 101, 1.OG, Böblinger Str. 8, 71065 Sindelfingen
END:VEVENT
BEGIN:VEVENT
DTSTAMP:20260422T172846
DTSTART;TZID=Europe/Berlin:20260617T184500
DTEND;TZID=Europe/Berlin:20260617T220000
UID:V46913003-20260617T184500@VHSBÖBLINGEN-SINDELFINGEN
SUMMARY:Deutsch A2, Integrationskurs 3 (942) (V46913003) 
LOCATION:GHH, 101, 1.OG, Böblinger Str. 8, 71065 Sindelfingen
END:VEVENT
BEGIN:VEVENT
DTSTAMP:20260422T172846
DTSTART;TZID=Europe/Berlin:20260622T184500
DTEND;TZID=Europe/Berlin:20260622T220000
UID:V46913003-20260622T184500@VHSBÖBLINGEN-SINDELFINGEN
SUMMARY:Deutsch A2, Integrationskurs 3 (942) (V46913003) 
LOCATION:GHH, 101, 1.OG, Böblinger Str. 8, 71065 Sindelfingen
END:VEVENT
BEGIN:VEVENT
DTSTAMP:20260422T172846
DTSTART;TZID=Europe/Berlin:20260623T184500
DTEND;TZID=Europe/Berlin:20260623T220000
UID:V46913003-20260623T184500@VHSBÖBLINGEN-SINDELFINGEN
SUMMARY:Deutsch A2, Integrationskurs 3 (942) (V46913003) 
LOCATION:GHH, 101, 1.OG, Böblinger Str. 8, 71065 Sindelfingen
END:VEVENT
BEGIN:VEVENT
DTSTAMP:20260422T172846
DTSTART;TZID=Europe/Berlin:20260624T184500
DTEND;TZID=Europe/Berlin:20260624T220000
UID:V46913003-20260624T184500@VHSBÖBLINGEN-SINDELFINGEN
SUMMARY:Deutsch A2, Integrationskurs 3 (942) (V46913003) 
LOCATION:GHH, 101, 1.OG, Böblinger Str. 8, 71065 Sindelfingen
END:VEVENT
BEGIN:VEVENT
DTSTAMP:20260422T172846
DTSTART;TZID=Europe/Berlin:20260629T184500
DTEND;TZID=Europe/Berlin:20260629T220000
UID:V46913003-20260629T184500@VHSBÖBLINGEN-SINDELFINGEN
SUMMARY:Deutsch A2, Integrationskurs 3 (942) (V46913003) 
LOCATION:GHH, 101, 1.OG, Böblinger Str. 8, 71065 Sindelfingen
END:VEVENT
BEGIN:VEVENT
DTSTAMP:20260422T172846
DTSTART;TZID=Europe/Berlin:20260630T184500
DTEND;TZID=Europe/Berlin:20260630T220000
UID:V46913003-20260630T184500@VHSBÖBLINGEN-SINDELFINGEN
SUMMARY:Deutsch A2, Integrationskurs 3 (942) (V46913003) 
LOCATION:GHH, 101, 1.OG, Böblinger Str. 8, 71065 Sindelfingen
END:VEVENT
BEGIN:VEVENT
DTSTAMP:20260422T172846
DTSTART;TZID=Europe/Berlin:20260701T184500
DTEND;TZID=Europe/Berlin:20260701T220000
UID:V46913003-20260701T184500@VHSBÖBLINGEN-SINDELFINGEN
SUMMARY:Deutsch A2, Integrationskurs 3 (942) (V46913003) 
LOCATION:GHH, 101, 1.OG, Böblinger Str. 8, 71065 Sindelfingen
END:VEVENT
BEGIN:VEVENT
DTSTAMP:20260422T172846
DTSTART;TZID=Europe/Berlin:20260706T184500
DTEND;TZID=Europe/Berlin:20260706T220000
UID:V46913003-20260706T184500@VHSBÖBLINGEN-SINDELFINGEN
SUMMARY:Deutsch A2, Integrationskurs 3 (942) (V46913003) 
LOCATION:GHH, 101, 1.OG, Böblinger Str. 8, 71065 Sindelfingen
END:VEVENT
BEGIN:VEVENT
DTSTAMP:20260422T172846
DTSTART;TZID=Europe/Berlin:20260707T184500
DTEND;TZID=Europe/Berlin:20260707T220000
UID:V46913003-20260707T184500@VHSBÖBLINGEN-SINDELFINGEN
SUMMARY:Deutsch A2, Integrationskurs 3 (942) (V46913003) 
LOCATION:GHH, 101, 1.OG, Böblinger Str. 8, 71065 Sindelfingen
END:VEVENT
BEGIN:VEVENT
DTSTAMP:20260422T172846
DTSTART;TZID=Europe/Berlin:20260708T184500
DTEND;TZID=Europe/Berlin:20260708T220000
UID:V46913003-20260708T184500@VHSBÖBLINGEN-SINDELFINGEN
SUMMARY:Deutsch A2, Integrationskurs 3 (942) (V46913003) 
LOCATION:GHH, 101, 1.OG, Böblinger Str. 8, 71065 Sindelfingen
END:VEVENT
BEGIN:VEVENT
DTSTAMP:20260422T172846
DTSTART;TZID=Europe/Berlin:20260713T184500
DTEND;TZID=Europe/Berlin:20260713T220000
UID:V46913003-20260713T184500@VHSBÖBLINGEN-SINDELFINGEN
SUMMARY:Deutsch A2, Integrationskurs 3 (942) (V46913003) 
LOCATION:GHH, 101, 1.OG, Böblinger Str. 8, 71065 Sindelfingen
END:VEVENT
BEGIN:VEVENT
DTSTAMP:20260422T172846
DTSTART;TZID=Europe/Berlin:20260714T184500
DTEND;TZID=Europe/Berlin:20260714T220000
UID:V46913003-20260714T184500@VHSBÖBLINGEN-SINDELFINGEN
SUMMARY:Deutsch A2, Integrationskurs 3 (942) (V46913003) 
LOCATION:GHH, 101, 1.OG, Böblinger Str. 8, 71065 Sindelfingen
END:VEVENT
BEGIN:VEVENT
DTSTAMP:20260422T172846
DTSTART;TZID=Europe/Berlin:20260715T184500
DTEND;TZID=Europe/Berlin:20260715T220000
UID:V46913003-20260715T184500@VHSBÖBLINGEN-SINDELFINGEN
SUMMARY:Deutsch A2, Integrationskurs 3 (942) (V46913003) 
LOCATION:GHH, 101, 1.OG, Böblinger Str. 8, 71065 Sindelfingen
END:VEVENT
BEGIN:VEVENT
DTSTAMP:20260422T172846
DTSTART;TZID=Europe/Berlin:20260720T184500
DTEND;TZID=Europe/Berlin:20260720T220000
UID:V46913003-20260720T184500@VHSBÖBLINGEN-SINDELFINGEN
SUMMARY:Deutsch A2, Integrationskurs 3 (942) (V46913003) 
LOCATION:GHH, 101, 1.OG, Böblinger Str. 8, 71065 Sindelfingen
END:VEVENT
BEGIN:VEVENT
DTSTAMP:20260422T172846
DTSTART;TZID=Europe/Berlin:20260721T184500
DTEND;TZID=Europe/Berlin:20260721T220000
UID:V46913003-20260721T184500@VHSBÖBLINGEN-SINDELFINGEN
SUMMARY:Deutsch A2, Integrationskurs 3 (942) (V46913003) 
LOCATION:GHH, 101, 1.OG, Böblinger Str. 8, 71065 Sindelfingen
END:VEVENT
BEGIN:VEVENT
DTSTAMP:20260422T172846
DTSTART;TZID=Europe/Berlin:20260722T184500
DTEND;TZID=Europe/Berlin:20260722T220000
UID:V46913003-20260722T184500@VHSBÖBLINGEN-SINDELFINGEN
SUMMARY:Deutsch A2, Integrationskurs 3 (942) (V46913003) 
LOCATION:GHH, 101, 1.OG, Böblinger Str. 8, 71065 Sindelfingen
END:VEVENT
BEGIN:VEVENT
DTSTAMP:20260422T172846
DTSTART;TZID=Europe/Berlin:20260727T184500
DTEND;TZID=Europe/Berlin:20260727T220000
UID:V46913003-20260727T184500@VHSBÖBLINGEN-SINDELFINGEN
SUMMARY:Deutsch A2, Integrationskurs 3 (942) (V46913003) 
LOCATION:GHH, 101, 1.OG, Böblinger Str. 8, 71065 Sindelfingen
END:VEVENT
BEGIN:VEVENT
DTSTAMP:20260422T172846
DTSTART;TZID=Europe/Berlin:20260728T184500
DTEND;TZID=Europe/Berlin:20260728T220000
UID:V46913003-20260728T184500@VHSBÖBLINGEN-SINDELFINGEN
SUMMARY:Deutsch A2, Integrationskurs 3 (942) (V46913003) 
LOCATION:GHH, 101, 1.OG, Böblinger Str. 8, 71065 Sindelfingen
END:VEVENT
BEGIN:VEVENT
DTSTAMP:20260422T172846
DTSTART;TZID=Europe/Berlin:20260729T184500
DTEND;TZID=Europe/Berlin:20260729T220000
UID:V46913003-20260729T184500@VHSBÖBLINGEN-SINDELFINGEN
SUMMARY:Deutsch A2, Integrationskurs 3 (942) (V46913003) 
LOCATION:GHH, 101, 1.OG, Böblinger Str. 8, 71065 Sindelfingen
END:VEVENT
BEGIN:VEVENT
DTSTAMP:20260422T172846
DTSTART;TZID=Europe/Berlin:20260914T184500
DTEND;TZID=Europe/Berlin:20260914T220000
UID:V46913003-20260914T184500@VHSBÖBLINGEN-SINDELFINGEN
SUMMARY:Deutsch A2, Integrationskurs 3 (942) (V46913003) 
LOCATION:GHH, 101, 1.OG, Böblinger Str. 8, 71065 Sindelfingen
END:VEVENT
BEGIN:VEVENT
DTSTAMP:20260422T172846
DTSTART;TZID=Europe/Berlin:20260915T184500
DTEND;TZID=Europe/Berlin:20260915T220000
UID:V46913003-20260915T184500@VHSBÖBLINGEN-SINDELFINGEN
SUMMARY:Deutsch A2, Integrationskurs 3 (942) (V46913003) 
LOCATION:GHH, 101, 1.OG, Böblinger Str. 8, 71065 Sindelfingen
END:VEVENT
BEGIN:VEVENT
DTSTAMP:20260422T172846
DTSTART;TZID=Europe/Berlin:20260916T184500
DTEND;TZID=Europe/Berlin:20260916T220000
UID:V46913003-20260916T184500@VHSBÖBLINGEN-SINDELFINGEN
SUMMARY:Deutsch A2, Integrationskurs 3 (942) (V46913003) 
LOCATION:GHH, 101, 1.OG, Böblinger Str. 8, 71065 Sindelfingen
END:VEVENT
BEGIN:VEVENT
DTSTAMP:20260422T172846
DTSTART;TZID=Europe/Berlin:20260921T184500
DTEND;TZID=Europe/Berlin:20260921T220000
UID:V46913003-20260921T184500@VHSBÖBLINGEN-SINDELFINGEN
SUMMARY:Deutsch A2, Integrationskurs 3 (942) (V46913003) 
LOCATION:GHH, 101, 1.OG, Böblinger Str. 8, 71065 Sindelfingen
END:VEVENT
END:VCALENDAR