BEGIN:VCALENDAR
VERSION:2.0
PRODID:https://www.kufer.de/kuferweb / DE
METHOD:PUBLISH
CALSCALE:GREGORIAN
X-WR-TIMEZONE:Europe/Berlin
BEGIN:VTIMEZONE
TZID:Europe/Berlin
X-LIC-LOCATION:Europe/Berlin
BEGIN:DAYLIGHT
TZOFFSETFROM:+0100
TZOFFSETTO:+0200
TZNAME:CEST
DTSTART:19700329T020000
RRULE:FREQ=YEARLY;INTERVAL=1;BYDAY=-1SU;BYMONTH=3
END:DAYLIGHT
BEGIN:STANDARD
TZOFFSETFROM:+0200
TZOFFSETTO:+0100
TZNAME:CET
DTSTART:19701025T030000
RRULE:FREQ=YEARLY;INTERVAL=1;BYDAY=-1SU;BYMONTH=10
END:STANDARD
END:VTIMEZONE
BEGIN:VEVENT
DTSTAMP:20260422T232311
DTSTART;TZID=Europe/Berlin:20260611T174500
DTEND;TZID=Europe/Berlin:20260611T213000
UID:V46913002-20260611T174500@VHSBÖBLINGEN-SINDELFINGEN
SUMMARY:Deutsch A2, Integrationskurs 3 (935) (V46913002) 
LOCATION:Höfle, 001, EG, Pestalozzistr. 4, 71032 Böblingen
END:VEVENT
BEGIN:VEVENT
DTSTAMP:20260422T232311
DTSTART;TZID=Europe/Berlin:20260616T174500
DTEND;TZID=Europe/Berlin:20260616T213000
UID:V46913002-20260616T174500@VHSBÖBLINGEN-SINDELFINGEN
SUMMARY:Deutsch A2, Integrationskurs 3 (935) (V46913002) 
LOCATION:Höfle, 001, EG, Pestalozzistr. 4, 71032 Böblingen
END:VEVENT
BEGIN:VEVENT
DTSTAMP:20260422T232311
DTSTART;TZID=Europe/Berlin:20260618T174500
DTEND;TZID=Europe/Berlin:20260618T213000
UID:V46913002-20260618T174500@VHSBÖBLINGEN-SINDELFINGEN
SUMMARY:Deutsch A2, Integrationskurs 3 (935) (V46913002) 
LOCATION:Höfle, 001, EG, Pestalozzistr. 4, 71032 Böblingen
END:VEVENT
BEGIN:VEVENT
DTSTAMP:20260422T232311
DTSTART;TZID=Europe/Berlin:20260623T174500
DTEND;TZID=Europe/Berlin:20260623T213000
UID:V46913002-20260623T174500@VHSBÖBLINGEN-SINDELFINGEN
SUMMARY:Deutsch A2, Integrationskurs 3 (935) (V46913002) 
LOCATION:Höfle, 001, EG, Pestalozzistr. 4, 71032 Böblingen
END:VEVENT
BEGIN:VEVENT
DTSTAMP:20260422T232311
DTSTART;TZID=Europe/Berlin:20260625T174500
DTEND;TZID=Europe/Berlin:20260625T213000
UID:V46913002-20260625T174500@VHSBÖBLINGEN-SINDELFINGEN
SUMMARY:Deutsch A2, Integrationskurs 3 (935) (V46913002) 
LOCATION:Höfle, 001, EG, Pestalozzistr. 4, 71032 Böblingen
END:VEVENT
BEGIN:VEVENT
DTSTAMP:20260422T232311
DTSTART;TZID=Europe/Berlin:20260630T174500
DTEND;TZID=Europe/Berlin:20260630T213000
UID:V46913002-20260630T174500@VHSBÖBLINGEN-SINDELFINGEN
SUMMARY:Deutsch A2, Integrationskurs 3 (935) (V46913002) 
LOCATION:Höfle, 001, EG, Pestalozzistr. 4, 71032 Böblingen
END:VEVENT
BEGIN:VEVENT
DTSTAMP:20260422T232311
DTSTART;TZID=Europe/Berlin:20260702T174500
DTEND;TZID=Europe/Berlin:20260702T213000
UID:V46913002-20260702T174500@VHSBÖBLINGEN-SINDELFINGEN
SUMMARY:Deutsch A2, Integrationskurs 3 (935) (V46913002) 
LOCATION:Höfle, 001, EG, Pestalozzistr. 4, 71032 Böblingen
END:VEVENT
BEGIN:VEVENT
DTSTAMP:20260422T232311
DTSTART;TZID=Europe/Berlin:20260707T174500
DTEND;TZID=Europe/Berlin:20260707T213000
UID:V46913002-20260707T174500@VHSBÖBLINGEN-SINDELFINGEN
SUMMARY:Deutsch A2, Integrationskurs 3 (935) (V46913002) 
LOCATION:Höfle, 001, EG, Pestalozzistr. 4, 71032 Böblingen
END:VEVENT
BEGIN:VEVENT
DTSTAMP:20260422T232311
DTSTART;TZID=Europe/Berlin:20260709T174500
DTEND;TZID=Europe/Berlin:20260709T213000
UID:V46913002-20260709T174500@VHSBÖBLINGEN-SINDELFINGEN
SUMMARY:Deutsch A2, Integrationskurs 3 (935) (V46913002) 
LOCATION:Höfle, 001, EG, Pestalozzistr. 4, 71032 Böblingen
END:VEVENT
BEGIN:VEVENT
DTSTAMP:20260422T232311
DTSTART;TZID=Europe/Berlin:20260714T174500
DTEND;TZID=Europe/Berlin:20260714T213000
UID:V46913002-20260714T174500@VHSBÖBLINGEN-SINDELFINGEN
SUMMARY:Deutsch A2, Integrationskurs 3 (935) (V46913002) 
LOCATION:Höfle, 001, EG, Pestalozzistr. 4, 71032 Böblingen
END:VEVENT
BEGIN:VEVENT
DTSTAMP:20260422T232311
DTSTART;TZID=Europe/Berlin:20260716T174500
DTEND;TZID=Europe/Berlin:20260716T213000
UID:V46913002-20260716T174500@VHSBÖBLINGEN-SINDELFINGEN
SUMMARY:Deutsch A2, Integrationskurs 3 (935) (V46913002) 
LOCATION:Höfle, 001, EG, Pestalozzistr. 4, 71032 Böblingen
END:VEVENT
BEGIN:VEVENT
DTSTAMP:20260422T232311
DTSTART;TZID=Europe/Berlin:20260721T174500
DTEND;TZID=Europe/Berlin:20260721T213000
UID:V46913002-20260721T174500@VHSBÖBLINGEN-SINDELFINGEN
SUMMARY:Deutsch A2, Integrationskurs 3 (935) (V46913002) 
LOCATION:Höfle, 001, EG, Pestalozzistr. 4, 71032 Böblingen
END:VEVENT
BEGIN:VEVENT
DTSTAMP:20260422T232311
DTSTART;TZID=Europe/Berlin:20260723T174500
DTEND;TZID=Europe/Berlin:20260723T213000
UID:V46913002-20260723T174500@VHSBÖBLINGEN-SINDELFINGEN
SUMMARY:Deutsch A2, Integrationskurs 3 (935) (V46913002) 
LOCATION:Höfle, 001, EG, Pestalozzistr. 4, 71032 Böblingen
END:VEVENT
BEGIN:VEVENT
DTSTAMP:20260422T232311
DTSTART;TZID=Europe/Berlin:20260728T174500
DTEND;TZID=Europe/Berlin:20260728T213000
UID:V46913002-20260728T174500@VHSBÖBLINGEN-SINDELFINGEN
SUMMARY:Deutsch A2, Integrationskurs 3 (935) (V46913002) 
LOCATION:Höfle, 001, EG, Pestalozzistr. 4, 71032 Böblingen
END:VEVENT
BEGIN:VEVENT
DTSTAMP:20260422T232311
DTSTART;TZID=Europe/Berlin:20260915T174500
DTEND;TZID=Europe/Berlin:20260915T213000
UID:V46913002-20260915T174500@VHSBÖBLINGEN-SINDELFINGEN
SUMMARY:Deutsch A2, Integrationskurs 3 (935) (V46913002) 
LOCATION:Höfle, 001, EG, Pestalozzistr. 4, 71032 Böblingen
END:VEVENT
BEGIN:VEVENT
DTSTAMP:20260422T232311
DTSTART;TZID=Europe/Berlin:20260917T174500
DTEND;TZID=Europe/Berlin:20260917T213000
UID:V46913002-20260917T174500@VHSBÖBLINGEN-SINDELFINGEN
SUMMARY:Deutsch A2, Integrationskurs 3 (935) (V46913002) 
LOCATION:Höfle, 001, EG, Pestalozzistr. 4, 71032 Böblingen
END:VEVENT
BEGIN:VEVENT
DTSTAMP:20260422T232311
DTSTART;TZID=Europe/Berlin:20260922T174500
DTEND;TZID=Europe/Berlin:20260922T213000
UID:V46913002-20260922T174500@VHSBÖBLINGEN-SINDELFINGEN
SUMMARY:Deutsch A2, Integrationskurs 3 (935) (V46913002) 
LOCATION:Höfle, 001, EG, Pestalozzistr. 4, 71032 Böblingen
END:VEVENT
BEGIN:VEVENT
DTSTAMP:20260422T232311
DTSTART;TZID=Europe/Berlin:20260924T174500
DTEND;TZID=Europe/Berlin:20260924T213000
UID:V46913002-20260924T174500@VHSBÖBLINGEN-SINDELFINGEN
SUMMARY:Deutsch A2, Integrationskurs 3 (935) (V46913002) 
LOCATION:Höfle, 001, EG, Pestalozzistr. 4, 71032 Böblingen
END:VEVENT
BEGIN:VEVENT
DTSTAMP:20260422T232311
DTSTART;TZID=Europe/Berlin:20260929T174500
DTEND;TZID=Europe/Berlin:20260929T213000
UID:V46913002-20260929T174500@VHSBÖBLINGEN-SINDELFINGEN
SUMMARY:Deutsch A2, Integrationskurs 3 (935) (V46913002) 
LOCATION:Höfle, 001, EG, Pestalozzistr. 4, 71032 Böblingen
END:VEVENT
BEGIN:VEVENT
DTSTAMP:20260422T232311
DTSTART;TZID=Europe/Berlin:20261001T174500
DTEND;TZID=Europe/Berlin:20261001T213000
UID:V46913002-20261001T174500@VHSBÖBLINGEN-SINDELFINGEN
SUMMARY:Deutsch A2, Integrationskurs 3 (935) (V46913002) 
LOCATION:Höfle, 001, EG, Pestalozzistr. 4, 71032 Böblingen
END:VEVENT
END:VCALENDAR