BEGIN:VCALENDAR
VERSION:2.0
PRODID:https://www.kufer.de/kuferweb / DE
METHOD:PUBLISH
CALSCALE:GREGORIAN
X-WR-TIMEZONE:Europe/Berlin
BEGIN:VTIMEZONE
TZID:Europe/Berlin
X-LIC-LOCATION:Europe/Berlin
BEGIN:DAYLIGHT
TZOFFSETFROM:+0100
TZOFFSETTO:+0200
TZNAME:CEST
DTSTART:19700329T020000
RRULE:FREQ=YEARLY;INTERVAL=1;BYDAY=-1SU;BYMONTH=3
END:DAYLIGHT
BEGIN:STANDARD
TZOFFSETFROM:+0200
TZOFFSETTO:+0100
TZNAME:CET
DTSTART:19701025T030000
RRULE:FREQ=YEARLY;INTERVAL=1;BYDAY=-1SU;BYMONTH=10
END:STANDARD
END:VTIMEZONE
BEGIN:VEVENT
DTSTAMP:20260422T220444
DTSTART;TZID=Europe/Berlin:20260316T180000
DTEND;TZID=Europe/Berlin:20260316T223000
UID:V46913001-20260316T180000@VHSBÖBLINGEN-SINDELFINGEN
SUMMARY:Deutsch A2, Integrationskurs 3 (921) (V46913001) 
LOCATION:GHH, U 006, UG, Böblinger Str. 8 , 71065 Sindelfingen
END:VEVENT
BEGIN:VEVENT
DTSTAMP:20260422T220444
DTSTART;TZID=Europe/Berlin:20260319T180000
DTEND;TZID=Europe/Berlin:20260319T223000
UID:V46913001-20260319T180000@VHSBÖBLINGEN-SINDELFINGEN
SUMMARY:Deutsch A2, Integrationskurs 3 (921) (V46913001) 
LOCATION:GHH, U 006, UG, Böblinger Str. 8 , 71065 Sindelfingen
END:VEVENT
BEGIN:VEVENT
DTSTAMP:20260422T220444
DTSTART;TZID=Europe/Berlin:20260320T180000
DTEND;TZID=Europe/Berlin:20260320T223000
UID:V46913001-20260320T180000@VHSBÖBLINGEN-SINDELFINGEN
DESCRIPTION:Ersatztermin
SUMMARY:Deutsch A2, Integrationskurs 3 (921) (V46913001) 
LOCATION:GHH, U 006, UG, Böblinger Str. 8 , 71065 Sindelfingen
END:VEVENT
BEGIN:VEVENT
DTSTAMP:20260422T220444
DTSTART;TZID=Europe/Berlin:20260323T180000
DTEND;TZID=Europe/Berlin:20260323T223000
UID:V46913001-20260323T180000@VHSBÖBLINGEN-SINDELFINGEN
SUMMARY:Deutsch A2, Integrationskurs 3 (921) (V46913001) 
LOCATION:GHH, U 006, UG, Böblinger Str. 8 , 71065 Sindelfingen
END:VEVENT
BEGIN:VEVENT
DTSTAMP:20260422T220444
DTSTART;TZID=Europe/Berlin:20260326T180000
DTEND;TZID=Europe/Berlin:20260326T223000
UID:V46913001-20260326T180000@VHSBÖBLINGEN-SINDELFINGEN
SUMMARY:Deutsch A2, Integrationskurs 3 (921) (V46913001) 
LOCATION:GHH, U 006, UG, Böblinger Str. 8 , 71065 Sindelfingen
END:VEVENT
BEGIN:VEVENT
DTSTAMP:20260422T220444
DTSTART;TZID=Europe/Berlin:20260327T180000
DTEND;TZID=Europe/Berlin:20260327T223000
UID:V46913001-20260327T180000@VHSBÖBLINGEN-SINDELFINGEN
DESCRIPTION:Ersatztermin
SUMMARY:Deutsch A2, Integrationskurs 3 (921) (V46913001) 
LOCATION:GHH, U 006, UG, Böblinger Str. 8 , 71065 Sindelfingen
END:VEVENT
BEGIN:VEVENT
DTSTAMP:20260422T220444
DTSTART;TZID=Europe/Berlin:20260413T180000
DTEND;TZID=Europe/Berlin:20260413T223000
UID:V46913001-20260413T180000@VHSBÖBLINGEN-SINDELFINGEN
SUMMARY:Deutsch A2, Integrationskurs 3 (921) (V46913001) 
LOCATION:GHH, U 006, UG, Böblinger Str. 8 , 71065 Sindelfingen
END:VEVENT
BEGIN:VEVENT
DTSTAMP:20260422T220444
DTSTART;TZID=Europe/Berlin:20260416T180000
DTEND;TZID=Europe/Berlin:20260416T223000
UID:V46913001-20260416T180000@VHSBÖBLINGEN-SINDELFINGEN
SUMMARY:Deutsch A2, Integrationskurs 3 (921) (V46913001) 
LOCATION:GHH, U 006, UG, Böblinger Str. 8 , 71065 Sindelfingen
END:VEVENT
BEGIN:VEVENT
DTSTAMP:20260422T220444
DTSTART;TZID=Europe/Berlin:20260420T180000
DTEND;TZID=Europe/Berlin:20260420T223000
UID:V46913001-20260420T180000@VHSBÖBLINGEN-SINDELFINGEN
SUMMARY:Deutsch A2, Integrationskurs 3 (921) (V46913001) 
LOCATION:GHH, U 006, UG, Böblinger Str. 8 , 71065 Sindelfingen
END:VEVENT
BEGIN:VEVENT
DTSTAMP:20260422T220444
DTSTART;TZID=Europe/Berlin:20260423T180000
DTEND;TZID=Europe/Berlin:20260423T210000
UID:V46913001-20260423T180000@VHSBÖBLINGEN-SINDELFINGEN
SUMMARY:Deutsch A2, Integrationskurs 3 (921) (V46913001) 
LOCATION:GHH, U 006, UG, Böblinger Str. 8 , 71065 Sindelfingen
END:VEVENT
BEGIN:VEVENT
DTSTAMP:20260422T220444
DTSTART;TZID=Europe/Berlin:20260504T180000
DTEND;TZID=Europe/Berlin:20260504T223000
UID:V46913001-20260504T180000@VHSBÖBLINGEN-SINDELFINGEN
SUMMARY:Deutsch A2, Integrationskurs 3 (921) (V46913001) 
LOCATION:GHH, U 006, UG, Böblinger Str. 8 , 71065 Sindelfingen
END:VEVENT
BEGIN:VEVENT
DTSTAMP:20260422T220444
DTSTART;TZID=Europe/Berlin:20260507T180000
DTEND;TZID=Europe/Berlin:20260507T223000
UID:V46913001-20260507T180000@VHSBÖBLINGEN-SINDELFINGEN
SUMMARY:Deutsch A2, Integrationskurs 3 (921) (V46913001) 
LOCATION:GHH, U 006, UG, Böblinger Str. 8 , 71065 Sindelfingen
END:VEVENT
BEGIN:VEVENT
DTSTAMP:20260422T220444
DTSTART;TZID=Europe/Berlin:20260511T180000
DTEND;TZID=Europe/Berlin:20260511T223000
UID:V46913001-20260511T180000@VHSBÖBLINGEN-SINDELFINGEN
SUMMARY:Deutsch A2, Integrationskurs 3 (921) (V46913001) 
LOCATION:GHH, U 006, UG, Böblinger Str. 8 , 71065 Sindelfingen
END:VEVENT
BEGIN:VEVENT
DTSTAMP:20260422T220444
DTSTART;TZID=Europe/Berlin:20260518T180000
DTEND;TZID=Europe/Berlin:20260518T223000
UID:V46913001-20260518T180000@VHSBÖBLINGEN-SINDELFINGEN
SUMMARY:Deutsch A2, Integrationskurs 3 (921) (V46913001) 
LOCATION:GHH, U 006, UG, Böblinger Str. 8 , 71065 Sindelfingen
END:VEVENT
BEGIN:VEVENT
DTSTAMP:20260422T220444
DTSTART;TZID=Europe/Berlin:20260521T180000
DTEND;TZID=Europe/Berlin:20260521T223000
UID:V46913001-20260521T180000@VHSBÖBLINGEN-SINDELFINGEN
SUMMARY:Deutsch A2, Integrationskurs 3 (921) (V46913001) 
LOCATION:GHH, U 006, UG, Böblinger Str. 8 , 71065 Sindelfingen
END:VEVENT
BEGIN:VEVENT
DTSTAMP:20260422T220444
DTSTART;TZID=Europe/Berlin:20260608T180000
DTEND;TZID=Europe/Berlin:20260608T223000
UID:V46913001-20260608T180000@VHSBÖBLINGEN-SINDELFINGEN
SUMMARY:Deutsch A2, Integrationskurs 3 (921) (V46913001) 
LOCATION:GHH, U 006, UG, Böblinger Str. 8 , 71065 Sindelfingen
END:VEVENT
BEGIN:VEVENT
DTSTAMP:20260422T220444
DTSTART;TZID=Europe/Berlin:20260611T180000
DTEND;TZID=Europe/Berlin:20260611T223000
UID:V46913001-20260611T180000@VHSBÖBLINGEN-SINDELFINGEN
SUMMARY:Deutsch A2, Integrationskurs 3 (921) (V46913001) 
LOCATION:GHH, U 006, UG, Böblinger Str. 8 , 71065 Sindelfingen
END:VEVENT
END:VCALENDAR