BEGIN:VCALENDAR
VERSION:2.0
PRODID:https://www.kufer.de/kuferweb / DE
METHOD:PUBLISH
CALSCALE:GREGORIAN
X-WR-TIMEZONE:Europe/Berlin
BEGIN:VTIMEZONE
TZID:Europe/Berlin
X-LIC-LOCATION:Europe/Berlin
BEGIN:DAYLIGHT
TZOFFSETFROM:+0100
TZOFFSETTO:+0200
TZNAME:CEST
DTSTART:19700329T020000
RRULE:FREQ=YEARLY;INTERVAL=1;BYDAY=-1SU;BYMONTH=3
END:DAYLIGHT
BEGIN:STANDARD
TZOFFSETFROM:+0200
TZOFFSETTO:+0100
TZNAME:CET
DTSTART:19701025T030000
RRULE:FREQ=YEARLY;INTERVAL=1;BYDAY=-1SU;BYMONTH=10
END:STANDARD
END:VTIMEZONE
BEGIN:VEVENT
DTSTAMP:20260422T172841
DTSTART;TZID=Europe/Berlin:20260318T184500
DTEND;TZID=Europe/Berlin:20260318T220000
UID:V46912002-20260318T184500@VHSBÖBLINGEN-SINDELFINGEN
SUMMARY:Deutsch A1, Integrationskurs 2 (942) (V46912002) 
LOCATION:GHH, 101, 1.OG, Böblinger Str. 8, 71065 Sindelfingen
END:VEVENT
BEGIN:VEVENT
DTSTAMP:20260422T172841
DTSTART;TZID=Europe/Berlin:20260324T184500
DTEND;TZID=Europe/Berlin:20260324T220000
UID:V46912002-20260324T184500@VHSBÖBLINGEN-SINDELFINGEN
SUMMARY:Deutsch A1, Integrationskurs 2 (942) (V46912002) 
LOCATION:GHH, 101, 1.OG, Böblinger Str. 8, 71065 Sindelfingen
END:VEVENT
BEGIN:VEVENT
DTSTAMP:20260422T172841
DTSTART;TZID=Europe/Berlin:20260325T184500
DTEND;TZID=Europe/Berlin:20260325T220000
UID:V46912002-20260325T184500@VHSBÖBLINGEN-SINDELFINGEN
SUMMARY:Deutsch A1, Integrationskurs 2 (942) (V46912002) 
LOCATION:GHH, 101, 1.OG, Böblinger Str. 8, 71065 Sindelfingen
END:VEVENT
BEGIN:VEVENT
DTSTAMP:20260422T172841
DTSTART;TZID=Europe/Berlin:20260413T184500
DTEND;TZID=Europe/Berlin:20260413T220000
UID:V46912002-20260413T184500@VHSBÖBLINGEN-SINDELFINGEN
SUMMARY:Deutsch A1, Integrationskurs 2 (942) (V46912002) 
LOCATION:GHH, 101, 1.OG, Böblinger Str. 8, 71065 Sindelfingen
END:VEVENT
BEGIN:VEVENT
DTSTAMP:20260422T172841
DTSTART;TZID=Europe/Berlin:20260414T184500
DTEND;TZID=Europe/Berlin:20260414T220000
UID:V46912002-20260414T184500@VHSBÖBLINGEN-SINDELFINGEN
SUMMARY:Deutsch A1, Integrationskurs 2 (942) (V46912002) 
LOCATION:GHH, 101, 1.OG, Böblinger Str. 8, 71065 Sindelfingen
END:VEVENT
BEGIN:VEVENT
DTSTAMP:20260422T172841
DTSTART;TZID=Europe/Berlin:20260415T184500
DTEND;TZID=Europe/Berlin:20260415T220000
UID:V46912002-20260415T184500@VHSBÖBLINGEN-SINDELFINGEN
SUMMARY:Deutsch A1, Integrationskurs 2 (942) (V46912002) 
LOCATION:GHH, 101, 1.OG, Böblinger Str. 8, 71065 Sindelfingen
END:VEVENT
BEGIN:VEVENT
DTSTAMP:20260422T172841
DTSTART;TZID=Europe/Berlin:20260420T184500
DTEND;TZID=Europe/Berlin:20260420T220000
UID:V46912002-20260420T184500@VHSBÖBLINGEN-SINDELFINGEN
SUMMARY:Deutsch A1, Integrationskurs 2 (942) (V46912002) 
LOCATION:GHH, 101, 1.OG, Böblinger Str. 8, 71065 Sindelfingen
END:VEVENT
BEGIN:VEVENT
DTSTAMP:20260422T172841
DTSTART;TZID=Europe/Berlin:20260421T184500
DTEND;TZID=Europe/Berlin:20260421T220000
UID:V46912002-20260421T184500@VHSBÖBLINGEN-SINDELFINGEN
SUMMARY:Deutsch A1, Integrationskurs 2 (942) (V46912002) 
LOCATION:GHH, 101, 1.OG, Böblinger Str. 8, 71065 Sindelfingen
END:VEVENT
BEGIN:VEVENT
DTSTAMP:20260422T172841
DTSTART;TZID=Europe/Berlin:20260422T184500
DTEND;TZID=Europe/Berlin:20260422T220000
UID:V46912002-20260422T184500@VHSBÖBLINGEN-SINDELFINGEN
SUMMARY:Deutsch A1, Integrationskurs 2 (942) (V46912002) 
LOCATION:GHH, 101, 1.OG, Böblinger Str. 8, 71065 Sindelfingen
END:VEVENT
BEGIN:VEVENT
DTSTAMP:20260422T172841
DTSTART;TZID=Europe/Berlin:20260427T184500
DTEND;TZID=Europe/Berlin:20260427T220000
UID:V46912002-20260427T184500@VHSBÖBLINGEN-SINDELFINGEN
SUMMARY:Deutsch A1, Integrationskurs 2 (942) (V46912002) 
LOCATION:GHH, 101, 1.OG, Böblinger Str. 8, 71065 Sindelfingen
END:VEVENT
BEGIN:VEVENT
DTSTAMP:20260422T172841
DTSTART;TZID=Europe/Berlin:20260428T184500
DTEND;TZID=Europe/Berlin:20260428T220000
UID:V46912002-20260428T184500@VHSBÖBLINGEN-SINDELFINGEN
SUMMARY:Deutsch A1, Integrationskurs 2 (942) (V46912002) 
LOCATION:GHH, 101, 1.OG, Böblinger Str. 8, 71065 Sindelfingen
END:VEVENT
BEGIN:VEVENT
DTSTAMP:20260422T172841
DTSTART;TZID=Europe/Berlin:20260429T184500
DTEND;TZID=Europe/Berlin:20260429T220000
UID:V46912002-20260429T184500@VHSBÖBLINGEN-SINDELFINGEN
SUMMARY:Deutsch A1, Integrationskurs 2 (942) (V46912002) 
LOCATION:GHH, 101, 1.OG, Böblinger Str. 8, 71065 Sindelfingen
END:VEVENT
BEGIN:VEVENT
DTSTAMP:20260422T172841
DTSTART;TZID=Europe/Berlin:20260504T184500
DTEND;TZID=Europe/Berlin:20260504T220000
UID:V46912002-20260504T184500@VHSBÖBLINGEN-SINDELFINGEN
SUMMARY:Deutsch A1, Integrationskurs 2 (942) (V46912002) 
LOCATION:GHH, 101, 1.OG, Böblinger Str. 8, 71065 Sindelfingen
END:VEVENT
BEGIN:VEVENT
DTSTAMP:20260422T172841
DTSTART;TZID=Europe/Berlin:20260505T184500
DTEND;TZID=Europe/Berlin:20260505T220000
UID:V46912002-20260505T184500@VHSBÖBLINGEN-SINDELFINGEN
SUMMARY:Deutsch A1, Integrationskurs 2 (942) (V46912002) 
LOCATION:GHH, 101, 1.OG, Böblinger Str. 8, 71065 Sindelfingen
END:VEVENT
BEGIN:VEVENT
DTSTAMP:20260422T172841
DTSTART;TZID=Europe/Berlin:20260506T184500
DTEND;TZID=Europe/Berlin:20260506T220000
UID:V46912002-20260506T184500@VHSBÖBLINGEN-SINDELFINGEN
SUMMARY:Deutsch A1, Integrationskurs 2 (942) (V46912002) 
LOCATION:GHH, 101, 1.OG, Böblinger Str. 8, 71065 Sindelfingen
END:VEVENT
BEGIN:VEVENT
DTSTAMP:20260422T172841
DTSTART;TZID=Europe/Berlin:20260511T184500
DTEND;TZID=Europe/Berlin:20260511T220000
UID:V46912002-20260511T184500@VHSBÖBLINGEN-SINDELFINGEN
SUMMARY:Deutsch A1, Integrationskurs 2 (942) (V46912002) 
LOCATION:GHH, 101, 1.OG, Böblinger Str. 8, 71065 Sindelfingen
END:VEVENT
BEGIN:VEVENT
DTSTAMP:20260422T172841
DTSTART;TZID=Europe/Berlin:20260512T184500
DTEND;TZID=Europe/Berlin:20260512T220000
UID:V46912002-20260512T184500@VHSBÖBLINGEN-SINDELFINGEN
SUMMARY:Deutsch A1, Integrationskurs 2 (942) (V46912002) 
LOCATION:GHH, 101, 1.OG, Böblinger Str. 8, 71065 Sindelfingen
END:VEVENT
BEGIN:VEVENT
DTSTAMP:20260422T172841
DTSTART;TZID=Europe/Berlin:20260513T184500
DTEND;TZID=Europe/Berlin:20260513T220000
UID:V46912002-20260513T184500@VHSBÖBLINGEN-SINDELFINGEN
SUMMARY:Deutsch A1, Integrationskurs 2 (942) (V46912002) 
LOCATION:GHH, 101, 1.OG, Böblinger Str. 8, 71065 Sindelfingen
END:VEVENT
BEGIN:VEVENT
DTSTAMP:20260422T172841
DTSTART;TZID=Europe/Berlin:20260518T184500
DTEND;TZID=Europe/Berlin:20260518T220000
UID:V46912002-20260518T184500@VHSBÖBLINGEN-SINDELFINGEN
SUMMARY:Deutsch A1, Integrationskurs 2 (942) (V46912002) 
LOCATION:GHH, 101, 1.OG, Böblinger Str. 8, 71065 Sindelfingen
END:VEVENT
BEGIN:VEVENT
DTSTAMP:20260422T172841
DTSTART;TZID=Europe/Berlin:20260519T184500
DTEND;TZID=Europe/Berlin:20260519T220000
UID:V46912002-20260519T184500@VHSBÖBLINGEN-SINDELFINGEN
SUMMARY:Deutsch A1, Integrationskurs 2 (942) (V46912002) 
LOCATION:GHH, 101, 1.OG, Böblinger Str. 8, 71065 Sindelfingen
END:VEVENT
BEGIN:VEVENT
DTSTAMP:20260422T172841
DTSTART;TZID=Europe/Berlin:20260520T184500
DTEND;TZID=Europe/Berlin:20260520T220000
UID:V46912002-20260520T184500@VHSBÖBLINGEN-SINDELFINGEN
SUMMARY:Deutsch A1, Integrationskurs 2 (942) (V46912002) 
LOCATION:GHH, 101, 1.OG, Böblinger Str. 8, 71065 Sindelfingen
END:VEVENT
BEGIN:VEVENT
DTSTAMP:20260422T172841
DTSTART;TZID=Europe/Berlin:20260608T184500
DTEND;TZID=Europe/Berlin:20260608T220000
UID:V46912002-20260608T184500@VHSBÖBLINGEN-SINDELFINGEN
SUMMARY:Deutsch A1, Integrationskurs 2 (942) (V46912002) 
LOCATION:GHH, 101, 1.OG, Böblinger Str. 8, 71065 Sindelfingen
END:VEVENT
BEGIN:VEVENT
DTSTAMP:20260422T172841
DTSTART;TZID=Europe/Berlin:20260609T184500
DTEND;TZID=Europe/Berlin:20260609T220000
UID:V46912002-20260609T184500@VHSBÖBLINGEN-SINDELFINGEN
SUMMARY:Deutsch A1, Integrationskurs 2 (942) (V46912002) 
LOCATION:GHH, 101, 1.OG, Böblinger Str. 8, 71065 Sindelfingen
END:VEVENT
BEGIN:VEVENT
DTSTAMP:20260422T172841
DTSTART;TZID=Europe/Berlin:20260610T184500
DTEND;TZID=Europe/Berlin:20260610T220000
UID:V46912002-20260610T184500@VHSBÖBLINGEN-SINDELFINGEN
SUMMARY:Deutsch A1, Integrationskurs 2 (942) (V46912002) 
LOCATION:GHH, 101, 1.OG, Böblinger Str. 8, 71065 Sindelfingen
END:VEVENT
END:VCALENDAR