BEGIN:VCALENDAR
VERSION:2.0
PRODID:https://www.kufer.de/kuferweb / DE
METHOD:PUBLISH
CALSCALE:GREGORIAN
X-WR-TIMEZONE:Europe/Berlin
BEGIN:VTIMEZONE
TZID:Europe/Berlin
X-LIC-LOCATION:Europe/Berlin
BEGIN:DAYLIGHT
TZOFFSETFROM:+0100
TZOFFSETTO:+0200
TZNAME:CEST
DTSTART:19700329T020000
RRULE:FREQ=YEARLY;INTERVAL=1;BYDAY=-1SU;BYMONTH=3
END:DAYLIGHT
BEGIN:STANDARD
TZOFFSETFROM:+0200
TZOFFSETTO:+0100
TZNAME:CET
DTSTART:19701025T030000
RRULE:FREQ=YEARLY;INTERVAL=1;BYDAY=-1SU;BYMONTH=10
END:STANDARD
END:VTIMEZONE
BEGIN:VEVENT
DTSTAMP:20260420T182257
DTSTART;TZID=Europe/Berlin:20260421T174500
DTEND;TZID=Europe/Berlin:20260421T221500
UID:V46911002-20260421T174500@VHSBÖBLINGEN-SINDELFINGEN
SUMMARY:Deutsch A1, Integrationskurs 1 (964) (V46911002) 
LOCATION:Höfle, 005, EG, Pestalozzistr. 4, 71032 Böblingen
END:VEVENT
BEGIN:VEVENT
DTSTAMP:20260420T182257
DTSTART;TZID=Europe/Berlin:20260423T174500
DTEND;TZID=Europe/Berlin:20260423T221500
UID:V46911002-20260423T174500@VHSBÖBLINGEN-SINDELFINGEN
SUMMARY:Deutsch A1, Integrationskurs 1 (964) (V46911002) 
LOCATION:vba.Seminarraum, Pestalozzistr. 4, 71032 Böblingen
END:VEVENT
BEGIN:VEVENT
DTSTAMP:20260420T182257
DTSTART;TZID=Europe/Berlin:20260428T174500
DTEND;TZID=Europe/Berlin:20260428T221500
UID:V46911002-20260428T174500@VHSBÖBLINGEN-SINDELFINGEN
SUMMARY:Deutsch A1, Integrationskurs 1 (964) (V46911002) 
LOCATION:Höfle, 005, EG, Pestalozzistr. 4, 71032 Böblingen
END:VEVENT
BEGIN:VEVENT
DTSTAMP:20260420T182257
DTSTART;TZID=Europe/Berlin:20260430T174500
DTEND;TZID=Europe/Berlin:20260430T221500
UID:V46911002-20260430T174500@VHSBÖBLINGEN-SINDELFINGEN
SUMMARY:Deutsch A1, Integrationskurs 1 (964) (V46911002) 
LOCATION:Höfle, 005, EG, Pestalozzistr. 4, 71032 Böblingen
END:VEVENT
BEGIN:VEVENT
DTSTAMP:20260420T182257
DTSTART;TZID=Europe/Berlin:20260505T174500
DTEND;TZID=Europe/Berlin:20260505T221500
UID:V46911002-20260505T174500@VHSBÖBLINGEN-SINDELFINGEN
SUMMARY:Deutsch A1, Integrationskurs 1 (964) (V46911002) 
LOCATION:Höfle, 005, EG, Pestalozzistr. 4, 71032 Böblingen
END:VEVENT
BEGIN:VEVENT
DTSTAMP:20260420T182257
DTSTART;TZID=Europe/Berlin:20260507T174500
DTEND;TZID=Europe/Berlin:20260507T221500
UID:V46911002-20260507T174500@VHSBÖBLINGEN-SINDELFINGEN
SUMMARY:Deutsch A1, Integrationskurs 1 (964) (V46911002) 
LOCATION:Höfle, 005, EG, Pestalozzistr. 4, 71032 Böblingen
END:VEVENT
BEGIN:VEVENT
DTSTAMP:20260420T182257
DTSTART;TZID=Europe/Berlin:20260512T174500
DTEND;TZID=Europe/Berlin:20260512T221500
UID:V46911002-20260512T174500@VHSBÖBLINGEN-SINDELFINGEN
SUMMARY:Deutsch A1, Integrationskurs 1 (964) (V46911002) 
LOCATION:Höfle, 005, EG, Pestalozzistr. 4, 71032 Böblingen
END:VEVENT
BEGIN:VEVENT
DTSTAMP:20260420T182257
DTSTART;TZID=Europe/Berlin:20260519T174500
DTEND;TZID=Europe/Berlin:20260519T221500
UID:V46911002-20260519T174500@VHSBÖBLINGEN-SINDELFINGEN
SUMMARY:Deutsch A1, Integrationskurs 1 (964) (V46911002) 
LOCATION:Höfle, 005, EG, Pestalozzistr. 4, 71032 Böblingen
END:VEVENT
BEGIN:VEVENT
DTSTAMP:20260420T182257
DTSTART;TZID=Europe/Berlin:20260521T174500
DTEND;TZID=Europe/Berlin:20260521T221500
UID:V46911002-20260521T174500@VHSBÖBLINGEN-SINDELFINGEN
SUMMARY:Deutsch A1, Integrationskurs 1 (964) (V46911002) 
LOCATION:Höfle, 005, EG, Pestalozzistr. 4, 71032 Böblingen
END:VEVENT
BEGIN:VEVENT
DTSTAMP:20260420T182257
DTSTART;TZID=Europe/Berlin:20260609T174500
DTEND;TZID=Europe/Berlin:20260609T221500
UID:V46911002-20260609T174500@VHSBÖBLINGEN-SINDELFINGEN
SUMMARY:Deutsch A1, Integrationskurs 1 (964) (V46911002) 
LOCATION:Höfle, 005, EG, Pestalozzistr. 4, 71032 Böblingen
END:VEVENT
BEGIN:VEVENT
DTSTAMP:20260420T182257
DTSTART;TZID=Europe/Berlin:20260611T174500
DTEND;TZID=Europe/Berlin:20260611T221500
UID:V46911002-20260611T174500@VHSBÖBLINGEN-SINDELFINGEN
SUMMARY:Deutsch A1, Integrationskurs 1 (964) (V46911002) 
LOCATION:Höfle, 005, EG, Pestalozzistr. 4, 71032 Böblingen
END:VEVENT
BEGIN:VEVENT
DTSTAMP:20260420T182257
DTSTART;TZID=Europe/Berlin:20260616T174500
DTEND;TZID=Europe/Berlin:20260616T221500
UID:V46911002-20260616T174500@VHSBÖBLINGEN-SINDELFINGEN
SUMMARY:Deutsch A1, Integrationskurs 1 (964) (V46911002) 
LOCATION:Höfle, 005, EG, Pestalozzistr. 4, 71032 Böblingen
END:VEVENT
BEGIN:VEVENT
DTSTAMP:20260420T182257
DTSTART;TZID=Europe/Berlin:20260618T174500
DTEND;TZID=Europe/Berlin:20260618T221500
UID:V46911002-20260618T174500@VHSBÖBLINGEN-SINDELFINGEN
SUMMARY:Deutsch A1, Integrationskurs 1 (964) (V46911002) 
LOCATION:Höfle, 005, EG, Pestalozzistr. 4, 71032 Böblingen
END:VEVENT
BEGIN:VEVENT
DTSTAMP:20260420T182257
DTSTART;TZID=Europe/Berlin:20260623T174500
DTEND;TZID=Europe/Berlin:20260623T221500
UID:V46911002-20260623T174500@VHSBÖBLINGEN-SINDELFINGEN
SUMMARY:Deutsch A1, Integrationskurs 1 (964) (V46911002) 
LOCATION:Höfle, 005, EG, Pestalozzistr. 4, 71032 Böblingen
END:VEVENT
BEGIN:VEVENT
DTSTAMP:20260420T182257
DTSTART;TZID=Europe/Berlin:20260625T174500
DTEND;TZID=Europe/Berlin:20260625T213000
UID:V46911002-20260625T174500@VHSBÖBLINGEN-SINDELFINGEN
SUMMARY:Deutsch A1, Integrationskurs 1 (964) (V46911002) 
LOCATION:Höfle, 005, EG, Pestalozzistr. 4, 71032 Böblingen
END:VEVENT
BEGIN:VEVENT
DTSTAMP:20260420T182257
DTSTART;TZID=Europe/Berlin:20260630T174500
DTEND;TZID=Europe/Berlin:20260630T213000
UID:V46911002-20260630T174500@VHSBÖBLINGEN-SINDELFINGEN
SUMMARY:Deutsch A1, Integrationskurs 1 (964) (V46911002) 
LOCATION:Höfle, 005, EG, Pestalozzistr. 4, 71032 Böblingen
END:VEVENT
BEGIN:VEVENT
DTSTAMP:20260420T182257
DTSTART;TZID=Europe/Berlin:20260702T174500
DTEND;TZID=Europe/Berlin:20260702T221500
UID:V46911002-20260702T174500@VHSBÖBLINGEN-SINDELFINGEN
SUMMARY:Deutsch A1, Integrationskurs 1 (964) (V46911002) 
LOCATION:Höfle, 005, EG, Pestalozzistr. 4, 71032 Böblingen
END:VEVENT
END:VCALENDAR