BEGIN:VCALENDAR
VERSION:2.0
PRODID:https://www.kufer.de/kuferweb / DE
METHOD:PUBLISH
CALSCALE:GREGORIAN
X-WR-TIMEZONE:Europe/Berlin
BEGIN:VTIMEZONE
TZID:Europe/Berlin
X-LIC-LOCATION:Europe/Berlin
BEGIN:DAYLIGHT
TZOFFSETFROM:+0100
TZOFFSETTO:+0200
TZNAME:CEST
DTSTART:19700329T020000
RRULE:FREQ=YEARLY;INTERVAL=1;BYDAY=-1SU;BYMONTH=3
END:DAYLIGHT
BEGIN:STANDARD
TZOFFSETFROM:+0200
TZOFFSETTO:+0100
TZNAME:CET
DTSTART:19701025T030000
RRULE:FREQ=YEARLY;INTERVAL=1;BYDAY=-1SU;BYMONTH=10
END:STANDARD
END:VTIMEZONE
BEGIN:VEVENT
DTSTAMP:20260422T225912
DTSTART;TZID=Europe/Berlin:20260326T173000
DTEND;TZID=Europe/Berlin:20260326T220000
UID:V46911001-20260326T173000@VHSBÖBLINGEN-SINDELFINGEN
SUMMARY:Deutsch A1, Integrationskurs 1 (957) (V46911001) 
LOCATION:Neckarstraße, 005, Neckarstraße 16, 71065 Sindelfingen
END:VEVENT
BEGIN:VEVENT
DTSTAMP:20260422T225912
DTSTART;TZID=Europe/Berlin:20260413T173000
DTEND;TZID=Europe/Berlin:20260413T220000
UID:V46911001-20260413T173000@VHSBÖBLINGEN-SINDELFINGEN
SUMMARY:Deutsch A1, Integrationskurs 1 (957) (V46911001) 
LOCATION:Neckarstraße, 005, Neckarstraße 16, 71065 Sindelfingen
END:VEVENT
BEGIN:VEVENT
DTSTAMP:20260422T225912
DTSTART;TZID=Europe/Berlin:20260416T173000
DTEND;TZID=Europe/Berlin:20260416T220000
UID:V46911001-20260416T173000@VHSBÖBLINGEN-SINDELFINGEN
SUMMARY:Deutsch A1, Integrationskurs 1 (957) (V46911001) 
LOCATION:Neckarstraße, 005, Neckarstraße 16, 71065 Sindelfingen
END:VEVENT
BEGIN:VEVENT
DTSTAMP:20260422T225912
DTSTART;TZID=Europe/Berlin:20260420T173000
DTEND;TZID=Europe/Berlin:20260420T220000
UID:V46911001-20260420T173000@VHSBÖBLINGEN-SINDELFINGEN
SUMMARY:Deutsch A1, Integrationskurs 1 (957) (V46911001) 
LOCATION:Neckarstraße, 005, Neckarstraße 16, 71065 Sindelfingen
END:VEVENT
BEGIN:VEVENT
DTSTAMP:20260422T225912
DTSTART;TZID=Europe/Berlin:20260423T173000
DTEND;TZID=Europe/Berlin:20260423T220000
UID:V46911001-20260423T173000@VHSBÖBLINGEN-SINDELFINGEN
SUMMARY:Deutsch A1, Integrationskurs 1 (957) (V46911001) 
LOCATION:Neckarstraße, 005, Neckarstraße 16, 71065 Sindelfingen
END:VEVENT
BEGIN:VEVENT
DTSTAMP:20260422T225912
DTSTART;TZID=Europe/Berlin:20260427T173000
DTEND;TZID=Europe/Berlin:20260427T220000
UID:V46911001-20260427T173000@VHSBÖBLINGEN-SINDELFINGEN
SUMMARY:Deutsch A1, Integrationskurs 1 (957) (V46911001) 
LOCATION:Neckarstraße, 005, Neckarstraße 16, 71065 Sindelfingen
END:VEVENT
BEGIN:VEVENT
DTSTAMP:20260422T225912
DTSTART;TZID=Europe/Berlin:20260430T173000
DTEND;TZID=Europe/Berlin:20260430T220000
UID:V46911001-20260430T173000@VHSBÖBLINGEN-SINDELFINGEN
SUMMARY:Deutsch A1, Integrationskurs 1 (957) (V46911001) 
LOCATION:Neckarstraße, 005, Neckarstraße 16, 71065 Sindelfingen
END:VEVENT
BEGIN:VEVENT
DTSTAMP:20260422T225912
DTSTART;TZID=Europe/Berlin:20260504T173000
DTEND;TZID=Europe/Berlin:20260504T220000
UID:V46911001-20260504T173000@VHSBÖBLINGEN-SINDELFINGEN
SUMMARY:Deutsch A1, Integrationskurs 1 (957) (V46911001) 
LOCATION:Neckarstraße, 005, Neckarstraße 16, 71065 Sindelfingen
END:VEVENT
BEGIN:VEVENT
DTSTAMP:20260422T225912
DTSTART;TZID=Europe/Berlin:20260507T173000
DTEND;TZID=Europe/Berlin:20260507T220000
UID:V46911001-20260507T173000@VHSBÖBLINGEN-SINDELFINGEN
SUMMARY:Deutsch A1, Integrationskurs 1 (957) (V46911001) 
LOCATION:Neckarstraße, 005, Neckarstraße 16, 71065 Sindelfingen
END:VEVENT
BEGIN:VEVENT
DTSTAMP:20260422T225912
DTSTART;TZID=Europe/Berlin:20260511T173000
DTEND;TZID=Europe/Berlin:20260511T220000
UID:V46911001-20260511T173000@VHSBÖBLINGEN-SINDELFINGEN
SUMMARY:Deutsch A1, Integrationskurs 1 (957) (V46911001) 
LOCATION:Neckarstraße, 005, Neckarstraße 16, 71065 Sindelfingen
END:VEVENT
BEGIN:VEVENT
DTSTAMP:20260422T225912
DTSTART;TZID=Europe/Berlin:20260518T173000
DTEND;TZID=Europe/Berlin:20260518T220000
UID:V46911001-20260518T173000@VHSBÖBLINGEN-SINDELFINGEN
SUMMARY:Deutsch A1, Integrationskurs 1 (957) (V46911001) 
LOCATION:Neckarstraße, 005, Neckarstraße 16, 71065 Sindelfingen
END:VEVENT
BEGIN:VEVENT
DTSTAMP:20260422T225912
DTSTART;TZID=Europe/Berlin:20260521T173000
DTEND;TZID=Europe/Berlin:20260521T220000
UID:V46911001-20260521T173000@VHSBÖBLINGEN-SINDELFINGEN
SUMMARY:Deutsch A1, Integrationskurs 1 (957) (V46911001) 
LOCATION:Neckarstraße, 005, Neckarstraße 16, 71065 Sindelfingen
END:VEVENT
BEGIN:VEVENT
DTSTAMP:20260422T225912
DTSTART;TZID=Europe/Berlin:20260608T173000
DTEND;TZID=Europe/Berlin:20260608T220000
UID:V46911001-20260608T173000@VHSBÖBLINGEN-SINDELFINGEN
SUMMARY:Deutsch A1, Integrationskurs 1 (957) (V46911001) 
LOCATION:Neckarstraße, 005, Neckarstraße 16, 71065 Sindelfingen
END:VEVENT
BEGIN:VEVENT
DTSTAMP:20260422T225912
DTSTART;TZID=Europe/Berlin:20260611T173000
DTEND;TZID=Europe/Berlin:20260611T220000
UID:V46911001-20260611T173000@VHSBÖBLINGEN-SINDELFINGEN
SUMMARY:Deutsch A1, Integrationskurs 1 (957) (V46911001) 
LOCATION:Neckarstraße, 005, Neckarstraße 16, 71065 Sindelfingen
END:VEVENT
BEGIN:VEVENT
DTSTAMP:20260422T225912
DTSTART;TZID=Europe/Berlin:20260615T173000
DTEND;TZID=Europe/Berlin:20260615T220000
UID:V46911001-20260615T173000@VHSBÖBLINGEN-SINDELFINGEN
SUMMARY:Deutsch A1, Integrationskurs 1 (957) (V46911001) 
LOCATION:Neckarstraße, 005, Neckarstraße 16, 71065 Sindelfingen
END:VEVENT
BEGIN:VEVENT
DTSTAMP:20260422T225912
DTSTART;TZID=Europe/Berlin:20260618T173000
DTEND;TZID=Europe/Berlin:20260618T203000
UID:V46911001-20260618T173000@VHSBÖBLINGEN-SINDELFINGEN
SUMMARY:Deutsch A1, Integrationskurs 1 (957) (V46911001) 
LOCATION:Neckarstraße, 005, Neckarstraße 16, 71065 Sindelfingen
END:VEVENT
BEGIN:VEVENT
DTSTAMP:20260422T225912
DTSTART;TZID=Europe/Berlin:20260622T173000
DTEND;TZID=Europe/Berlin:20260622T220000
UID:V46911001-20260622T173000@VHSBÖBLINGEN-SINDELFINGEN
SUMMARY:Deutsch A1, Integrationskurs 1 (957) (V46911001) 
LOCATION:Neckarstraße, 005, Neckarstraße 16, 71065 Sindelfingen
END:VEVENT
END:VCALENDAR