BEGIN:VCALENDAR
VERSION:2.0
PRODID:https://www.kufer.de/kuferweb / DE
METHOD:PUBLISH
CALSCALE:GREGORIAN
X-WR-TIMEZONE:Europe/Berlin
BEGIN:VTIMEZONE
TZID:Europe/Berlin
X-LIC-LOCATION:Europe/Berlin
BEGIN:DAYLIGHT
TZOFFSETFROM:+0100
TZOFFSETTO:+0200
TZNAME:CEST
DTSTART:19700329T020000
RRULE:FREQ=YEARLY;INTERVAL=1;BYDAY=-1SU;BYMONTH=3
END:DAYLIGHT
BEGIN:STANDARD
TZOFFSETFROM:+0200
TZOFFSETTO:+0100
TZNAME:CET
DTSTART:19701025T030000
RRULE:FREQ=YEARLY;INTERVAL=1;BYDAY=-1SU;BYMONTH=10
END:STANDARD
END:VTIMEZONE
BEGIN:VEVENT
DTSTAMP:20260422T201825
DTSTART;TZID=Europe/Berlin:20260713T080000
DTEND;TZID=Europe/Berlin:20260713T120000
UID:V46439002-20260713T080000@VHSBÖBLINGEN-SINDELFINGEN
SUMMARY:Deutsch, Alphabetisierungskurs (V46439002) 
LOCATION:Höfle, 004, EG, Pestalozzistr. 4, 71032 Böblingen
END:VEVENT
BEGIN:VEVENT
DTSTAMP:20260422T201825
DTSTART;TZID=Europe/Berlin:20260714T080000
DTEND;TZID=Europe/Berlin:20260714T120000
UID:V46439002-20260714T080000@VHSBÖBLINGEN-SINDELFINGEN
SUMMARY:Deutsch, Alphabetisierungskurs (V46439002) 
LOCATION:Höfle, 004, EG, Pestalozzistr. 4, 71032 Böblingen
END:VEVENT
BEGIN:VEVENT
DTSTAMP:20260422T201825
DTSTART;TZID=Europe/Berlin:20260716T080000
DTEND;TZID=Europe/Berlin:20260716T120000
UID:V46439002-20260716T080000@VHSBÖBLINGEN-SINDELFINGEN
SUMMARY:Deutsch, Alphabetisierungskurs (V46439002) 
LOCATION:Höfle, 004, EG, Pestalozzistr. 4, 71032 Böblingen
END:VEVENT
BEGIN:VEVENT
DTSTAMP:20260422T201825
DTSTART;TZID=Europe/Berlin:20260720T080000
DTEND;TZID=Europe/Berlin:20260720T120000
UID:V46439002-20260720T080000@VHSBÖBLINGEN-SINDELFINGEN
SUMMARY:Deutsch, Alphabetisierungskurs (V46439002) 
LOCATION:Höfle, 004, EG, Pestalozzistr. 4, 71032 Böblingen
END:VEVENT
BEGIN:VEVENT
DTSTAMP:20260422T201825
DTSTART;TZID=Europe/Berlin:20260721T080000
DTEND;TZID=Europe/Berlin:20260721T120000
UID:V46439002-20260721T080000@VHSBÖBLINGEN-SINDELFINGEN
SUMMARY:Deutsch, Alphabetisierungskurs (V46439002) 
LOCATION:Höfle, 004, EG, Pestalozzistr. 4, 71032 Böblingen
END:VEVENT
BEGIN:VEVENT
DTSTAMP:20260422T201825
DTSTART;TZID=Europe/Berlin:20260723T080000
DTEND;TZID=Europe/Berlin:20260723T120000
UID:V46439002-20260723T080000@VHSBÖBLINGEN-SINDELFINGEN
SUMMARY:Deutsch, Alphabetisierungskurs (V46439002) 
LOCATION:Höfle, 004, EG, Pestalozzistr. 4, 71032 Böblingen
END:VEVENT
BEGIN:VEVENT
DTSTAMP:20260422T201825
DTSTART;TZID=Europe/Berlin:20260727T080000
DTEND;TZID=Europe/Berlin:20260727T120000
UID:V46439002-20260727T080000@VHSBÖBLINGEN-SINDELFINGEN
SUMMARY:Deutsch, Alphabetisierungskurs (V46439002) 
LOCATION:Höfle, 004, EG, Pestalozzistr. 4, 71032 Böblingen
END:VEVENT
BEGIN:VEVENT
DTSTAMP:20260422T201825
DTSTART;TZID=Europe/Berlin:20260728T080000
DTEND;TZID=Europe/Berlin:20260728T120000
UID:V46439002-20260728T080000@VHSBÖBLINGEN-SINDELFINGEN
SUMMARY:Deutsch, Alphabetisierungskurs (V46439002) 
LOCATION:Höfle, 004, EG, Pestalozzistr. 4, 71032 Böblingen
END:VEVENT
BEGIN:VEVENT
DTSTAMP:20260422T201825
DTSTART;TZID=Europe/Berlin:20260914T080000
DTEND;TZID=Europe/Berlin:20260914T120000
UID:V46439002-20260914T080000@VHSBÖBLINGEN-SINDELFINGEN
SUMMARY:Deutsch, Alphabetisierungskurs (V46439002) 
LOCATION:Höfle, 004, EG, Pestalozzistr. 4, 71032 Böblingen
END:VEVENT
BEGIN:VEVENT
DTSTAMP:20260422T201825
DTSTART;TZID=Europe/Berlin:20260915T080000
DTEND;TZID=Europe/Berlin:20260915T120000
UID:V46439002-20260915T080000@VHSBÖBLINGEN-SINDELFINGEN
SUMMARY:Deutsch, Alphabetisierungskurs (V46439002) 
LOCATION:Höfle, 004, EG, Pestalozzistr. 4, 71032 Böblingen
END:VEVENT
BEGIN:VEVENT
DTSTAMP:20260422T201825
DTSTART;TZID=Europe/Berlin:20260917T080000
DTEND;TZID=Europe/Berlin:20260917T120000
UID:V46439002-20260917T080000@VHSBÖBLINGEN-SINDELFINGEN
SUMMARY:Deutsch, Alphabetisierungskurs (V46439002) 
LOCATION:Höfle, 004, EG, Pestalozzistr. 4, 71032 Böblingen
END:VEVENT
BEGIN:VEVENT
DTSTAMP:20260422T201825
DTSTART;TZID=Europe/Berlin:20260921T080000
DTEND;TZID=Europe/Berlin:20260921T120000
UID:V46439002-20260921T080000@VHSBÖBLINGEN-SINDELFINGEN
SUMMARY:Deutsch, Alphabetisierungskurs (V46439002) 
LOCATION:Höfle, 004, EG, Pestalozzistr. 4, 71032 Böblingen
END:VEVENT
BEGIN:VEVENT
DTSTAMP:20260422T201825
DTSTART;TZID=Europe/Berlin:20260922T080000
DTEND;TZID=Europe/Berlin:20260922T120000
UID:V46439002-20260922T080000@VHSBÖBLINGEN-SINDELFINGEN
SUMMARY:Deutsch, Alphabetisierungskurs (V46439002) 
LOCATION:Höfle, 004, EG, Pestalozzistr. 4, 71032 Böblingen
END:VEVENT
BEGIN:VEVENT
DTSTAMP:20260422T201825
DTSTART;TZID=Europe/Berlin:20260924T080000
DTEND;TZID=Europe/Berlin:20260924T120000
UID:V46439002-20260924T080000@VHSBÖBLINGEN-SINDELFINGEN
SUMMARY:Deutsch, Alphabetisierungskurs (V46439002) 
LOCATION:Höfle, 004, EG, Pestalozzistr. 4, 71032 Böblingen
END:VEVENT
BEGIN:VEVENT
DTSTAMP:20260422T201825
DTSTART;TZID=Europe/Berlin:20260928T080000
DTEND;TZID=Europe/Berlin:20260928T120000
UID:V46439002-20260928T080000@VHSBÖBLINGEN-SINDELFINGEN
SUMMARY:Deutsch, Alphabetisierungskurs (V46439002) 
LOCATION:Höfle, 004, EG, Pestalozzistr. 4, 71032 Böblingen
END:VEVENT
BEGIN:VEVENT
DTSTAMP:20260422T201825
DTSTART;TZID=Europe/Berlin:20260929T080000
DTEND;TZID=Europe/Berlin:20260929T120000
UID:V46439002-20260929T080000@VHSBÖBLINGEN-SINDELFINGEN
SUMMARY:Deutsch, Alphabetisierungskurs (V46439002) 
LOCATION:Höfle, 004, EG, Pestalozzistr. 4, 71032 Böblingen
END:VEVENT
BEGIN:VEVENT
DTSTAMP:20260422T201825
DTSTART;TZID=Europe/Berlin:20261001T080000
DTEND;TZID=Europe/Berlin:20261001T120000
UID:V46439002-20261001T080000@VHSBÖBLINGEN-SINDELFINGEN
SUMMARY:Deutsch, Alphabetisierungskurs (V46439002) 
LOCATION:Höfle, 004, EG, Pestalozzistr. 4, 71032 Böblingen
END:VEVENT
BEGIN:VEVENT
DTSTAMP:20260422T201825
DTSTART;TZID=Europe/Berlin:20261005T080000
DTEND;TZID=Europe/Berlin:20261005T120000
UID:V46439002-20261005T080000@VHSBÖBLINGEN-SINDELFINGEN
SUMMARY:Deutsch, Alphabetisierungskurs (V46439002) 
LOCATION:Höfle, 004, EG, Pestalozzistr. 4, 71032 Böblingen
END:VEVENT
BEGIN:VEVENT
DTSTAMP:20260422T201825
DTSTART;TZID=Europe/Berlin:20261006T080000
DTEND;TZID=Europe/Berlin:20261006T120000
UID:V46439002-20261006T080000@VHSBÖBLINGEN-SINDELFINGEN
SUMMARY:Deutsch, Alphabetisierungskurs (V46439002) 
LOCATION:Höfle, 004, EG, Pestalozzistr. 4, 71032 Böblingen
END:VEVENT
BEGIN:VEVENT
DTSTAMP:20260422T201825
DTSTART;TZID=Europe/Berlin:20261008T080000
DTEND;TZID=Europe/Berlin:20261008T120000
UID:V46439002-20261008T080000@VHSBÖBLINGEN-SINDELFINGEN
SUMMARY:Deutsch, Alphabetisierungskurs (V46439002) 
LOCATION:Höfle, 004, EG, Pestalozzistr. 4, 71032 Böblingen
END:VEVENT
END:VCALENDAR