BEGIN:VCALENDAR
VERSION:2.0
PRODID:https://www.kufer.de/kuferweb / DE
METHOD:PUBLISH
CALSCALE:GREGORIAN
X-WR-TIMEZONE:Europe/Berlin
BEGIN:VTIMEZONE
TZID:Europe/Berlin
X-LIC-LOCATION:Europe/Berlin
BEGIN:DAYLIGHT
TZOFFSETFROM:+0100
TZOFFSETTO:+0200
TZNAME:CEST
DTSTART:19700329T020000
RRULE:FREQ=YEARLY;INTERVAL=1;BYDAY=-1SU;BYMONTH=3
END:DAYLIGHT
BEGIN:STANDARD
TZOFFSETFROM:+0200
TZOFFSETTO:+0100
TZNAME:CET
DTSTART:19701025T030000
RRULE:FREQ=YEARLY;INTERVAL=1;BYDAY=-1SU;BYMONTH=10
END:STANDARD
END:VTIMEZONE
BEGIN:VEVENT
DTSTAMP:20260423T005724
DTSTART;TZID=Europe/Berlin:20260629T080000
DTEND;TZID=Europe/Berlin:20260629T120000
UID:V46436001-20260629T080000@VHSBÖBLINGEN-SINDELFINGEN
SUMMARY:Deutsch, Alphabetisierungskurs (V46436001) 
LOCATION:Höfle, U 005, UG, Pestalozzistr. 4, 71032 Böblingen
END:VEVENT
BEGIN:VEVENT
DTSTAMP:20260423T005724
DTSTART;TZID=Europe/Berlin:20260630T080000
DTEND;TZID=Europe/Berlin:20260630T120000
UID:V46436001-20260630T080000@VHSBÖBLINGEN-SINDELFINGEN
SUMMARY:Deutsch, Alphabetisierungskurs (V46436001) 
LOCATION:Höfle, U 005, UG, Pestalozzistr. 4, 71032 Böblingen
END:VEVENT
BEGIN:VEVENT
DTSTAMP:20260423T005724
DTSTART;TZID=Europe/Berlin:20260701T080000
DTEND;TZID=Europe/Berlin:20260701T120000
UID:V46436001-20260701T080000@VHSBÖBLINGEN-SINDELFINGEN
SUMMARY:Deutsch, Alphabetisierungskurs (V46436001) 
LOCATION:Höfle, U 005, UG, Pestalozzistr. 4, 71032 Böblingen
END:VEVENT
BEGIN:VEVENT
DTSTAMP:20260423T005724
DTSTART;TZID=Europe/Berlin:20260702T080000
DTEND;TZID=Europe/Berlin:20260702T120000
UID:V46436001-20260702T080000@VHSBÖBLINGEN-SINDELFINGEN
SUMMARY:Deutsch, Alphabetisierungskurs (V46436001) 
LOCATION:Höfle, U 005, UG, Pestalozzistr. 4, 71032 Böblingen
END:VEVENT
BEGIN:VEVENT
DTSTAMP:20260423T005724
DTSTART;TZID=Europe/Berlin:20260703T080000
DTEND;TZID=Europe/Berlin:20260703T120000
UID:V46436001-20260703T080000@VHSBÖBLINGEN-SINDELFINGEN
SUMMARY:Deutsch, Alphabetisierungskurs (V46436001) 
LOCATION:Höfle, U 005, UG, Pestalozzistr. 4, 71032 Böblingen
END:VEVENT
BEGIN:VEVENT
DTSTAMP:20260423T005724
DTSTART;TZID=Europe/Berlin:20260706T080000
DTEND;TZID=Europe/Berlin:20260706T120000
UID:V46436001-20260706T080000@VHSBÖBLINGEN-SINDELFINGEN
SUMMARY:Deutsch, Alphabetisierungskurs (V46436001) 
LOCATION:Höfle, U 005, UG, Pestalozzistr. 4, 71032 Böblingen
END:VEVENT
BEGIN:VEVENT
DTSTAMP:20260423T005724
DTSTART;TZID=Europe/Berlin:20260707T080000
DTEND;TZID=Europe/Berlin:20260707T120000
UID:V46436001-20260707T080000@VHSBÖBLINGEN-SINDELFINGEN
SUMMARY:Deutsch, Alphabetisierungskurs (V46436001) 
LOCATION:Höfle, U 005, UG, Pestalozzistr. 4, 71032 Böblingen
END:VEVENT
BEGIN:VEVENT
DTSTAMP:20260423T005724
DTSTART;TZID=Europe/Berlin:20260708T080000
DTEND;TZID=Europe/Berlin:20260708T120000
UID:V46436001-20260708T080000@VHSBÖBLINGEN-SINDELFINGEN
SUMMARY:Deutsch, Alphabetisierungskurs (V46436001) 
LOCATION:Höfle, U 005, UG, Pestalozzistr. 4, 71032 Böblingen
END:VEVENT
BEGIN:VEVENT
DTSTAMP:20260423T005724
DTSTART;TZID=Europe/Berlin:20260709T080000
DTEND;TZID=Europe/Berlin:20260709T120000
UID:V46436001-20260709T080000@VHSBÖBLINGEN-SINDELFINGEN
SUMMARY:Deutsch, Alphabetisierungskurs (V46436001) 
LOCATION:Höfle, U 005, UG, Pestalozzistr. 4, 71032 Böblingen
END:VEVENT
BEGIN:VEVENT
DTSTAMP:20260423T005724
DTSTART;TZID=Europe/Berlin:20260710T080000
DTEND;TZID=Europe/Berlin:20260710T120000
UID:V46436001-20260710T080000@VHSBÖBLINGEN-SINDELFINGEN
SUMMARY:Deutsch, Alphabetisierungskurs (V46436001) 
LOCATION:Höfle, U 005, UG, Pestalozzistr. 4, 71032 Böblingen
END:VEVENT
BEGIN:VEVENT
DTSTAMP:20260423T005724
DTSTART;TZID=Europe/Berlin:20260713T080000
DTEND;TZID=Europe/Berlin:20260713T120000
UID:V46436001-20260713T080000@VHSBÖBLINGEN-SINDELFINGEN
SUMMARY:Deutsch, Alphabetisierungskurs (V46436001) 
LOCATION:Höfle, U 005, UG, Pestalozzistr. 4, 71032 Böblingen
END:VEVENT
BEGIN:VEVENT
DTSTAMP:20260423T005724
DTSTART;TZID=Europe/Berlin:20260714T080000
DTEND;TZID=Europe/Berlin:20260714T120000
UID:V46436001-20260714T080000@VHSBÖBLINGEN-SINDELFINGEN
SUMMARY:Deutsch, Alphabetisierungskurs (V46436001) 
LOCATION:Höfle, U 005, UG, Pestalozzistr. 4, 71032 Böblingen
END:VEVENT
BEGIN:VEVENT
DTSTAMP:20260423T005724
DTSTART;TZID=Europe/Berlin:20260715T080000
DTEND;TZID=Europe/Berlin:20260715T120000
UID:V46436001-20260715T080000@VHSBÖBLINGEN-SINDELFINGEN
SUMMARY:Deutsch, Alphabetisierungskurs (V46436001) 
LOCATION:Höfle, U 005, UG, Pestalozzistr. 4, 71032 Böblingen
END:VEVENT
BEGIN:VEVENT
DTSTAMP:20260423T005724
DTSTART;TZID=Europe/Berlin:20260716T080000
DTEND;TZID=Europe/Berlin:20260716T120000
UID:V46436001-20260716T080000@VHSBÖBLINGEN-SINDELFINGEN
SUMMARY:Deutsch, Alphabetisierungskurs (V46436001) 
LOCATION:Höfle, U 005, UG, Pestalozzistr. 4, 71032 Böblingen
END:VEVENT
BEGIN:VEVENT
DTSTAMP:20260423T005724
DTSTART;TZID=Europe/Berlin:20260717T080000
DTEND;TZID=Europe/Berlin:20260717T120000
UID:V46436001-20260717T080000@VHSBÖBLINGEN-SINDELFINGEN
SUMMARY:Deutsch, Alphabetisierungskurs (V46436001) 
LOCATION:Höfle, U 005, UG, Pestalozzistr. 4, 71032 Böblingen
END:VEVENT
BEGIN:VEVENT
DTSTAMP:20260423T005724
DTSTART;TZID=Europe/Berlin:20260720T080000
DTEND;TZID=Europe/Berlin:20260720T120000
UID:V46436001-20260720T080000@VHSBÖBLINGEN-SINDELFINGEN
SUMMARY:Deutsch, Alphabetisierungskurs (V46436001) 
LOCATION:Höfle, U 005, UG, Pestalozzistr. 4, 71032 Böblingen
END:VEVENT
BEGIN:VEVENT
DTSTAMP:20260423T005724
DTSTART;TZID=Europe/Berlin:20260721T080000
DTEND;TZID=Europe/Berlin:20260721T120000
UID:V46436001-20260721T080000@VHSBÖBLINGEN-SINDELFINGEN
SUMMARY:Deutsch, Alphabetisierungskurs (V46436001) 
LOCATION:Höfle, U 005, UG, Pestalozzistr. 4, 71032 Böblingen
END:VEVENT
BEGIN:VEVENT
DTSTAMP:20260423T005724
DTSTART;TZID=Europe/Berlin:20260722T080000
DTEND;TZID=Europe/Berlin:20260722T120000
UID:V46436001-20260722T080000@VHSBÖBLINGEN-SINDELFINGEN
SUMMARY:Deutsch, Alphabetisierungskurs (V46436001) 
LOCATION:Höfle, U 005, UG, Pestalozzistr. 4, 71032 Böblingen
END:VEVENT
BEGIN:VEVENT
DTSTAMP:20260423T005724
DTSTART;TZID=Europe/Berlin:20260723T080000
DTEND;TZID=Europe/Berlin:20260723T120000
UID:V46436001-20260723T080000@VHSBÖBLINGEN-SINDELFINGEN
SUMMARY:Deutsch, Alphabetisierungskurs (V46436001) 
LOCATION:Höfle, U 005, UG, Pestalozzistr. 4, 71032 Böblingen
END:VEVENT
BEGIN:VEVENT
DTSTAMP:20260423T005724
DTSTART;TZID=Europe/Berlin:20260724T080000
DTEND;TZID=Europe/Berlin:20260724T120000
UID:V46436001-20260724T080000@VHSBÖBLINGEN-SINDELFINGEN
SUMMARY:Deutsch, Alphabetisierungskurs (V46436001) 
LOCATION:Höfle, U 005, UG, Pestalozzistr. 4, 71032 Böblingen
END:VEVENT
END:VCALENDAR