BEGIN:VCALENDAR
VERSION:2.0
PRODID:https://www.kufer.de/kuferweb / DE
METHOD:PUBLISH
CALSCALE:GREGORIAN
X-WR-TIMEZONE:Europe/Berlin
BEGIN:VTIMEZONE
TZID:Europe/Berlin
X-LIC-LOCATION:Europe/Berlin
BEGIN:DAYLIGHT
TZOFFSETFROM:+0100
TZOFFSETTO:+0200
TZNAME:CEST
DTSTART:19700329T020000
RRULE:FREQ=YEARLY;INTERVAL=1;BYDAY=-1SU;BYMONTH=3
END:DAYLIGHT
BEGIN:STANDARD
TZOFFSETFROM:+0200
TZOFFSETTO:+0100
TZNAME:CET
DTSTART:19701025T030000
RRULE:FREQ=YEARLY;INTERVAL=1;BYDAY=-1SU;BYMONTH=10
END:STANDARD
END:VTIMEZONE
BEGIN:VEVENT
DTSTAMP:20260423T065740
DTSTART;TZID=Europe/Berlin:20260629T130000
DTEND;TZID=Europe/Berlin:20260629T170000
UID:V46429001-20260629T130000@VHSBÖBLINGEN-SINDELFINGEN
SUMMARY:Deutsch A1, Integrationskurs GL 9 (V46429001) 
LOCATION:GHH, 203, 2.OG, Böblinger Str. 8, 71065 Sindelfingen
END:VEVENT
BEGIN:VEVENT
DTSTAMP:20260423T065740
DTSTART;TZID=Europe/Berlin:20260630T130000
DTEND;TZID=Europe/Berlin:20260630T170000
UID:V46429001-20260630T130000@VHSBÖBLINGEN-SINDELFINGEN
SUMMARY:Deutsch A1, Integrationskurs GL 9 (V46429001) 
LOCATION:GHH, 203, 2.OG, Böblinger Str. 8, 71065 Sindelfingen
END:VEVENT
BEGIN:VEVENT
DTSTAMP:20260423T065740
DTSTART;TZID=Europe/Berlin:20260701T130000
DTEND;TZID=Europe/Berlin:20260701T170000
UID:V46429001-20260701T130000@VHSBÖBLINGEN-SINDELFINGEN
SUMMARY:Deutsch A1, Integrationskurs GL 9 (V46429001) 
LOCATION:GHH, 203, 2.OG, Böblinger Str. 8, 71065 Sindelfingen
END:VEVENT
BEGIN:VEVENT
DTSTAMP:20260423T065740
DTSTART;TZID=Europe/Berlin:20260702T130000
DTEND;TZID=Europe/Berlin:20260702T170000
UID:V46429001-20260702T130000@VHSBÖBLINGEN-SINDELFINGEN
SUMMARY:Deutsch A1, Integrationskurs GL 9 (V46429001) 
LOCATION:GHH, 203, 2.OG, Böblinger Str. 8, 71065 Sindelfingen
END:VEVENT
BEGIN:VEVENT
DTSTAMP:20260423T065740
DTSTART;TZID=Europe/Berlin:20260703T130000
DTEND;TZID=Europe/Berlin:20260703T170000
UID:V46429001-20260703T130000@VHSBÖBLINGEN-SINDELFINGEN
SUMMARY:Deutsch A1, Integrationskurs GL 9 (V46429001) 
LOCATION:GHH, 203, 2.OG, Böblinger Str. 8, 71065 Sindelfingen
END:VEVENT
BEGIN:VEVENT
DTSTAMP:20260423T065740
DTSTART;TZID=Europe/Berlin:20260706T130000
DTEND;TZID=Europe/Berlin:20260706T170000
UID:V46429001-20260706T130000@VHSBÖBLINGEN-SINDELFINGEN
SUMMARY:Deutsch A1, Integrationskurs GL 9 (V46429001) 
LOCATION:GHH, 203, 2.OG, Böblinger Str. 8, 71065 Sindelfingen
END:VEVENT
BEGIN:VEVENT
DTSTAMP:20260423T065740
DTSTART;TZID=Europe/Berlin:20260707T130000
DTEND;TZID=Europe/Berlin:20260707T170000
UID:V46429001-20260707T130000@VHSBÖBLINGEN-SINDELFINGEN
SUMMARY:Deutsch A1, Integrationskurs GL 9 (V46429001) 
LOCATION:GHH, 203, 2.OG, Böblinger Str. 8, 71065 Sindelfingen
END:VEVENT
BEGIN:VEVENT
DTSTAMP:20260423T065740
DTSTART;TZID=Europe/Berlin:20260708T130000
DTEND;TZID=Europe/Berlin:20260708T170000
UID:V46429001-20260708T130000@VHSBÖBLINGEN-SINDELFINGEN
SUMMARY:Deutsch A1, Integrationskurs GL 9 (V46429001) 
LOCATION:GHH, 203, 2.OG, Böblinger Str. 8, 71065 Sindelfingen
END:VEVENT
BEGIN:VEVENT
DTSTAMP:20260423T065740
DTSTART;TZID=Europe/Berlin:20260709T130000
DTEND;TZID=Europe/Berlin:20260709T170000
UID:V46429001-20260709T130000@VHSBÖBLINGEN-SINDELFINGEN
SUMMARY:Deutsch A1, Integrationskurs GL 9 (V46429001) 
LOCATION:GHH, 203, 2.OG, Böblinger Str. 8, 71065 Sindelfingen
END:VEVENT
BEGIN:VEVENT
DTSTAMP:20260423T065740
DTSTART;TZID=Europe/Berlin:20260710T130000
DTEND;TZID=Europe/Berlin:20260710T170000
UID:V46429001-20260710T130000@VHSBÖBLINGEN-SINDELFINGEN
SUMMARY:Deutsch A1, Integrationskurs GL 9 (V46429001) 
LOCATION:GHH, 203, 2.OG, Böblinger Str. 8, 71065 Sindelfingen
END:VEVENT
BEGIN:VEVENT
DTSTAMP:20260423T065740
DTSTART;TZID=Europe/Berlin:20260713T130000
DTEND;TZID=Europe/Berlin:20260713T170000
UID:V46429001-20260713T130000@VHSBÖBLINGEN-SINDELFINGEN
SUMMARY:Deutsch A1, Integrationskurs GL 9 (V46429001) 
LOCATION:GHH, 203, 2.OG, Böblinger Str. 8, 71065 Sindelfingen
END:VEVENT
BEGIN:VEVENT
DTSTAMP:20260423T065740
DTSTART;TZID=Europe/Berlin:20260714T130000
DTEND;TZID=Europe/Berlin:20260714T170000
UID:V46429001-20260714T130000@VHSBÖBLINGEN-SINDELFINGEN
SUMMARY:Deutsch A1, Integrationskurs GL 9 (V46429001) 
LOCATION:GHH, 203, 2.OG, Böblinger Str. 8, 71065 Sindelfingen
END:VEVENT
BEGIN:VEVENT
DTSTAMP:20260423T065740
DTSTART;TZID=Europe/Berlin:20260715T130000
DTEND;TZID=Europe/Berlin:20260715T170000
UID:V46429001-20260715T130000@VHSBÖBLINGEN-SINDELFINGEN
SUMMARY:Deutsch A1, Integrationskurs GL 9 (V46429001) 
LOCATION:GHH, 203, 2.OG, Böblinger Str. 8, 71065 Sindelfingen
END:VEVENT
BEGIN:VEVENT
DTSTAMP:20260423T065740
DTSTART;TZID=Europe/Berlin:20260716T130000
DTEND;TZID=Europe/Berlin:20260716T170000
UID:V46429001-20260716T130000@VHSBÖBLINGEN-SINDELFINGEN
SUMMARY:Deutsch A1, Integrationskurs GL 9 (V46429001) 
LOCATION:GHH, 203, 2.OG, Böblinger Str. 8, 71065 Sindelfingen
END:VEVENT
BEGIN:VEVENT
DTSTAMP:20260423T065740
DTSTART;TZID=Europe/Berlin:20260717T130000
DTEND;TZID=Europe/Berlin:20260717T170000
UID:V46429001-20260717T130000@VHSBÖBLINGEN-SINDELFINGEN
SUMMARY:Deutsch A1, Integrationskurs GL 9 (V46429001) 
LOCATION:GHH, 203, 2.OG, Böblinger Str. 8, 71065 Sindelfingen
END:VEVENT
BEGIN:VEVENT
DTSTAMP:20260423T065740
DTSTART;TZID=Europe/Berlin:20260720T130000
DTEND;TZID=Europe/Berlin:20260720T170000
UID:V46429001-20260720T130000@VHSBÖBLINGEN-SINDELFINGEN
SUMMARY:Deutsch A1, Integrationskurs GL 9 (V46429001) 
LOCATION:GHH, 203, 2.OG, Böblinger Str. 8, 71065 Sindelfingen
END:VEVENT
BEGIN:VEVENT
DTSTAMP:20260423T065740
DTSTART;TZID=Europe/Berlin:20260721T130000
DTEND;TZID=Europe/Berlin:20260721T170000
UID:V46429001-20260721T130000@VHSBÖBLINGEN-SINDELFINGEN
SUMMARY:Deutsch A1, Integrationskurs GL 9 (V46429001) 
LOCATION:GHH, 203, 2.OG, Böblinger Str. 8, 71065 Sindelfingen
END:VEVENT
BEGIN:VEVENT
DTSTAMP:20260423T065740
DTSTART;TZID=Europe/Berlin:20260722T130000
DTEND;TZID=Europe/Berlin:20260722T170000
UID:V46429001-20260722T130000@VHSBÖBLINGEN-SINDELFINGEN
SUMMARY:Deutsch A1, Integrationskurs GL 9 (V46429001) 
LOCATION:GHH, 203, 2.OG, Böblinger Str. 8, 71065 Sindelfingen
END:VEVENT
BEGIN:VEVENT
DTSTAMP:20260423T065740
DTSTART;TZID=Europe/Berlin:20260723T130000
DTEND;TZID=Europe/Berlin:20260723T170000
UID:V46429001-20260723T130000@VHSBÖBLINGEN-SINDELFINGEN
SUMMARY:Deutsch A1, Integrationskurs GL 9 (V46429001) 
LOCATION:GHH, 203, 2.OG, Böblinger Str. 8, 71065 Sindelfingen
END:VEVENT
BEGIN:VEVENT
DTSTAMP:20260423T065740
DTSTART;TZID=Europe/Berlin:20260724T130000
DTEND;TZID=Europe/Berlin:20260724T170000
UID:V46429001-20260724T130000@VHSBÖBLINGEN-SINDELFINGEN
SUMMARY:Deutsch A1, Integrationskurs GL 9 (V46429001) 
LOCATION:GHH, 203, 2.OG, Böblinger Str. 8, 71065 Sindelfingen
END:VEVENT
END:VCALENDAR