BEGIN:VCALENDAR
VERSION:2.0
PRODID:https://www.kufer.de/kuferweb / DE
METHOD:PUBLISH
CALSCALE:GREGORIAN
X-WR-TIMEZONE:Europe/Berlin
BEGIN:VTIMEZONE
TZID:Europe/Berlin
X-LIC-LOCATION:Europe/Berlin
BEGIN:DAYLIGHT
TZOFFSETFROM:+0100
TZOFFSETTO:+0200
TZNAME:CEST
DTSTART:19700329T020000
RRULE:FREQ=YEARLY;INTERVAL=1;BYDAY=-1SU;BYMONTH=3
END:DAYLIGHT
BEGIN:STANDARD
TZOFFSETFROM:+0200
TZOFFSETTO:+0100
TZNAME:CET
DTSTART:19701025T030000
RRULE:FREQ=YEARLY;INTERVAL=1;BYDAY=-1SU;BYMONTH=10
END:STANDARD
END:VTIMEZONE
BEGIN:VEVENT
DTSTAMP:20260422T225753
DTSTART;TZID=Europe/Berlin:20260629T123000
DTEND;TZID=Europe/Berlin:20260629T163000
UID:V46425003-20260629T123000@VHSBÖBLINGEN-SINDELFINGEN
SUMMARY:Deutsch A1, Integrationskurs GL 5 (V46425003) 
LOCATION:Höfle, 001, EG, Pestalozzistr. 4, 71032 Böblingen
END:VEVENT
BEGIN:VEVENT
DTSTAMP:20260422T225753
DTSTART;TZID=Europe/Berlin:20260630T123000
DTEND;TZID=Europe/Berlin:20260630T163000
UID:V46425003-20260630T123000@VHSBÖBLINGEN-SINDELFINGEN
SUMMARY:Deutsch A1, Integrationskurs GL 5 (V46425003) 
LOCATION:Höfle, 001, EG, Pestalozzistr. 4, 71032 Böblingen
END:VEVENT
BEGIN:VEVENT
DTSTAMP:20260422T225753
DTSTART;TZID=Europe/Berlin:20260701T123000
DTEND;TZID=Europe/Berlin:20260701T163000
UID:V46425003-20260701T123000@VHSBÖBLINGEN-SINDELFINGEN
SUMMARY:Deutsch A1, Integrationskurs GL 5 (V46425003) 
LOCATION:Höfle, 001, EG, Pestalozzistr. 4, 71032 Böblingen
END:VEVENT
BEGIN:VEVENT
DTSTAMP:20260422T225753
DTSTART;TZID=Europe/Berlin:20260702T123000
DTEND;TZID=Europe/Berlin:20260702T163000
UID:V46425003-20260702T123000@VHSBÖBLINGEN-SINDELFINGEN
SUMMARY:Deutsch A1, Integrationskurs GL 5 (V46425003) 
LOCATION:Höfle, 001, EG, Pestalozzistr. 4, 71032 Böblingen
END:VEVENT
BEGIN:VEVENT
DTSTAMP:20260422T225753
DTSTART;TZID=Europe/Berlin:20260703T123000
DTEND;TZID=Europe/Berlin:20260703T163000
UID:V46425003-20260703T123000@VHSBÖBLINGEN-SINDELFINGEN
SUMMARY:Deutsch A1, Integrationskurs GL 5 (V46425003) 
LOCATION:Höfle, 001, EG, Pestalozzistr. 4, 71032 Böblingen
END:VEVENT
BEGIN:VEVENT
DTSTAMP:20260422T225753
DTSTART;TZID=Europe/Berlin:20260706T123000
DTEND;TZID=Europe/Berlin:20260706T163000
UID:V46425003-20260706T123000@VHSBÖBLINGEN-SINDELFINGEN
SUMMARY:Deutsch A1, Integrationskurs GL 5 (V46425003) 
LOCATION:Höfle, 001, EG, Pestalozzistr. 4, 71032 Böblingen
END:VEVENT
BEGIN:VEVENT
DTSTAMP:20260422T225753
DTSTART;TZID=Europe/Berlin:20260707T123000
DTEND;TZID=Europe/Berlin:20260707T163000
UID:V46425003-20260707T123000@VHSBÖBLINGEN-SINDELFINGEN
SUMMARY:Deutsch A1, Integrationskurs GL 5 (V46425003) 
LOCATION:Höfle, 001, EG, Pestalozzistr. 4, 71032 Böblingen
END:VEVENT
BEGIN:VEVENT
DTSTAMP:20260422T225753
DTSTART;TZID=Europe/Berlin:20260708T123000
DTEND;TZID=Europe/Berlin:20260708T163000
UID:V46425003-20260708T123000@VHSBÖBLINGEN-SINDELFINGEN
SUMMARY:Deutsch A1, Integrationskurs GL 5 (V46425003) 
LOCATION:Höfle, 001, EG, Pestalozzistr. 4, 71032 Böblingen
END:VEVENT
BEGIN:VEVENT
DTSTAMP:20260422T225753
DTSTART;TZID=Europe/Berlin:20260709T123000
DTEND;TZID=Europe/Berlin:20260709T163000
UID:V46425003-20260709T123000@VHSBÖBLINGEN-SINDELFINGEN
SUMMARY:Deutsch A1, Integrationskurs GL 5 (V46425003) 
LOCATION:Höfle, 001, EG, Pestalozzistr. 4, 71032 Böblingen
END:VEVENT
BEGIN:VEVENT
DTSTAMP:20260422T225753
DTSTART;TZID=Europe/Berlin:20260710T123000
DTEND;TZID=Europe/Berlin:20260710T163000
UID:V46425003-20260710T123000@VHSBÖBLINGEN-SINDELFINGEN
SUMMARY:Deutsch A1, Integrationskurs GL 5 (V46425003) 
LOCATION:Höfle, 001, EG, Pestalozzistr. 4, 71032 Böblingen
END:VEVENT
BEGIN:VEVENT
DTSTAMP:20260422T225753
DTSTART;TZID=Europe/Berlin:20260713T123000
DTEND;TZID=Europe/Berlin:20260713T163000
UID:V46425003-20260713T123000@VHSBÖBLINGEN-SINDELFINGEN
SUMMARY:Deutsch A1, Integrationskurs GL 5 (V46425003) 
LOCATION:Höfle, 001, EG, Pestalozzistr. 4, 71032 Böblingen
END:VEVENT
BEGIN:VEVENT
DTSTAMP:20260422T225753
DTSTART;TZID=Europe/Berlin:20260714T123000
DTEND;TZID=Europe/Berlin:20260714T163000
UID:V46425003-20260714T123000@VHSBÖBLINGEN-SINDELFINGEN
SUMMARY:Deutsch A1, Integrationskurs GL 5 (V46425003) 
LOCATION:Höfle, 001, EG, Pestalozzistr. 4, 71032 Böblingen
END:VEVENT
BEGIN:VEVENT
DTSTAMP:20260422T225753
DTSTART;TZID=Europe/Berlin:20260715T123000
DTEND;TZID=Europe/Berlin:20260715T163000
UID:V46425003-20260715T123000@VHSBÖBLINGEN-SINDELFINGEN
SUMMARY:Deutsch A1, Integrationskurs GL 5 (V46425003) 
LOCATION:Höfle, 001, EG, Pestalozzistr. 4, 71032 Böblingen
END:VEVENT
BEGIN:VEVENT
DTSTAMP:20260422T225753
DTSTART;TZID=Europe/Berlin:20260716T123000
DTEND;TZID=Europe/Berlin:20260716T163000
UID:V46425003-20260716T123000@VHSBÖBLINGEN-SINDELFINGEN
SUMMARY:Deutsch A1, Integrationskurs GL 5 (V46425003) 
LOCATION:Höfle, 001, EG, Pestalozzistr. 4, 71032 Böblingen
END:VEVENT
BEGIN:VEVENT
DTSTAMP:20260422T225753
DTSTART;TZID=Europe/Berlin:20260717T123000
DTEND;TZID=Europe/Berlin:20260717T163000
UID:V46425003-20260717T123000@VHSBÖBLINGEN-SINDELFINGEN
SUMMARY:Deutsch A1, Integrationskurs GL 5 (V46425003) 
LOCATION:Höfle, 001, EG, Pestalozzistr. 4, 71032 Böblingen
END:VEVENT
BEGIN:VEVENT
DTSTAMP:20260422T225753
DTSTART;TZID=Europe/Berlin:20260720T123000
DTEND;TZID=Europe/Berlin:20260720T163000
UID:V46425003-20260720T123000@VHSBÖBLINGEN-SINDELFINGEN
SUMMARY:Deutsch A1, Integrationskurs GL 5 (V46425003) 
LOCATION:Höfle, 001, EG, Pestalozzistr. 4, 71032 Böblingen
END:VEVENT
BEGIN:VEVENT
DTSTAMP:20260422T225753
DTSTART;TZID=Europe/Berlin:20260721T123000
DTEND;TZID=Europe/Berlin:20260721T163000
UID:V46425003-20260721T123000@VHSBÖBLINGEN-SINDELFINGEN
SUMMARY:Deutsch A1, Integrationskurs GL 5 (V46425003) 
LOCATION:Höfle, 001, EG, Pestalozzistr. 4, 71032 Böblingen
END:VEVENT
BEGIN:VEVENT
DTSTAMP:20260422T225753
DTSTART;TZID=Europe/Berlin:20260722T123000
DTEND;TZID=Europe/Berlin:20260722T163000
UID:V46425003-20260722T123000@VHSBÖBLINGEN-SINDELFINGEN
SUMMARY:Deutsch A1, Integrationskurs GL 5 (V46425003) 
LOCATION:Höfle, 001, EG, Pestalozzistr. 4, 71032 Böblingen
END:VEVENT
BEGIN:VEVENT
DTSTAMP:20260422T225753
DTSTART;TZID=Europe/Berlin:20260723T123000
DTEND;TZID=Europe/Berlin:20260723T163000
UID:V46425003-20260723T123000@VHSBÖBLINGEN-SINDELFINGEN
SUMMARY:Deutsch A1, Integrationskurs GL 5 (V46425003) 
LOCATION:Höfle, 001, EG, Pestalozzistr. 4, 71032 Böblingen
END:VEVENT
BEGIN:VEVENT
DTSTAMP:20260422T225753
DTSTART;TZID=Europe/Berlin:20260724T123000
DTEND;TZID=Europe/Berlin:20260724T163000
UID:V46425003-20260724T123000@VHSBÖBLINGEN-SINDELFINGEN
SUMMARY:Deutsch A1, Integrationskurs GL 5 (V46425003) 
LOCATION:Höfle, 001, EG, Pestalozzistr. 4, 71032 Böblingen
END:VEVENT
END:VCALENDAR