BEGIN:VCALENDAR
VERSION:2.0
PRODID:https://www.kufer.de/kuferweb / DE
METHOD:PUBLISH
CALSCALE:GREGORIAN
X-WR-TIMEZONE:Europe/Berlin
BEGIN:VTIMEZONE
TZID:Europe/Berlin
X-LIC-LOCATION:Europe/Berlin
BEGIN:DAYLIGHT
TZOFFSETFROM:+0100
TZOFFSETTO:+0200
TZNAME:CEST
DTSTART:19700329T020000
RRULE:FREQ=YEARLY;INTERVAL=1;BYDAY=-1SU;BYMONTH=3
END:DAYLIGHT
BEGIN:STANDARD
TZOFFSETFROM:+0200
TZOFFSETTO:+0100
TZNAME:CET
DTSTART:19701025T030000
RRULE:FREQ=YEARLY;INTERVAL=1;BYDAY=-1SU;BYMONTH=10
END:STANDARD
END:VTIMEZONE
BEGIN:VEVENT
DTSTAMP:20260423T040947
DTSTART;TZID=Europe/Berlin:20260507T080000
DTEND;TZID=Europe/Berlin:20260507T120000
UID:V46338002-20260507T080000@VHSBÖBLINGEN-SINDELFINGEN
SUMMARY:Deutsch, Alphabetisierungskurs (V46338002) 
LOCATION:Höfle, 004, EG, Pestalozzistr. 4, 71032 Böblingen
END:VEVENT
BEGIN:VEVENT
DTSTAMP:20260423T040947
DTSTART;TZID=Europe/Berlin:20260511T080000
DTEND;TZID=Europe/Berlin:20260511T120000
UID:V46338002-20260511T080000@VHSBÖBLINGEN-SINDELFINGEN
SUMMARY:Deutsch, Alphabetisierungskurs (V46338002) 
LOCATION:Höfle, 004, EG, Pestalozzistr. 4, 71032 Böblingen
END:VEVENT
BEGIN:VEVENT
DTSTAMP:20260423T040947
DTSTART;TZID=Europe/Berlin:20260512T080000
DTEND;TZID=Europe/Berlin:20260512T120000
UID:V46338002-20260512T080000@VHSBÖBLINGEN-SINDELFINGEN
SUMMARY:Deutsch, Alphabetisierungskurs (V46338002) 
LOCATION:Höfle, 004, EG, Pestalozzistr. 4, 71032 Böblingen
END:VEVENT
BEGIN:VEVENT
DTSTAMP:20260423T040947
DTSTART;TZID=Europe/Berlin:20260518T080000
DTEND;TZID=Europe/Berlin:20260518T120000
UID:V46338002-20260518T080000@VHSBÖBLINGEN-SINDELFINGEN
SUMMARY:Deutsch, Alphabetisierungskurs (V46338002) 
LOCATION:Höfle, 004, EG, Pestalozzistr. 4, 71032 Böblingen
END:VEVENT
BEGIN:VEVENT
DTSTAMP:20260423T040947
DTSTART;TZID=Europe/Berlin:20260519T080000
DTEND;TZID=Europe/Berlin:20260519T120000
UID:V46338002-20260519T080000@VHSBÖBLINGEN-SINDELFINGEN
SUMMARY:Deutsch, Alphabetisierungskurs (V46338002) 
LOCATION:Höfle, 004, EG, Pestalozzistr. 4, 71032 Böblingen
END:VEVENT
BEGIN:VEVENT
DTSTAMP:20260423T040947
DTSTART;TZID=Europe/Berlin:20260521T080000
DTEND;TZID=Europe/Berlin:20260521T120000
UID:V46338002-20260521T080000@VHSBÖBLINGEN-SINDELFINGEN
SUMMARY:Deutsch, Alphabetisierungskurs (V46338002) 
LOCATION:Höfle, 004, EG, Pestalozzistr. 4, 71032 Böblingen
END:VEVENT
BEGIN:VEVENT
DTSTAMP:20260423T040947
DTSTART;TZID=Europe/Berlin:20260608T080000
DTEND;TZID=Europe/Berlin:20260608T120000
UID:V46338002-20260608T080000@VHSBÖBLINGEN-SINDELFINGEN
SUMMARY:Deutsch, Alphabetisierungskurs (V46338002) 
LOCATION:Höfle, 004, EG, Pestalozzistr. 4, 71032 Böblingen
END:VEVENT
BEGIN:VEVENT
DTSTAMP:20260423T040947
DTSTART;TZID=Europe/Berlin:20260609T080000
DTEND;TZID=Europe/Berlin:20260609T120000
UID:V46338002-20260609T080000@VHSBÖBLINGEN-SINDELFINGEN
SUMMARY:Deutsch, Alphabetisierungskurs (V46338002) 
LOCATION:Höfle, 004, EG, Pestalozzistr. 4, 71032 Böblingen
END:VEVENT
BEGIN:VEVENT
DTSTAMP:20260423T040947
DTSTART;TZID=Europe/Berlin:20260611T080000
DTEND;TZID=Europe/Berlin:20260611T120000
UID:V46338002-20260611T080000@VHSBÖBLINGEN-SINDELFINGEN
SUMMARY:Deutsch, Alphabetisierungskurs (V46338002) 
LOCATION:Höfle, 004, EG, Pestalozzistr. 4, 71032 Böblingen
END:VEVENT
BEGIN:VEVENT
DTSTAMP:20260423T040947
DTSTART;TZID=Europe/Berlin:20260615T080000
DTEND;TZID=Europe/Berlin:20260615T120000
UID:V46338002-20260615T080000@VHSBÖBLINGEN-SINDELFINGEN
SUMMARY:Deutsch, Alphabetisierungskurs (V46338002) 
LOCATION:Höfle, 004, EG, Pestalozzistr. 4, 71032 Böblingen
END:VEVENT
BEGIN:VEVENT
DTSTAMP:20260423T040947
DTSTART;TZID=Europe/Berlin:20260616T080000
DTEND;TZID=Europe/Berlin:20260616T120000
UID:V46338002-20260616T080000@VHSBÖBLINGEN-SINDELFINGEN
SUMMARY:Deutsch, Alphabetisierungskurs (V46338002) 
LOCATION:Höfle, 004, EG, Pestalozzistr. 4, 71032 Böblingen
END:VEVENT
BEGIN:VEVENT
DTSTAMP:20260423T040947
DTSTART;TZID=Europe/Berlin:20260618T080000
DTEND;TZID=Europe/Berlin:20260618T120000
UID:V46338002-20260618T080000@VHSBÖBLINGEN-SINDELFINGEN
SUMMARY:Deutsch, Alphabetisierungskurs (V46338002) 
LOCATION:Höfle, 004, EG, Pestalozzistr. 4, 71032 Böblingen
END:VEVENT
BEGIN:VEVENT
DTSTAMP:20260423T040947
DTSTART;TZID=Europe/Berlin:20260622T080000
DTEND;TZID=Europe/Berlin:20260622T120000
UID:V46338002-20260622T080000@VHSBÖBLINGEN-SINDELFINGEN
SUMMARY:Deutsch, Alphabetisierungskurs (V46338002) 
LOCATION:Höfle, 004, EG, Pestalozzistr. 4, 71032 Böblingen
END:VEVENT
BEGIN:VEVENT
DTSTAMP:20260423T040947
DTSTART;TZID=Europe/Berlin:20260623T080000
DTEND;TZID=Europe/Berlin:20260623T120000
UID:V46338002-20260623T080000@VHSBÖBLINGEN-SINDELFINGEN
SUMMARY:Deutsch, Alphabetisierungskurs (V46338002) 
LOCATION:Höfle, 004, EG, Pestalozzistr. 4, 71032 Böblingen
END:VEVENT
BEGIN:VEVENT
DTSTAMP:20260423T040947
DTSTART;TZID=Europe/Berlin:20260625T080000
DTEND;TZID=Europe/Berlin:20260625T120000
UID:V46338002-20260625T080000@VHSBÖBLINGEN-SINDELFINGEN
SUMMARY:Deutsch, Alphabetisierungskurs (V46338002) 
LOCATION:Höfle, 004, EG, Pestalozzistr. 4, 71032 Böblingen
END:VEVENT
BEGIN:VEVENT
DTSTAMP:20260423T040947
DTSTART;TZID=Europe/Berlin:20260629T080000
DTEND;TZID=Europe/Berlin:20260629T120000
UID:V46338002-20260629T080000@VHSBÖBLINGEN-SINDELFINGEN
SUMMARY:Deutsch, Alphabetisierungskurs (V46338002) 
LOCATION:Höfle, 004, EG, Pestalozzistr. 4, 71032 Böblingen
END:VEVENT
BEGIN:VEVENT
DTSTAMP:20260423T040947
DTSTART;TZID=Europe/Berlin:20260630T080000
DTEND;TZID=Europe/Berlin:20260630T120000
UID:V46338002-20260630T080000@VHSBÖBLINGEN-SINDELFINGEN
SUMMARY:Deutsch, Alphabetisierungskurs (V46338002) 
LOCATION:Höfle, 004, EG, Pestalozzistr. 4, 71032 Böblingen
END:VEVENT
BEGIN:VEVENT
DTSTAMP:20260423T040947
DTSTART;TZID=Europe/Berlin:20260702T080000
DTEND;TZID=Europe/Berlin:20260702T120000
UID:V46338002-20260702T080000@VHSBÖBLINGEN-SINDELFINGEN
SUMMARY:Deutsch, Alphabetisierungskurs (V46338002) 
LOCATION:Höfle, 004, EG, Pestalozzistr. 4, 71032 Böblingen
END:VEVENT
BEGIN:VEVENT
DTSTAMP:20260423T040947
DTSTART;TZID=Europe/Berlin:20260706T080000
DTEND;TZID=Europe/Berlin:20260706T120000
UID:V46338002-20260706T080000@VHSBÖBLINGEN-SINDELFINGEN
SUMMARY:Deutsch, Alphabetisierungskurs (V46338002) 
LOCATION:Höfle, 004, EG, Pestalozzistr. 4, 71032 Böblingen
END:VEVENT
BEGIN:VEVENT
DTSTAMP:20260423T040947
DTSTART;TZID=Europe/Berlin:20260707T080000
DTEND;TZID=Europe/Berlin:20260707T120000
UID:V46338002-20260707T080000@VHSBÖBLINGEN-SINDELFINGEN
SUMMARY:Deutsch, Alphabetisierungskurs (V46338002) 
LOCATION:Höfle, 004, EG, Pestalozzistr. 4, 71032 Böblingen
END:VEVENT
END:VCALENDAR