BEGIN:VCALENDAR
VERSION:2.0
PRODID:https://www.kufer.de/kuferweb / DE
METHOD:PUBLISH
CALSCALE:GREGORIAN
X-WR-TIMEZONE:Europe/Berlin
BEGIN:VTIMEZONE
TZID:Europe/Berlin
X-LIC-LOCATION:Europe/Berlin
BEGIN:DAYLIGHT
TZOFFSETFROM:+0100
TZOFFSETTO:+0200
TZNAME:CEST
DTSTART:19700329T020000
RRULE:FREQ=YEARLY;INTERVAL=1;BYDAY=-1SU;BYMONTH=3
END:DAYLIGHT
BEGIN:STANDARD
TZOFFSETFROM:+0200
TZOFFSETTO:+0100
TZNAME:CET
DTSTART:19701025T030000
RRULE:FREQ=YEARLY;INTERVAL=1;BYDAY=-1SU;BYMONTH=10
END:STANDARD
END:VTIMEZONE
BEGIN:VEVENT
DTSTAMP:20260423T003735
DTSTART;TZID=Europe/Berlin:20260518T130000
DTEND;TZID=Europe/Berlin:20260518T170000
UID:V46331001-20260518T130000@VHSBÖBLINGEN-SINDELFINGEN
SUMMARY:Deutsch, Alphabetisierungskurs (V46331001) 
LOCATION:Höfle, U 004, UG, Pestalozzistr. 4, 71032 Böblingen
END:VEVENT
BEGIN:VEVENT
DTSTAMP:20260423T003735
DTSTART;TZID=Europe/Berlin:20260519T130000
DTEND;TZID=Europe/Berlin:20260519T170000
UID:V46331001-20260519T130000@VHSBÖBLINGEN-SINDELFINGEN
SUMMARY:Deutsch, Alphabetisierungskurs (V46331001) 
LOCATION:Höfle, U 004, UG, Pestalozzistr. 4, 71032 Böblingen
END:VEVENT
BEGIN:VEVENT
DTSTAMP:20260423T003735
DTSTART;TZID=Europe/Berlin:20260520T130000
DTEND;TZID=Europe/Berlin:20260520T170000
UID:V46331001-20260520T130000@VHSBÖBLINGEN-SINDELFINGEN
SUMMARY:Deutsch, Alphabetisierungskurs (V46331001) 
LOCATION:Höfle, U 004, UG, Pestalozzistr. 4, 71032 Böblingen
END:VEVENT
BEGIN:VEVENT
DTSTAMP:20260423T003735
DTSTART;TZID=Europe/Berlin:20260521T130000
DTEND;TZID=Europe/Berlin:20260521T170000
UID:V46331001-20260521T130000@VHSBÖBLINGEN-SINDELFINGEN
SUMMARY:Deutsch, Alphabetisierungskurs (V46331001) 
LOCATION:Höfle, U 004, UG, Pestalozzistr. 4, 71032 Böblingen
END:VEVENT
BEGIN:VEVENT
DTSTAMP:20260423T003735
DTSTART;TZID=Europe/Berlin:20260522T130000
DTEND;TZID=Europe/Berlin:20260522T170000
UID:V46331001-20260522T130000@VHSBÖBLINGEN-SINDELFINGEN
SUMMARY:Deutsch, Alphabetisierungskurs (V46331001) 
LOCATION:Höfle, U 004, UG, Pestalozzistr. 4, 71032 Böblingen
END:VEVENT
BEGIN:VEVENT
DTSTAMP:20260423T003735
DTSTART;TZID=Europe/Berlin:20260608T130000
DTEND;TZID=Europe/Berlin:20260608T170000
UID:V46331001-20260608T130000@VHSBÖBLINGEN-SINDELFINGEN
SUMMARY:Deutsch, Alphabetisierungskurs (V46331001) 
LOCATION:Höfle, U 004, UG, Pestalozzistr. 4, 71032 Böblingen
END:VEVENT
BEGIN:VEVENT
DTSTAMP:20260423T003735
DTSTART;TZID=Europe/Berlin:20260609T130000
DTEND;TZID=Europe/Berlin:20260609T170000
UID:V46331001-20260609T130000@VHSBÖBLINGEN-SINDELFINGEN
SUMMARY:Deutsch, Alphabetisierungskurs (V46331001) 
LOCATION:Höfle, U 004, UG, Pestalozzistr. 4, 71032 Böblingen
END:VEVENT
BEGIN:VEVENT
DTSTAMP:20260423T003735
DTSTART;TZID=Europe/Berlin:20260610T130000
DTEND;TZID=Europe/Berlin:20260610T170000
UID:V46331001-20260610T130000@VHSBÖBLINGEN-SINDELFINGEN
SUMMARY:Deutsch, Alphabetisierungskurs (V46331001) 
LOCATION:Höfle, U 004, UG, Pestalozzistr. 4, 71032 Böblingen
END:VEVENT
BEGIN:VEVENT
DTSTAMP:20260423T003735
DTSTART;TZID=Europe/Berlin:20260611T130000
DTEND;TZID=Europe/Berlin:20260611T170000
UID:V46331001-20260611T130000@VHSBÖBLINGEN-SINDELFINGEN
SUMMARY:Deutsch, Alphabetisierungskurs (V46331001) 
LOCATION:Höfle, U 004, UG, Pestalozzistr. 4, 71032 Böblingen
END:VEVENT
BEGIN:VEVENT
DTSTAMP:20260423T003735
DTSTART;TZID=Europe/Berlin:20260612T130000
DTEND;TZID=Europe/Berlin:20260612T170000
UID:V46331001-20260612T130000@VHSBÖBLINGEN-SINDELFINGEN
SUMMARY:Deutsch, Alphabetisierungskurs (V46331001) 
LOCATION:Höfle, U 004, UG, Pestalozzistr. 4, 71032 Böblingen
END:VEVENT
BEGIN:VEVENT
DTSTAMP:20260423T003735
DTSTART;TZID=Europe/Berlin:20260615T130000
DTEND;TZID=Europe/Berlin:20260615T170000
UID:V46331001-20260615T130000@VHSBÖBLINGEN-SINDELFINGEN
SUMMARY:Deutsch, Alphabetisierungskurs (V46331001) 
LOCATION:Höfle, U 004, UG, Pestalozzistr. 4, 71032 Böblingen
END:VEVENT
BEGIN:VEVENT
DTSTAMP:20260423T003735
DTSTART;TZID=Europe/Berlin:20260616T130000
DTEND;TZID=Europe/Berlin:20260616T170000
UID:V46331001-20260616T130000@VHSBÖBLINGEN-SINDELFINGEN
SUMMARY:Deutsch, Alphabetisierungskurs (V46331001) 
LOCATION:Höfle, U 004, UG, Pestalozzistr. 4, 71032 Böblingen
END:VEVENT
BEGIN:VEVENT
DTSTAMP:20260423T003735
DTSTART;TZID=Europe/Berlin:20260617T130000
DTEND;TZID=Europe/Berlin:20260617T170000
UID:V46331001-20260617T130000@VHSBÖBLINGEN-SINDELFINGEN
SUMMARY:Deutsch, Alphabetisierungskurs (V46331001) 
LOCATION:Höfle, U 004, UG, Pestalozzistr. 4, 71032 Böblingen
END:VEVENT
BEGIN:VEVENT
DTSTAMP:20260423T003735
DTSTART;TZID=Europe/Berlin:20260618T130000
DTEND;TZID=Europe/Berlin:20260618T170000
UID:V46331001-20260618T130000@VHSBÖBLINGEN-SINDELFINGEN
SUMMARY:Deutsch, Alphabetisierungskurs (V46331001) 
LOCATION:Höfle, U 004, UG, Pestalozzistr. 4, 71032 Böblingen
END:VEVENT
BEGIN:VEVENT
DTSTAMP:20260423T003735
DTSTART;TZID=Europe/Berlin:20260619T130000
DTEND;TZID=Europe/Berlin:20260619T170000
UID:V46331001-20260619T130000@VHSBÖBLINGEN-SINDELFINGEN
SUMMARY:Deutsch, Alphabetisierungskurs (V46331001) 
LOCATION:Höfle, U 004, UG, Pestalozzistr. 4, 71032 Böblingen
END:VEVENT
BEGIN:VEVENT
DTSTAMP:20260423T003735
DTSTART;TZID=Europe/Berlin:20260622T130000
DTEND;TZID=Europe/Berlin:20260622T170000
UID:V46331001-20260622T130000@VHSBÖBLINGEN-SINDELFINGEN
SUMMARY:Deutsch, Alphabetisierungskurs (V46331001) 
LOCATION:Höfle, U 004, UG, Pestalozzistr. 4, 71032 Böblingen
END:VEVENT
BEGIN:VEVENT
DTSTAMP:20260423T003735
DTSTART;TZID=Europe/Berlin:20260623T130000
DTEND;TZID=Europe/Berlin:20260623T170000
UID:V46331001-20260623T130000@VHSBÖBLINGEN-SINDELFINGEN
SUMMARY:Deutsch, Alphabetisierungskurs (V46331001) 
LOCATION:Höfle, U 004, UG, Pestalozzistr. 4, 71032 Böblingen
END:VEVENT
BEGIN:VEVENT
DTSTAMP:20260423T003735
DTSTART;TZID=Europe/Berlin:20260624T130000
DTEND;TZID=Europe/Berlin:20260624T170000
UID:V46331001-20260624T130000@VHSBÖBLINGEN-SINDELFINGEN
SUMMARY:Deutsch, Alphabetisierungskurs (V46331001) 
LOCATION:Höfle, U 004, UG, Pestalozzistr. 4, 71032 Böblingen
END:VEVENT
BEGIN:VEVENT
DTSTAMP:20260423T003735
DTSTART;TZID=Europe/Berlin:20260625T130000
DTEND;TZID=Europe/Berlin:20260625T170000
UID:V46331001-20260625T130000@VHSBÖBLINGEN-SINDELFINGEN
SUMMARY:Deutsch, Alphabetisierungskurs (V46331001) 
LOCATION:Höfle, U 004, UG, Pestalozzistr. 4, 71032 Böblingen
END:VEVENT
BEGIN:VEVENT
DTSTAMP:20260423T003735
DTSTART;TZID=Europe/Berlin:20260626T130000
DTEND;TZID=Europe/Berlin:20260626T170000
UID:V46331001-20260626T130000@VHSBÖBLINGEN-SINDELFINGEN
SUMMARY:Deutsch, Alphabetisierungskurs (V46331001) 
LOCATION:Höfle, U 004, UG, Pestalozzistr. 4, 71032 Böblingen
END:VEVENT
END:VCALENDAR