BEGIN:VCALENDAR
VERSION:2.0
PRODID:https://www.kufer.de/kuferweb / DE
METHOD:PUBLISH
CALSCALE:GREGORIAN
X-WR-TIMEZONE:Europe/Berlin
BEGIN:VTIMEZONE
TZID:Europe/Berlin
X-LIC-LOCATION:Europe/Berlin
BEGIN:DAYLIGHT
TZOFFSETFROM:+0100
TZOFFSETTO:+0200
TZNAME:CEST
DTSTART:19700329T020000
RRULE:FREQ=YEARLY;INTERVAL=1;BYDAY=-1SU;BYMONTH=3
END:DAYLIGHT
BEGIN:STANDARD
TZOFFSETFROM:+0200
TZOFFSETTO:+0100
TZNAME:CET
DTSTART:19701025T030000
RRULE:FREQ=YEARLY;INTERVAL=1;BYDAY=-1SU;BYMONTH=10
END:STANDARD
END:VTIMEZONE
BEGIN:VEVENT
DTSTAMP:20260423T040942
DTSTART;TZID=Europe/Berlin:20260518T123000
DTEND;TZID=Europe/Berlin:20260518T163000
UID:V46324003-20260518T123000@VHSBÖBLINGEN-SINDELFINGEN
SUMMARY:Deutsch A1, Integrationskurs GL 4 (V46324003) 
LOCATION:Höfle, 001, EG, Pestalozzistr. 4, 71032 Böblingen
END:VEVENT
BEGIN:VEVENT
DTSTAMP:20260423T040942
DTSTART;TZID=Europe/Berlin:20260519T123000
DTEND;TZID=Europe/Berlin:20260519T163000
UID:V46324003-20260519T123000@VHSBÖBLINGEN-SINDELFINGEN
SUMMARY:Deutsch A1, Integrationskurs GL 4 (V46324003) 
LOCATION:Höfle, 001, EG, Pestalozzistr. 4, 71032 Böblingen
END:VEVENT
BEGIN:VEVENT
DTSTAMP:20260423T040942
DTSTART;TZID=Europe/Berlin:20260520T123000
DTEND;TZID=Europe/Berlin:20260520T163000
UID:V46324003-20260520T123000@VHSBÖBLINGEN-SINDELFINGEN
SUMMARY:Deutsch A1, Integrationskurs GL 4 (V46324003) 
LOCATION:Höfle, 001, EG, Pestalozzistr. 4, 71032 Böblingen
END:VEVENT
BEGIN:VEVENT
DTSTAMP:20260423T040942
DTSTART;TZID=Europe/Berlin:20260521T123000
DTEND;TZID=Europe/Berlin:20260521T163000
UID:V46324003-20260521T123000@VHSBÖBLINGEN-SINDELFINGEN
SUMMARY:Deutsch A1, Integrationskurs GL 4 (V46324003) 
LOCATION:Höfle, 001, EG, Pestalozzistr. 4, 71032 Böblingen
END:VEVENT
BEGIN:VEVENT
DTSTAMP:20260423T040942
DTSTART;TZID=Europe/Berlin:20260522T123000
DTEND;TZID=Europe/Berlin:20260522T163000
UID:V46324003-20260522T123000@VHSBÖBLINGEN-SINDELFINGEN
SUMMARY:Deutsch A1, Integrationskurs GL 4 (V46324003) 
LOCATION:Höfle, 001, EG, Pestalozzistr. 4, 71032 Böblingen
END:VEVENT
BEGIN:VEVENT
DTSTAMP:20260423T040942
DTSTART;TZID=Europe/Berlin:20260608T123000
DTEND;TZID=Europe/Berlin:20260608T163000
UID:V46324003-20260608T123000@VHSBÖBLINGEN-SINDELFINGEN
SUMMARY:Deutsch A1, Integrationskurs GL 4 (V46324003) 
LOCATION:Höfle, 001, EG, Pestalozzistr. 4, 71032 Böblingen
END:VEVENT
BEGIN:VEVENT
DTSTAMP:20260423T040942
DTSTART;TZID=Europe/Berlin:20260609T123000
DTEND;TZID=Europe/Berlin:20260609T163000
UID:V46324003-20260609T123000@VHSBÖBLINGEN-SINDELFINGEN
SUMMARY:Deutsch A1, Integrationskurs GL 4 (V46324003) 
LOCATION:Höfle, 001, EG, Pestalozzistr. 4, 71032 Böblingen
END:VEVENT
BEGIN:VEVENT
DTSTAMP:20260423T040942
DTSTART;TZID=Europe/Berlin:20260610T123000
DTEND;TZID=Europe/Berlin:20260610T163000
UID:V46324003-20260610T123000@VHSBÖBLINGEN-SINDELFINGEN
SUMMARY:Deutsch A1, Integrationskurs GL 4 (V46324003) 
LOCATION:Höfle, 001, EG, Pestalozzistr. 4, 71032 Böblingen
END:VEVENT
BEGIN:VEVENT
DTSTAMP:20260423T040942
DTSTART;TZID=Europe/Berlin:20260611T123000
DTEND;TZID=Europe/Berlin:20260611T163000
UID:V46324003-20260611T123000@VHSBÖBLINGEN-SINDELFINGEN
SUMMARY:Deutsch A1, Integrationskurs GL 4 (V46324003) 
LOCATION:Höfle, 001, EG, Pestalozzistr. 4, 71032 Böblingen
END:VEVENT
BEGIN:VEVENT
DTSTAMP:20260423T040942
DTSTART;TZID=Europe/Berlin:20260612T123000
DTEND;TZID=Europe/Berlin:20260612T163000
UID:V46324003-20260612T123000@VHSBÖBLINGEN-SINDELFINGEN
SUMMARY:Deutsch A1, Integrationskurs GL 4 (V46324003) 
LOCATION:Höfle, 001, EG, Pestalozzistr. 4, 71032 Böblingen
END:VEVENT
BEGIN:VEVENT
DTSTAMP:20260423T040942
DTSTART;TZID=Europe/Berlin:20260615T123000
DTEND;TZID=Europe/Berlin:20260615T163000
UID:V46324003-20260615T123000@VHSBÖBLINGEN-SINDELFINGEN
SUMMARY:Deutsch A1, Integrationskurs GL 4 (V46324003) 
LOCATION:Höfle, 001, EG, Pestalozzistr. 4, 71032 Böblingen
END:VEVENT
BEGIN:VEVENT
DTSTAMP:20260423T040942
DTSTART;TZID=Europe/Berlin:20260616T123000
DTEND;TZID=Europe/Berlin:20260616T163000
UID:V46324003-20260616T123000@VHSBÖBLINGEN-SINDELFINGEN
SUMMARY:Deutsch A1, Integrationskurs GL 4 (V46324003) 
LOCATION:Höfle, 001, EG, Pestalozzistr. 4, 71032 Böblingen
END:VEVENT
BEGIN:VEVENT
DTSTAMP:20260423T040942
DTSTART;TZID=Europe/Berlin:20260617T123000
DTEND;TZID=Europe/Berlin:20260617T163000
UID:V46324003-20260617T123000@VHSBÖBLINGEN-SINDELFINGEN
SUMMARY:Deutsch A1, Integrationskurs GL 4 (V46324003) 
LOCATION:Höfle, 001, EG, Pestalozzistr. 4, 71032 Böblingen
END:VEVENT
BEGIN:VEVENT
DTSTAMP:20260423T040942
DTSTART;TZID=Europe/Berlin:20260618T123000
DTEND;TZID=Europe/Berlin:20260618T163000
UID:V46324003-20260618T123000@VHSBÖBLINGEN-SINDELFINGEN
SUMMARY:Deutsch A1, Integrationskurs GL 4 (V46324003) 
LOCATION:Höfle, 001, EG, Pestalozzistr. 4, 71032 Böblingen
END:VEVENT
BEGIN:VEVENT
DTSTAMP:20260423T040942
DTSTART;TZID=Europe/Berlin:20260619T123000
DTEND;TZID=Europe/Berlin:20260619T163000
UID:V46324003-20260619T123000@VHSBÖBLINGEN-SINDELFINGEN
SUMMARY:Deutsch A1, Integrationskurs GL 4 (V46324003) 
LOCATION:Höfle, 001, EG, Pestalozzistr. 4, 71032 Böblingen
END:VEVENT
BEGIN:VEVENT
DTSTAMP:20260423T040942
DTSTART;TZID=Europe/Berlin:20260622T123000
DTEND;TZID=Europe/Berlin:20260622T163000
UID:V46324003-20260622T123000@VHSBÖBLINGEN-SINDELFINGEN
SUMMARY:Deutsch A1, Integrationskurs GL 4 (V46324003) 
LOCATION:Höfle, 001, EG, Pestalozzistr. 4, 71032 Böblingen
END:VEVENT
BEGIN:VEVENT
DTSTAMP:20260423T040942
DTSTART;TZID=Europe/Berlin:20260623T123000
DTEND;TZID=Europe/Berlin:20260623T163000
UID:V46324003-20260623T123000@VHSBÖBLINGEN-SINDELFINGEN
SUMMARY:Deutsch A1, Integrationskurs GL 4 (V46324003) 
LOCATION:Höfle, 001, EG, Pestalozzistr. 4, 71032 Böblingen
END:VEVENT
BEGIN:VEVENT
DTSTAMP:20260423T040942
DTSTART;TZID=Europe/Berlin:20260624T123000
DTEND;TZID=Europe/Berlin:20260624T163000
UID:V46324003-20260624T123000@VHSBÖBLINGEN-SINDELFINGEN
SUMMARY:Deutsch A1, Integrationskurs GL 4 (V46324003) 
LOCATION:Höfle, 001, EG, Pestalozzistr. 4, 71032 Böblingen
END:VEVENT
BEGIN:VEVENT
DTSTAMP:20260423T040942
DTSTART;TZID=Europe/Berlin:20260625T123000
DTEND;TZID=Europe/Berlin:20260625T163000
UID:V46324003-20260625T123000@VHSBÖBLINGEN-SINDELFINGEN
SUMMARY:Deutsch A1, Integrationskurs GL 4 (V46324003) 
LOCATION:Höfle, 001, EG, Pestalozzistr. 4, 71032 Böblingen
END:VEVENT
BEGIN:VEVENT
DTSTAMP:20260423T040942
DTSTART;TZID=Europe/Berlin:20260626T123000
DTEND;TZID=Europe/Berlin:20260626T163000
UID:V46324003-20260626T123000@VHSBÖBLINGEN-SINDELFINGEN
SUMMARY:Deutsch A1, Integrationskurs GL 4 (V46324003) 
LOCATION:Höfle, 001, EG, Pestalozzistr. 4, 71032 Böblingen
END:VEVENT
END:VCALENDAR