BEGIN:VCALENDAR
VERSION:2.0
PRODID:https://www.kufer.de/kuferweb / DE
METHOD:PUBLISH
CALSCALE:GREGORIAN
X-WR-TIMEZONE:Europe/Berlin
BEGIN:VTIMEZONE
TZID:Europe/Berlin
X-LIC-LOCATION:Europe/Berlin
BEGIN:DAYLIGHT
TZOFFSETFROM:+0100
TZOFFSETTO:+0200
TZNAME:CEST
DTSTART:19700329T020000
RRULE:FREQ=YEARLY;INTERVAL=1;BYDAY=-1SU;BYMONTH=3
END:DAYLIGHT
BEGIN:STANDARD
TZOFFSETFROM:+0200
TZOFFSETTO:+0100
TZNAME:CET
DTSTART:19701025T030000
RRULE:FREQ=YEARLY;INTERVAL=1;BYDAY=-1SU;BYMONTH=10
END:STANDARD
END:VTIMEZONE
BEGIN:VEVENT
DTSTAMP:20260423T005619
DTSTART;TZID=Europe/Berlin:20260518T083000
DTEND;TZID=Europe/Berlin:20260518T123000
UID:V46316002-20260518T083000@VHSBÖBLINGEN-SINDELFINGEN
SUMMARY:Deutsch B1, Integrationskurs 6 (V46316002) 
LOCATION:Neckarstraße, 008, Neckarstraße 16, 71065 Sindelfingen
END:VEVENT
BEGIN:VEVENT
DTSTAMP:20260423T005619
DTSTART;TZID=Europe/Berlin:20260519T083000
DTEND;TZID=Europe/Berlin:20260519T123000
UID:V46316002-20260519T083000@VHSBÖBLINGEN-SINDELFINGEN
SUMMARY:Deutsch B1, Integrationskurs 6 (V46316002) 
LOCATION:Neckarstraße, 008, Neckarstraße 16, 71065 Sindelfingen
END:VEVENT
BEGIN:VEVENT
DTSTAMP:20260423T005619
DTSTART;TZID=Europe/Berlin:20260520T083000
DTEND;TZID=Europe/Berlin:20260520T123000
UID:V46316002-20260520T083000@VHSBÖBLINGEN-SINDELFINGEN
SUMMARY:Deutsch B1, Integrationskurs 6 (V46316002) 
LOCATION:Neckarstraße, 008, Neckarstraße 16, 71065 Sindelfingen
END:VEVENT
BEGIN:VEVENT
DTSTAMP:20260423T005619
DTSTART;TZID=Europe/Berlin:20260521T083000
DTEND;TZID=Europe/Berlin:20260521T123000
UID:V46316002-20260521T083000@VHSBÖBLINGEN-SINDELFINGEN
SUMMARY:Deutsch B1, Integrationskurs 6 (V46316002) 
LOCATION:Neckarstraße, 008, Neckarstraße 16, 71065 Sindelfingen
END:VEVENT
BEGIN:VEVENT
DTSTAMP:20260423T005619
DTSTART;TZID=Europe/Berlin:20260522T083000
DTEND;TZID=Europe/Berlin:20260522T123000
UID:V46316002-20260522T083000@VHSBÖBLINGEN-SINDELFINGEN
SUMMARY:Deutsch B1, Integrationskurs 6 (V46316002) 
LOCATION:Neckarstraße, 008, Neckarstraße 16, 71065 Sindelfingen
END:VEVENT
BEGIN:VEVENT
DTSTAMP:20260423T005619
DTSTART;TZID=Europe/Berlin:20260608T083000
DTEND;TZID=Europe/Berlin:20260608T123000
UID:V46316002-20260608T083000@VHSBÖBLINGEN-SINDELFINGEN
SUMMARY:Deutsch B1, Integrationskurs 6 (V46316002) 
LOCATION:Neckarstraße, 008, Neckarstraße 16, 71065 Sindelfingen
END:VEVENT
BEGIN:VEVENT
DTSTAMP:20260423T005619
DTSTART;TZID=Europe/Berlin:20260609T083000
DTEND;TZID=Europe/Berlin:20260609T123000
UID:V46316002-20260609T083000@VHSBÖBLINGEN-SINDELFINGEN
SUMMARY:Deutsch B1, Integrationskurs 6 (V46316002) 
LOCATION:Neckarstraße, 008, Neckarstraße 16, 71065 Sindelfingen
END:VEVENT
BEGIN:VEVENT
DTSTAMP:20260423T005619
DTSTART;TZID=Europe/Berlin:20260610T083000
DTEND;TZID=Europe/Berlin:20260610T123000
UID:V46316002-20260610T083000@VHSBÖBLINGEN-SINDELFINGEN
SUMMARY:Deutsch B1, Integrationskurs 6 (V46316002) 
LOCATION:Neckarstraße, 008, Neckarstraße 16, 71065 Sindelfingen
END:VEVENT
BEGIN:VEVENT
DTSTAMP:20260423T005619
DTSTART;TZID=Europe/Berlin:20260611T083000
DTEND;TZID=Europe/Berlin:20260611T123000
UID:V46316002-20260611T083000@VHSBÖBLINGEN-SINDELFINGEN
SUMMARY:Deutsch B1, Integrationskurs 6 (V46316002) 
LOCATION:Neckarstraße, 008, Neckarstraße 16, 71065 Sindelfingen
END:VEVENT
BEGIN:VEVENT
DTSTAMP:20260423T005619
DTSTART;TZID=Europe/Berlin:20260612T083000
DTEND;TZID=Europe/Berlin:20260612T123000
UID:V46316002-20260612T083000@VHSBÖBLINGEN-SINDELFINGEN
SUMMARY:Deutsch B1, Integrationskurs 6 (V46316002) 
LOCATION:Neckarstraße, 008, Neckarstraße 16, 71065 Sindelfingen
END:VEVENT
BEGIN:VEVENT
DTSTAMP:20260423T005619
DTSTART;TZID=Europe/Berlin:20260615T083000
DTEND;TZID=Europe/Berlin:20260615T123000
UID:V46316002-20260615T083000@VHSBÖBLINGEN-SINDELFINGEN
SUMMARY:Deutsch B1, Integrationskurs 6 (V46316002) 
LOCATION:Neckarstraße, 008, Neckarstraße 16, 71065 Sindelfingen
END:VEVENT
BEGIN:VEVENT
DTSTAMP:20260423T005619
DTSTART;TZID=Europe/Berlin:20260616T083000
DTEND;TZID=Europe/Berlin:20260616T123000
UID:V46316002-20260616T083000@VHSBÖBLINGEN-SINDELFINGEN
SUMMARY:Deutsch B1, Integrationskurs 6 (V46316002) 
LOCATION:Neckarstraße, 008, Neckarstraße 16, 71065 Sindelfingen
END:VEVENT
BEGIN:VEVENT
DTSTAMP:20260423T005619
DTSTART;TZID=Europe/Berlin:20260617T083000
DTEND;TZID=Europe/Berlin:20260617T123000
UID:V46316002-20260617T083000@VHSBÖBLINGEN-SINDELFINGEN
SUMMARY:Deutsch B1, Integrationskurs 6 (V46316002) 
LOCATION:Neckarstraße, 008, Neckarstraße 16, 71065 Sindelfingen
END:VEVENT
BEGIN:VEVENT
DTSTAMP:20260423T005619
DTSTART;TZID=Europe/Berlin:20260618T083000
DTEND;TZID=Europe/Berlin:20260618T123000
UID:V46316002-20260618T083000@VHSBÖBLINGEN-SINDELFINGEN
SUMMARY:Deutsch B1, Integrationskurs 6 (V46316002) 
LOCATION:Neckarstraße, 008, Neckarstraße 16, 71065 Sindelfingen
END:VEVENT
BEGIN:VEVENT
DTSTAMP:20260423T005619
DTSTART;TZID=Europe/Berlin:20260619T083000
DTEND;TZID=Europe/Berlin:20260619T123000
UID:V46316002-20260619T083000@VHSBÖBLINGEN-SINDELFINGEN
SUMMARY:Deutsch B1, Integrationskurs 6 (V46316002) 
LOCATION:Neckarstraße, 008, Neckarstraße 16, 71065 Sindelfingen
END:VEVENT
BEGIN:VEVENT
DTSTAMP:20260423T005619
DTSTART;TZID=Europe/Berlin:20260622T083000
DTEND;TZID=Europe/Berlin:20260622T123000
UID:V46316002-20260622T083000@VHSBÖBLINGEN-SINDELFINGEN
SUMMARY:Deutsch B1, Integrationskurs 6 (V46316002) 
LOCATION:Neckarstraße, 008, Neckarstraße 16, 71065 Sindelfingen
END:VEVENT
BEGIN:VEVENT
DTSTAMP:20260423T005619
DTSTART;TZID=Europe/Berlin:20260623T083000
DTEND;TZID=Europe/Berlin:20260623T123000
UID:V46316002-20260623T083000@VHSBÖBLINGEN-SINDELFINGEN
SUMMARY:Deutsch B1, Integrationskurs 6 (V46316002) 
LOCATION:Neckarstraße, 008, Neckarstraße 16, 71065 Sindelfingen
END:VEVENT
BEGIN:VEVENT
DTSTAMP:20260423T005619
DTSTART;TZID=Europe/Berlin:20260624T083000
DTEND;TZID=Europe/Berlin:20260624T123000
UID:V46316002-20260624T083000@VHSBÖBLINGEN-SINDELFINGEN
SUMMARY:Deutsch B1, Integrationskurs 6 (V46316002) 
LOCATION:Neckarstraße, 008, Neckarstraße 16, 71065 Sindelfingen
END:VEVENT
BEGIN:VEVENT
DTSTAMP:20260423T005619
DTSTART;TZID=Europe/Berlin:20260625T083000
DTEND;TZID=Europe/Berlin:20260625T123000
UID:V46316002-20260625T083000@VHSBÖBLINGEN-SINDELFINGEN
SUMMARY:Deutsch B1, Integrationskurs 6 (V46316002) 
LOCATION:Neckarstraße, 008, Neckarstraße 16, 71065 Sindelfingen
END:VEVENT
BEGIN:VEVENT
DTSTAMP:20260423T005619
DTSTART;TZID=Europe/Berlin:20260626T083000
DTEND;TZID=Europe/Berlin:20260626T123000
UID:V46316002-20260626T083000@VHSBÖBLINGEN-SINDELFINGEN
SUMMARY:Deutsch B1, Integrationskurs 6 (V46316002) 
LOCATION:Neckarstraße, 008, Neckarstraße 16, 71065 Sindelfingen
END:VEVENT
END:VCALENDAR