BEGIN:VCALENDAR
VERSION:2.0
PRODID:https://www.kufer.de/kuferweb / DE
METHOD:PUBLISH
CALSCALE:GREGORIAN
X-WR-TIMEZONE:Europe/Berlin
BEGIN:VTIMEZONE
TZID:Europe/Berlin
X-LIC-LOCATION:Europe/Berlin
BEGIN:DAYLIGHT
TZOFFSETFROM:+0100
TZOFFSETTO:+0200
TZNAME:CEST
DTSTART:19700329T020000
RRULE:FREQ=YEARLY;INTERVAL=1;BYDAY=-1SU;BYMONTH=3
END:DAYLIGHT
BEGIN:STANDARD
TZOFFSETFROM:+0200
TZOFFSETTO:+0100
TZNAME:CET
DTSTART:19701025T030000
RRULE:FREQ=YEARLY;INTERVAL=1;BYDAY=-1SU;BYMONTH=10
END:STANDARD
END:VTIMEZONE
BEGIN:VEVENT
DTSTAMP:20260421T002940
DTSTART;TZID=Europe/Berlin:20260416T123000
DTEND;TZID=Europe/Berlin:20260416T163000
UID:V46223003-20260416T123000@VHSBÖBLINGEN-SINDELFINGEN
SUMMARY:Deutsch A1, Integrationskurs GL 3 (950) (V46223003) 
LOCATION:Höfle, 001, EG, Pestalozzistr. 4, 71032 Böblingen
END:VEVENT
BEGIN:VEVENT
DTSTAMP:20260421T002940
DTSTART;TZID=Europe/Berlin:20260417T123000
DTEND;TZID=Europe/Berlin:20260417T163000
UID:V46223003-20260417T123000@VHSBÖBLINGEN-SINDELFINGEN
SUMMARY:Deutsch A1, Integrationskurs GL 3 (950) (V46223003) 
LOCATION:Höfle, 001, EG, Pestalozzistr. 4, 71032 Böblingen
END:VEVENT
BEGIN:VEVENT
DTSTAMP:20260421T002940
DTSTART;TZID=Europe/Berlin:20260418T123000
DTEND;TZID=Europe/Berlin:20260418T163000
UID:V46223003-20260418T123000@VHSBÖBLINGEN-SINDELFINGEN
DESCRIPTION:Ersatztermin
SUMMARY:Deutsch A1, Integrationskurs GL 3 (950) (V46223003) 
LOCATION:Höfle, 005, EG, Pestalozzistr. 4, 71032 Böblingen
END:VEVENT
BEGIN:VEVENT
DTSTAMP:20260421T002940
DTSTART;TZID=Europe/Berlin:20260420T123000
DTEND;TZID=Europe/Berlin:20260420T163000
UID:V46223003-20260420T123000@VHSBÖBLINGEN-SINDELFINGEN
SUMMARY:Deutsch A1, Integrationskurs GL 3 (950) (V46223003) 
LOCATION:Höfle, 001, EG, Pestalozzistr. 4, 71032 Böblingen
END:VEVENT
BEGIN:VEVENT
DTSTAMP:20260421T002940
DTSTART;TZID=Europe/Berlin:20260421T123000
DTEND;TZID=Europe/Berlin:20260421T163000
UID:V46223003-20260421T123000@VHSBÖBLINGEN-SINDELFINGEN
SUMMARY:Deutsch A1, Integrationskurs GL 3 (950) (V46223003) 
LOCATION:Höfle, 001, EG, Pestalozzistr. 4, 71032 Böblingen
END:VEVENT
BEGIN:VEVENT
DTSTAMP:20260421T002940
DTSTART;TZID=Europe/Berlin:20260422T123000
DTEND;TZID=Europe/Berlin:20260422T163000
UID:V46223003-20260422T123000@VHSBÖBLINGEN-SINDELFINGEN
SUMMARY:Deutsch A1, Integrationskurs GL 3 (950) (V46223003) 
LOCATION:Höfle, 001, EG, Pestalozzistr. 4, 71032 Böblingen
END:VEVENT
BEGIN:VEVENT
DTSTAMP:20260421T002940
DTSTART;TZID=Europe/Berlin:20260423T123000
DTEND;TZID=Europe/Berlin:20260423T163000
UID:V46223003-20260423T123000@VHSBÖBLINGEN-SINDELFINGEN
SUMMARY:Deutsch A1, Integrationskurs GL 3 (950) (V46223003) 
LOCATION:Höfle, 001, EG, Pestalozzistr. 4, 71032 Böblingen
END:VEVENT
BEGIN:VEVENT
DTSTAMP:20260421T002940
DTSTART;TZID=Europe/Berlin:20260428T123000
DTEND;TZID=Europe/Berlin:20260428T163000
UID:V46223003-20260428T123000@VHSBÖBLINGEN-SINDELFINGEN
SUMMARY:Deutsch A1, Integrationskurs GL 3 (950) (V46223003) 
LOCATION:Höfle, 001, EG, Pestalozzistr. 4, 71032 Böblingen
END:VEVENT
BEGIN:VEVENT
DTSTAMP:20260421T002940
DTSTART;TZID=Europe/Berlin:20260430T123000
DTEND;TZID=Europe/Berlin:20260430T163000
UID:V46223003-20260430T123000@VHSBÖBLINGEN-SINDELFINGEN
SUMMARY:Deutsch A1, Integrationskurs GL 3 (950) (V46223003) 
LOCATION:Höfle, 001, EG, Pestalozzistr. 4, 71032 Böblingen
END:VEVENT
BEGIN:VEVENT
DTSTAMP:20260421T002940
DTSTART;TZID=Europe/Berlin:20260504T123000
DTEND;TZID=Europe/Berlin:20260504T163000
UID:V46223003-20260504T123000@VHSBÖBLINGEN-SINDELFINGEN
SUMMARY:Deutsch A1, Integrationskurs GL 3 (950) (V46223003) 
LOCATION:Höfle, 001, EG, Pestalozzistr. 4, 71032 Böblingen
END:VEVENT
BEGIN:VEVENT
DTSTAMP:20260421T002940
DTSTART;TZID=Europe/Berlin:20260505T123000
DTEND;TZID=Europe/Berlin:20260505T163000
UID:V46223003-20260505T123000@VHSBÖBLINGEN-SINDELFINGEN
SUMMARY:Deutsch A1, Integrationskurs GL 3 (950) (V46223003) 
LOCATION:Höfle, 001, EG, Pestalozzistr. 4, 71032 Böblingen
END:VEVENT
BEGIN:VEVENT
DTSTAMP:20260421T002940
DTSTART;TZID=Europe/Berlin:20260506T123000
DTEND;TZID=Europe/Berlin:20260506T163000
UID:V46223003-20260506T123000@VHSBÖBLINGEN-SINDELFINGEN
SUMMARY:Deutsch A1, Integrationskurs GL 3 (950) (V46223003) 
LOCATION:Höfle, 001, EG, Pestalozzistr. 4, 71032 Böblingen
END:VEVENT
BEGIN:VEVENT
DTSTAMP:20260421T002940
DTSTART;TZID=Europe/Berlin:20260507T123000
DTEND;TZID=Europe/Berlin:20260507T163000
UID:V46223003-20260507T123000@VHSBÖBLINGEN-SINDELFINGEN
SUMMARY:Deutsch A1, Integrationskurs GL 3 (950) (V46223003) 
LOCATION:Höfle, 001, EG, Pestalozzistr. 4, 71032 Böblingen
END:VEVENT
BEGIN:VEVENT
DTSTAMP:20260421T002940
DTSTART;TZID=Europe/Berlin:20260508T123000
DTEND;TZID=Europe/Berlin:20260508T163000
UID:V46223003-20260508T123000@VHSBÖBLINGEN-SINDELFINGEN
SUMMARY:Deutsch A1, Integrationskurs GL 3 (950) (V46223003) 
LOCATION:Höfle, 001, EG, Pestalozzistr. 4, 71032 Böblingen
END:VEVENT
BEGIN:VEVENT
DTSTAMP:20260421T002940
DTSTART;TZID=Europe/Berlin:20260509T123000
DTEND;TZID=Europe/Berlin:20260509T163000
UID:V46223003-20260509T123000@VHSBÖBLINGEN-SINDELFINGEN
DESCRIPTION:Ersatztermin
SUMMARY:Deutsch A1, Integrationskurs GL 3 (950) (V46223003) 
LOCATION:Höfle, 001, EG, Pestalozzistr. 4, 71032 Böblingen
END:VEVENT
BEGIN:VEVENT
DTSTAMP:20260421T002940
DTSTART;TZID=Europe/Berlin:20260511T123000
DTEND;TZID=Europe/Berlin:20260511T163000
UID:V46223003-20260511T123000@VHSBÖBLINGEN-SINDELFINGEN
SUMMARY:Deutsch A1, Integrationskurs GL 3 (950) (V46223003) 
LOCATION:Höfle, 001, EG, Pestalozzistr. 4, 71032 Böblingen
END:VEVENT
BEGIN:VEVENT
DTSTAMP:20260421T002940
DTSTART;TZID=Europe/Berlin:20260512T123000
DTEND;TZID=Europe/Berlin:20260512T163000
UID:V46223003-20260512T123000@VHSBÖBLINGEN-SINDELFINGEN
SUMMARY:Deutsch A1, Integrationskurs GL 3 (950) (V46223003) 
LOCATION:Höfle, 001, EG, Pestalozzistr. 4, 71032 Böblingen
END:VEVENT
BEGIN:VEVENT
DTSTAMP:20260421T002940
DTSTART;TZID=Europe/Berlin:20260513T123000
DTEND;TZID=Europe/Berlin:20260513T163000
UID:V46223003-20260513T123000@VHSBÖBLINGEN-SINDELFINGEN
SUMMARY:Deutsch A1, Integrationskurs GL 3 (950) (V46223003) 
LOCATION:Höfle, 001, EG, Pestalozzistr. 4, 71032 Böblingen
END:VEVENT
BEGIN:VEVENT
DTSTAMP:20260421T002940
DTSTART;TZID=Europe/Berlin:20260515T123000
DTEND;TZID=Europe/Berlin:20260515T163000
UID:V46223003-20260515T123000@VHSBÖBLINGEN-SINDELFINGEN
SUMMARY:Deutsch A1, Integrationskurs GL 3 (950) (V46223003) 
LOCATION:Höfle, 001, EG, Pestalozzistr. 4, 71032 Böblingen
END:VEVENT
BEGIN:VEVENT
DTSTAMP:20260421T002940
DTSTART;TZID=Europe/Berlin:20260516T123000
DTEND;TZID=Europe/Berlin:20260516T163000
UID:V46223003-20260516T123000@VHSBÖBLINGEN-SINDELFINGEN
DESCRIPTION:Ersatztermin
SUMMARY:Deutsch A1, Integrationskurs GL 3 (950) (V46223003) 
LOCATION:Höfle, 001, EG, Pestalozzistr. 4, 71032 Böblingen
END:VEVENT
END:VCALENDAR