BEGIN:VCALENDAR
VERSION:2.0
PRODID:https://www.kufer.de/kuferweb / DE
METHOD:PUBLISH
CALSCALE:GREGORIAN
X-WR-TIMEZONE:Europe/Berlin
BEGIN:VTIMEZONE
TZID:Europe/Berlin
X-LIC-LOCATION:Europe/Berlin
BEGIN:DAYLIGHT
TZOFFSETFROM:+0100
TZOFFSETTO:+0200
TZNAME:CEST
DTSTART:19700329T020000
RRULE:FREQ=YEARLY;INTERVAL=1;BYDAY=-1SU;BYMONTH=3
END:DAYLIGHT
BEGIN:STANDARD
TZOFFSETFROM:+0200
TZOFFSETTO:+0100
TZNAME:CET
DTSTART:19701025T030000
RRULE:FREQ=YEARLY;INTERVAL=1;BYDAY=-1SU;BYMONTH=10
END:STANDARD
END:VTIMEZONE
BEGIN:VEVENT
DTSTAMP:20260420T164325
DTSTART;TZID=Europe/Berlin:20260416T083000
DTEND;TZID=Europe/Berlin:20260416T123000
UID:V46215002-20260416T083000@VHSBÖBLINGEN-SINDELFINGEN
SUMMARY:Deutsch B1, Integrationskurs 5 (927) (V46215002) 
LOCATION:Neckarstraße, 008, Neckarstraße 16, 71065 Sindelfingen
END:VEVENT
BEGIN:VEVENT
DTSTAMP:20260420T164325
DTSTART;TZID=Europe/Berlin:20260417T083000
DTEND;TZID=Europe/Berlin:20260417T123000
UID:V46215002-20260417T083000@VHSBÖBLINGEN-SINDELFINGEN
SUMMARY:Deutsch B1, Integrationskurs 5 (927) (V46215002) 
LOCATION:Neckarstraße, 008, Neckarstraße 16, 71065 Sindelfingen
END:VEVENT
BEGIN:VEVENT
DTSTAMP:20260420T164325
DTSTART;TZID=Europe/Berlin:20260420T083000
DTEND;TZID=Europe/Berlin:20260420T123000
UID:V46215002-20260420T083000@VHSBÖBLINGEN-SINDELFINGEN
SUMMARY:Deutsch B1, Integrationskurs 5 (927) (V46215002) 
LOCATION:Neckarstraße, 008, Neckarstraße 16, 71065 Sindelfingen
END:VEVENT
BEGIN:VEVENT
DTSTAMP:20260420T164325
DTSTART;TZID=Europe/Berlin:20260421T083000
DTEND;TZID=Europe/Berlin:20260421T123000
UID:V46215002-20260421T083000@VHSBÖBLINGEN-SINDELFINGEN
SUMMARY:Deutsch B1, Integrationskurs 5 (927) (V46215002) 
LOCATION:Neckarstraße, 008, Neckarstraße 16, 71065 Sindelfingen
END:VEVENT
BEGIN:VEVENT
DTSTAMP:20260420T164325
DTSTART;TZID=Europe/Berlin:20260422T083000
DTEND;TZID=Europe/Berlin:20260422T123000
UID:V46215002-20260422T083000@VHSBÖBLINGEN-SINDELFINGEN
SUMMARY:Deutsch B1, Integrationskurs 5 (927) (V46215002) 
LOCATION:Neckarstraße, 008, Neckarstraße 16, 71065 Sindelfingen
END:VEVENT
BEGIN:VEVENT
DTSTAMP:20260420T164325
DTSTART;TZID=Europe/Berlin:20260423T083000
DTEND;TZID=Europe/Berlin:20260423T123000
UID:V46215002-20260423T083000@VHSBÖBLINGEN-SINDELFINGEN
SUMMARY:Deutsch B1, Integrationskurs 5 (927) (V46215002) 
LOCATION:Neckarstraße, 008, Neckarstraße 16, 71065 Sindelfingen
END:VEVENT
BEGIN:VEVENT
DTSTAMP:20260420T164325
DTSTART;TZID=Europe/Berlin:20260424T083000
DTEND;TZID=Europe/Berlin:20260424T123000
UID:V46215002-20260424T083000@VHSBÖBLINGEN-SINDELFINGEN
SUMMARY:Deutsch B1, Integrationskurs 5 (927) (V46215002) 
LOCATION:Neckarstraße, 008, Neckarstraße 16, 71065 Sindelfingen
END:VEVENT
BEGIN:VEVENT
DTSTAMP:20260420T164325
DTSTART;TZID=Europe/Berlin:20260427T083000
DTEND;TZID=Europe/Berlin:20260427T123000
UID:V46215002-20260427T083000@VHSBÖBLINGEN-SINDELFINGEN
SUMMARY:Deutsch B1, Integrationskurs 5 (927) (V46215002) 
LOCATION:Neckarstraße, 008, Neckarstraße 16, 71065 Sindelfingen
END:VEVENT
BEGIN:VEVENT
DTSTAMP:20260420T164325
DTSTART;TZID=Europe/Berlin:20260428T083000
DTEND;TZID=Europe/Berlin:20260428T123000
UID:V46215002-20260428T083000@VHSBÖBLINGEN-SINDELFINGEN
SUMMARY:Deutsch B1, Integrationskurs 5 (927) (V46215002) 
LOCATION:Neckarstraße, 008, Neckarstraße 16, 71065 Sindelfingen
END:VEVENT
BEGIN:VEVENT
DTSTAMP:20260420T164325
DTSTART;TZID=Europe/Berlin:20260429T083000
DTEND;TZID=Europe/Berlin:20260429T123000
UID:V46215002-20260429T083000@VHSBÖBLINGEN-SINDELFINGEN
SUMMARY:Deutsch B1, Integrationskurs 5 (927) (V46215002) 
LOCATION:Neckarstraße, 008, Neckarstraße 16, 71065 Sindelfingen
END:VEVENT
BEGIN:VEVENT
DTSTAMP:20260420T164325
DTSTART;TZID=Europe/Berlin:20260430T083000
DTEND;TZID=Europe/Berlin:20260430T123000
UID:V46215002-20260430T083000@VHSBÖBLINGEN-SINDELFINGEN
SUMMARY:Deutsch B1, Integrationskurs 5 (927) (V46215002) 
LOCATION:Neckarstraße, 008, Neckarstraße 16, 71065 Sindelfingen
END:VEVENT
BEGIN:VEVENT
DTSTAMP:20260420T164325
DTSTART;TZID=Europe/Berlin:20260504T083000
DTEND;TZID=Europe/Berlin:20260504T123000
UID:V46215002-20260504T083000@VHSBÖBLINGEN-SINDELFINGEN
SUMMARY:Deutsch B1, Integrationskurs 5 (927) (V46215002) 
LOCATION:Neckarstraße, 008, Neckarstraße 16, 71065 Sindelfingen
END:VEVENT
BEGIN:VEVENT
DTSTAMP:20260420T164325
DTSTART;TZID=Europe/Berlin:20260505T083000
DTEND;TZID=Europe/Berlin:20260505T123000
UID:V46215002-20260505T083000@VHSBÖBLINGEN-SINDELFINGEN
SUMMARY:Deutsch B1, Integrationskurs 5 (927) (V46215002) 
LOCATION:Neckarstraße, 008, Neckarstraße 16, 71065 Sindelfingen
END:VEVENT
BEGIN:VEVENT
DTSTAMP:20260420T164325
DTSTART;TZID=Europe/Berlin:20260506T083000
DTEND;TZID=Europe/Berlin:20260506T123000
UID:V46215002-20260506T083000@VHSBÖBLINGEN-SINDELFINGEN
SUMMARY:Deutsch B1, Integrationskurs 5 (927) (V46215002) 
LOCATION:Neckarstraße, 008, Neckarstraße 16, 71065 Sindelfingen
END:VEVENT
BEGIN:VEVENT
DTSTAMP:20260420T164325
DTSTART;TZID=Europe/Berlin:20260507T083000
DTEND;TZID=Europe/Berlin:20260507T123000
UID:V46215002-20260507T083000@VHSBÖBLINGEN-SINDELFINGEN
SUMMARY:Deutsch B1, Integrationskurs 5 (927) (V46215002) 
LOCATION:Neckarstraße, 008, Neckarstraße 16, 71065 Sindelfingen
END:VEVENT
BEGIN:VEVENT
DTSTAMP:20260420T164325
DTSTART;TZID=Europe/Berlin:20260508T083000
DTEND;TZID=Europe/Berlin:20260508T123000
UID:V46215002-20260508T083000@VHSBÖBLINGEN-SINDELFINGEN
SUMMARY:Deutsch B1, Integrationskurs 5 (927) (V46215002) 
LOCATION:Neckarstraße, 008, Neckarstraße 16, 71065 Sindelfingen
END:VEVENT
BEGIN:VEVENT
DTSTAMP:20260420T164325
DTSTART;TZID=Europe/Berlin:20260511T083000
DTEND;TZID=Europe/Berlin:20260511T123000
UID:V46215002-20260511T083000@VHSBÖBLINGEN-SINDELFINGEN
SUMMARY:Deutsch B1, Integrationskurs 5 (927) (V46215002) 
LOCATION:Neckarstraße, 008, Neckarstraße 16, 71065 Sindelfingen
END:VEVENT
BEGIN:VEVENT
DTSTAMP:20260420T164325
DTSTART;TZID=Europe/Berlin:20260512T083000
DTEND;TZID=Europe/Berlin:20260512T123000
UID:V46215002-20260512T083000@VHSBÖBLINGEN-SINDELFINGEN
SUMMARY:Deutsch B1, Integrationskurs 5 (927) (V46215002) 
LOCATION:Neckarstraße, 008, Neckarstraße 16, 71065 Sindelfingen
END:VEVENT
BEGIN:VEVENT
DTSTAMP:20260420T164325
DTSTART;TZID=Europe/Berlin:20260513T083000
DTEND;TZID=Europe/Berlin:20260513T123000
UID:V46215002-20260513T083000@VHSBÖBLINGEN-SINDELFINGEN
SUMMARY:Deutsch B1, Integrationskurs 5 (927) (V46215002) 
LOCATION:Neckarstraße, 008, Neckarstraße 16, 71065 Sindelfingen
END:VEVENT
BEGIN:VEVENT
DTSTAMP:20260420T164325
DTSTART;TZID=Europe/Berlin:20260515T083000
DTEND;TZID=Europe/Berlin:20260515T123000
UID:V46215002-20260515T083000@VHSBÖBLINGEN-SINDELFINGEN
SUMMARY:Deutsch B1, Integrationskurs 5 (927) (V46215002) 
LOCATION:Neckarstraße, 008, Neckarstraße 16, 71065 Sindelfingen
END:VEVENT
END:VCALENDAR