BEGIN:VCALENDAR
VERSION:2.0
PRODID:https://www.kufer.de/kuferweb / DE
METHOD:PUBLISH
CALSCALE:GREGORIAN
X-WR-TIMEZONE:Europe/Berlin
BEGIN:VTIMEZONE
TZID:Europe/Berlin
X-LIC-LOCATION:Europe/Berlin
BEGIN:DAYLIGHT
TZOFFSETFROM:+0100
TZOFFSETTO:+0200
TZNAME:CEST
DTSTART:19700329T020000
RRULE:FREQ=YEARLY;INTERVAL=1;BYDAY=-1SU;BYMONTH=3
END:DAYLIGHT
BEGIN:STANDARD
TZOFFSETFROM:+0200
TZOFFSETTO:+0100
TZNAME:CET
DTSTART:19701025T030000
RRULE:FREQ=YEARLY;INTERVAL=1;BYDAY=-1SU;BYMONTH=10
END:STANDARD
END:VTIMEZONE
BEGIN:VEVENT
DTSTAMP:20260421T003103
DTSTART;TZID=Europe/Berlin:20260416T130000
DTEND;TZID=Europe/Berlin:20260416T170000
UID:V46212003-20260416T130000@VHSBÖBLINGEN-SINDELFINGEN
SUMMARY:Deutsch A1, Integrationskurs 2 (954) (V46212003) 
LOCATION:Höfle, 003, EG, Pestalozzistr. 4, 71032 Böblingen
END:VEVENT
BEGIN:VEVENT
DTSTAMP:20260421T003103
DTSTART;TZID=Europe/Berlin:20260417T130000
DTEND;TZID=Europe/Berlin:20260417T170000
UID:V46212003-20260417T130000@VHSBÖBLINGEN-SINDELFINGEN
SUMMARY:Deutsch A1, Integrationskurs 2 (954) (V46212003) 
LOCATION:Höfle, 003, EG, Pestalozzistr. 4, 71032 Böblingen
END:VEVENT
BEGIN:VEVENT
DTSTAMP:20260421T003103
DTSTART;TZID=Europe/Berlin:20260420T130000
DTEND;TZID=Europe/Berlin:20260420T170000
UID:V46212003-20260420T130000@VHSBÖBLINGEN-SINDELFINGEN
SUMMARY:Deutsch A1, Integrationskurs 2 (954) (V46212003) 
LOCATION:Höfle, 003, EG, Pestalozzistr. 4, 71032 Böblingen
END:VEVENT
BEGIN:VEVENT
DTSTAMP:20260421T003103
DTSTART;TZID=Europe/Berlin:20260421T130000
DTEND;TZID=Europe/Berlin:20260421T170000
UID:V46212003-20260421T130000@VHSBÖBLINGEN-SINDELFINGEN
SUMMARY:Deutsch A1, Integrationskurs 2 (954) (V46212003) 
LOCATION:Höfle, 003, EG, Pestalozzistr. 4, 71032 Böblingen
END:VEVENT
BEGIN:VEVENT
DTSTAMP:20260421T003103
DTSTART;TZID=Europe/Berlin:20260422T130000
DTEND;TZID=Europe/Berlin:20260422T170000
UID:V46212003-20260422T130000@VHSBÖBLINGEN-SINDELFINGEN
SUMMARY:Deutsch A1, Integrationskurs 2 (954) (V46212003) 
LOCATION:Höfle, 003, EG, Pestalozzistr. 4, 71032 Böblingen
END:VEVENT
BEGIN:VEVENT
DTSTAMP:20260421T003103
DTSTART;TZID=Europe/Berlin:20260423T130000
DTEND;TZID=Europe/Berlin:20260423T170000
UID:V46212003-20260423T130000@VHSBÖBLINGEN-SINDELFINGEN
SUMMARY:Deutsch A1, Integrationskurs 2 (954) (V46212003) 
LOCATION:Höfle, 003, EG, Pestalozzistr. 4, 71032 Böblingen
END:VEVENT
BEGIN:VEVENT
DTSTAMP:20260421T003103
DTSTART;TZID=Europe/Berlin:20260424T130000
DTEND;TZID=Europe/Berlin:20260424T170000
UID:V46212003-20260424T130000@VHSBÖBLINGEN-SINDELFINGEN
SUMMARY:Deutsch A1, Integrationskurs 2 (954) (V46212003) 
LOCATION:Höfle, 005, EG, Pestalozzistr. 4, 71032 Böblingen
END:VEVENT
BEGIN:VEVENT
DTSTAMP:20260421T003103
DTSTART;TZID=Europe/Berlin:20260427T130000
DTEND;TZID=Europe/Berlin:20260427T170000
UID:V46212003-20260427T130000@VHSBÖBLINGEN-SINDELFINGEN
SUMMARY:Deutsch A1, Integrationskurs 2 (954) (V46212003) 
LOCATION:Höfle, 003, EG, Pestalozzistr. 4, 71032 Böblingen
END:VEVENT
BEGIN:VEVENT
DTSTAMP:20260421T003103
DTSTART;TZID=Europe/Berlin:20260428T130000
DTEND;TZID=Europe/Berlin:20260428T170000
UID:V46212003-20260428T130000@VHSBÖBLINGEN-SINDELFINGEN
SUMMARY:Deutsch A1, Integrationskurs 2 (954) (V46212003) 
LOCATION:Höfle, 003, EG, Pestalozzistr. 4, 71032 Böblingen
END:VEVENT
BEGIN:VEVENT
DTSTAMP:20260421T003103
DTSTART;TZID=Europe/Berlin:20260429T130000
DTEND;TZID=Europe/Berlin:20260429T170000
UID:V46212003-20260429T130000@VHSBÖBLINGEN-SINDELFINGEN
SUMMARY:Deutsch A1, Integrationskurs 2 (954) (V46212003) 
LOCATION:Höfle, 003, EG, Pestalozzistr. 4, 71032 Böblingen
END:VEVENT
BEGIN:VEVENT
DTSTAMP:20260421T003103
DTSTART;TZID=Europe/Berlin:20260430T130000
DTEND;TZID=Europe/Berlin:20260430T170000
UID:V46212003-20260430T130000@VHSBÖBLINGEN-SINDELFINGEN
SUMMARY:Deutsch A1, Integrationskurs 2 (954) (V46212003) 
LOCATION:Höfle, 003, EG, Pestalozzistr. 4, 71032 Böblingen
END:VEVENT
BEGIN:VEVENT
DTSTAMP:20260421T003103
DTSTART;TZID=Europe/Berlin:20260504T130000
DTEND;TZID=Europe/Berlin:20260504T170000
UID:V46212003-20260504T130000@VHSBÖBLINGEN-SINDELFINGEN
SUMMARY:Deutsch A1, Integrationskurs 2 (954) (V46212003) 
LOCATION:Höfle, 003, EG, Pestalozzistr. 4, 71032 Böblingen
END:VEVENT
BEGIN:VEVENT
DTSTAMP:20260421T003103
DTSTART;TZID=Europe/Berlin:20260505T130000
DTEND;TZID=Europe/Berlin:20260505T170000
UID:V46212003-20260505T130000@VHSBÖBLINGEN-SINDELFINGEN
SUMMARY:Deutsch A1, Integrationskurs 2 (954) (V46212003) 
LOCATION:Höfle, 003, EG, Pestalozzistr. 4, 71032 Böblingen
END:VEVENT
BEGIN:VEVENT
DTSTAMP:20260421T003103
DTSTART;TZID=Europe/Berlin:20260506T130000
DTEND;TZID=Europe/Berlin:20260506T170000
UID:V46212003-20260506T130000@VHSBÖBLINGEN-SINDELFINGEN
SUMMARY:Deutsch A1, Integrationskurs 2 (954) (V46212003) 
LOCATION:Höfle, 003, EG, Pestalozzistr. 4, 71032 Böblingen
END:VEVENT
BEGIN:VEVENT
DTSTAMP:20260421T003103
DTSTART;TZID=Europe/Berlin:20260507T130000
DTEND;TZID=Europe/Berlin:20260507T170000
UID:V46212003-20260507T130000@VHSBÖBLINGEN-SINDELFINGEN
SUMMARY:Deutsch A1, Integrationskurs 2 (954) (V46212003) 
LOCATION:Höfle, 003, EG, Pestalozzistr. 4, 71032 Böblingen
END:VEVENT
BEGIN:VEVENT
DTSTAMP:20260421T003103
DTSTART;TZID=Europe/Berlin:20260508T130000
DTEND;TZID=Europe/Berlin:20260508T170000
UID:V46212003-20260508T130000@VHSBÖBLINGEN-SINDELFINGEN
SUMMARY:Deutsch A1, Integrationskurs 2 (954) (V46212003) 
LOCATION:Höfle, 003, EG, Pestalozzistr. 4, 71032 Böblingen
END:VEVENT
BEGIN:VEVENT
DTSTAMP:20260421T003103
DTSTART;TZID=Europe/Berlin:20260511T130000
DTEND;TZID=Europe/Berlin:20260511T170000
UID:V46212003-20260511T130000@VHSBÖBLINGEN-SINDELFINGEN
SUMMARY:Deutsch A1, Integrationskurs 2 (954) (V46212003) 
LOCATION:Höfle, 003, EG, Pestalozzistr. 4, 71032 Böblingen
END:VEVENT
BEGIN:VEVENT
DTSTAMP:20260421T003103
DTSTART;TZID=Europe/Berlin:20260512T130000
DTEND;TZID=Europe/Berlin:20260512T170000
UID:V46212003-20260512T130000@VHSBÖBLINGEN-SINDELFINGEN
SUMMARY:Deutsch A1, Integrationskurs 2 (954) (V46212003) 
LOCATION:Höfle, 003, EG, Pestalozzistr. 4, 71032 Böblingen
END:VEVENT
BEGIN:VEVENT
DTSTAMP:20260421T003103
DTSTART;TZID=Europe/Berlin:20260513T130000
DTEND;TZID=Europe/Berlin:20260513T170000
UID:V46212003-20260513T130000@VHSBÖBLINGEN-SINDELFINGEN
SUMMARY:Deutsch A1, Integrationskurs 2 (954) (V46212003) 
LOCATION:Höfle, 003, EG, Pestalozzistr. 4, 71032 Böblingen
END:VEVENT
BEGIN:VEVENT
DTSTAMP:20260421T003103
DTSTART;TZID=Europe/Berlin:20260515T130000
DTEND;TZID=Europe/Berlin:20260515T170000
UID:V46212003-20260515T130000@VHSBÖBLINGEN-SINDELFINGEN
SUMMARY:Deutsch A1, Integrationskurs 2 (954) (V46212003) 
LOCATION:Höfle, 003, EG, Pestalozzistr. 4, 71032 Böblingen
END:VEVENT
END:VCALENDAR