BEGIN:VCALENDAR
VERSION:2.0
PRODID:https://www.kufer.de/kuferweb / DE
METHOD:PUBLISH
CALSCALE:GREGORIAN
X-WR-TIMEZONE:Europe/Berlin
BEGIN:VTIMEZONE
TZID:Europe/Berlin
X-LIC-LOCATION:Europe/Berlin
BEGIN:DAYLIGHT
TZOFFSETFROM:+0100
TZOFFSETTO:+0200
TZNAME:CEST
DTSTART:19700329T020000
RRULE:FREQ=YEARLY;INTERVAL=1;BYDAY=-1SU;BYMONTH=3
END:DAYLIGHT
BEGIN:STANDARD
TZOFFSETFROM:+0200
TZOFFSETTO:+0100
TZNAME:CET
DTSTART:19701025T030000
RRULE:FREQ=YEARLY;INTERVAL=1;BYDAY=-1SU;BYMONTH=10
END:STANDARD
END:VTIMEZONE
BEGIN:VEVENT
DTSTAMP:20260423T023408
DTSTART;TZID=Europe/Berlin:20260305T080000
DTEND;TZID=Europe/Berlin:20260305T120000
UID:V46137001-20260305T080000@VHSBÖBLINGEN-SINDELFINGEN
SUMMARY:Deutsch, Alphabetisierungskurs (V46137001) 
LOCATION:Höfle, 004, EG, Pestalozzistr. 4, 71032 Böblingen
END:VEVENT
BEGIN:VEVENT
DTSTAMP:20260423T023408
DTSTART;TZID=Europe/Berlin:20260309T080000
DTEND;TZID=Europe/Berlin:20260309T120000
UID:V46137001-20260309T080000@VHSBÖBLINGEN-SINDELFINGEN
SUMMARY:Deutsch, Alphabetisierungskurs (V46137001) 
LOCATION:Höfle, 004, EG, Pestalozzistr. 4, 71032 Böblingen
END:VEVENT
BEGIN:VEVENT
DTSTAMP:20260423T023408
DTSTART;TZID=Europe/Berlin:20260310T080000
DTEND;TZID=Europe/Berlin:20260310T120000
UID:V46137001-20260310T080000@VHSBÖBLINGEN-SINDELFINGEN
SUMMARY:Deutsch, Alphabetisierungskurs (V46137001) 
LOCATION:Höfle, 004, EG, Pestalozzistr. 4, 71032 Böblingen
END:VEVENT
BEGIN:VEVENT
DTSTAMP:20260423T023408
DTSTART;TZID=Europe/Berlin:20260312T080000
DTEND;TZID=Europe/Berlin:20260312T120000
UID:V46137001-20260312T080000@VHSBÖBLINGEN-SINDELFINGEN
SUMMARY:Deutsch, Alphabetisierungskurs (V46137001) 
LOCATION:Höfle, 004, EG, Pestalozzistr. 4, 71032 Böblingen
END:VEVENT
BEGIN:VEVENT
DTSTAMP:20260423T023408
DTSTART;TZID=Europe/Berlin:20260316T080000
DTEND;TZID=Europe/Berlin:20260316T120000
UID:V46137001-20260316T080000@VHSBÖBLINGEN-SINDELFINGEN
SUMMARY:Deutsch, Alphabetisierungskurs (V46137001) 
LOCATION:Höfle, 004, EG, Pestalozzistr. 4, 71032 Böblingen
END:VEVENT
BEGIN:VEVENT
DTSTAMP:20260423T023408
DTSTART;TZID=Europe/Berlin:20260317T080000
DTEND;TZID=Europe/Berlin:20260317T120000
UID:V46137001-20260317T080000@VHSBÖBLINGEN-SINDELFINGEN
SUMMARY:Deutsch, Alphabetisierungskurs (V46137001) 
LOCATION:Höfle, 004, EG, Pestalozzistr. 4, 71032 Böblingen
END:VEVENT
BEGIN:VEVENT
DTSTAMP:20260423T023408
DTSTART;TZID=Europe/Berlin:20260319T080000
DTEND;TZID=Europe/Berlin:20260319T120000
UID:V46137001-20260319T080000@VHSBÖBLINGEN-SINDELFINGEN
SUMMARY:Deutsch, Alphabetisierungskurs (V46137001) 
LOCATION:Höfle, 004, EG, Pestalozzistr. 4, 71032 Böblingen
END:VEVENT
BEGIN:VEVENT
DTSTAMP:20260423T023408
DTSTART;TZID=Europe/Berlin:20260323T080000
DTEND;TZID=Europe/Berlin:20260323T120000
UID:V46137001-20260323T080000@VHSBÖBLINGEN-SINDELFINGEN
SUMMARY:Deutsch, Alphabetisierungskurs (V46137001) 
LOCATION:Höfle, 004, EG, Pestalozzistr. 4, 71032 Böblingen
END:VEVENT
BEGIN:VEVENT
DTSTAMP:20260423T023408
DTSTART;TZID=Europe/Berlin:20260324T080000
DTEND;TZID=Europe/Berlin:20260324T120000
UID:V46137001-20260324T080000@VHSBÖBLINGEN-SINDELFINGEN
SUMMARY:Deutsch, Alphabetisierungskurs (V46137001) 
LOCATION:Höfle, 004, EG, Pestalozzistr. 4, 71032 Böblingen
END:VEVENT
BEGIN:VEVENT
DTSTAMP:20260423T023408
DTSTART;TZID=Europe/Berlin:20260326T080000
DTEND;TZID=Europe/Berlin:20260326T120000
UID:V46137001-20260326T080000@VHSBÖBLINGEN-SINDELFINGEN
SUMMARY:Deutsch, Alphabetisierungskurs (V46137001) 
LOCATION:Höfle, 004, EG, Pestalozzistr. 4, 71032 Böblingen
END:VEVENT
BEGIN:VEVENT
DTSTAMP:20260423T023408
DTSTART;TZID=Europe/Berlin:20260413T080000
DTEND;TZID=Europe/Berlin:20260413T120000
UID:V46137001-20260413T080000@VHSBÖBLINGEN-SINDELFINGEN
SUMMARY:Deutsch, Alphabetisierungskurs (V46137001) 
LOCATION:Höfle, 004, EG, Pestalozzistr. 4, 71032 Böblingen
END:VEVENT
BEGIN:VEVENT
DTSTAMP:20260423T023408
DTSTART;TZID=Europe/Berlin:20260414T080000
DTEND;TZID=Europe/Berlin:20260414T120000
UID:V46137001-20260414T080000@VHSBÖBLINGEN-SINDELFINGEN
SUMMARY:Deutsch, Alphabetisierungskurs (V46137001) 
LOCATION:Höfle, 004, EG, Pestalozzistr. 4, 71032 Böblingen
END:VEVENT
BEGIN:VEVENT
DTSTAMP:20260423T023408
DTSTART;TZID=Europe/Berlin:20260416T080000
DTEND;TZID=Europe/Berlin:20260416T120000
UID:V46137001-20260416T080000@VHSBÖBLINGEN-SINDELFINGEN
SUMMARY:Deutsch, Alphabetisierungskurs (V46137001) 
LOCATION:Höfle, 004, EG, Pestalozzistr. 4, 71032 Böblingen
END:VEVENT
BEGIN:VEVENT
DTSTAMP:20260423T023408
DTSTART;TZID=Europe/Berlin:20260420T080000
DTEND;TZID=Europe/Berlin:20260420T120000
UID:V46137001-20260420T080000@VHSBÖBLINGEN-SINDELFINGEN
SUMMARY:Deutsch, Alphabetisierungskurs (V46137001) 
LOCATION:Höfle, 004, EG, Pestalozzistr. 4, 71032 Böblingen
END:VEVENT
BEGIN:VEVENT
DTSTAMP:20260423T023408
DTSTART;TZID=Europe/Berlin:20260421T080000
DTEND;TZID=Europe/Berlin:20260421T120000
UID:V46137001-20260421T080000@VHSBÖBLINGEN-SINDELFINGEN
SUMMARY:Deutsch, Alphabetisierungskurs (V46137001) 
LOCATION:Höfle, 004, EG, Pestalozzistr. 4, 71032 Böblingen
END:VEVENT
BEGIN:VEVENT
DTSTAMP:20260423T023408
DTSTART;TZID=Europe/Berlin:20260423T080000
DTEND;TZID=Europe/Berlin:20260423T120000
UID:V46137001-20260423T080000@VHSBÖBLINGEN-SINDELFINGEN
SUMMARY:Deutsch, Alphabetisierungskurs (V46137001) 
LOCATION:Höfle, 004, EG, Pestalozzistr. 4, 71032 Böblingen
END:VEVENT
BEGIN:VEVENT
DTSTAMP:20260423T023408
DTSTART;TZID=Europe/Berlin:20260427T080000
DTEND;TZID=Europe/Berlin:20260427T120000
UID:V46137001-20260427T080000@VHSBÖBLINGEN-SINDELFINGEN
SUMMARY:Deutsch, Alphabetisierungskurs (V46137001) 
LOCATION:Höfle, 004, EG, Pestalozzistr. 4, 71032 Böblingen
END:VEVENT
BEGIN:VEVENT
DTSTAMP:20260423T023408
DTSTART;TZID=Europe/Berlin:20260428T080000
DTEND;TZID=Europe/Berlin:20260428T120000
UID:V46137001-20260428T080000@VHSBÖBLINGEN-SINDELFINGEN
SUMMARY:Deutsch, Alphabetisierungskurs (V46137001) 
LOCATION:Höfle, 004, EG, Pestalozzistr. 4, 71032 Böblingen
END:VEVENT
BEGIN:VEVENT
DTSTAMP:20260423T023408
DTSTART;TZID=Europe/Berlin:20260430T080000
DTEND;TZID=Europe/Berlin:20260430T120000
UID:V46137001-20260430T080000@VHSBÖBLINGEN-SINDELFINGEN
SUMMARY:Deutsch, Alphabetisierungskurs (V46137001) 
LOCATION:Höfle, 004, EG, Pestalozzistr. 4, 71032 Böblingen
END:VEVENT
BEGIN:VEVENT
DTSTAMP:20260423T023408
DTSTART;TZID=Europe/Berlin:20260504T080000
DTEND;TZID=Europe/Berlin:20260504T120000
UID:V46137001-20260504T080000@VHSBÖBLINGEN-SINDELFINGEN
SUMMARY:Deutsch, Alphabetisierungskurs (V46137001) 
LOCATION:Höfle, 004, EG, Pestalozzistr. 4, 71032 Böblingen
END:VEVENT
END:VCALENDAR